BEGIN:VCALENDAR
VERSION:2.0
PRODID:-//Godfrey Miller Center - ECPv6.15.20//NONSGML v1.0//EN
CALSCALE:GREGORIAN
METHOD:PUBLISH
X-WR-CALNAME:Godfrey Miller Center
X-ORIGINAL-URL:https://godfreymillercenter.org
X-WR-CALDESC:Events for Godfrey Miller Center
REFRESH-INTERVAL;VALUE=DURATION:PT1H
X-Robots-Tag:noindex
X-PUBLISHED-TTL:PT1H
BEGIN:VTIMEZONE
TZID:America/New_York
BEGIN:DAYLIGHT
TZOFFSETFROM:-0500
TZOFFSETTO:-0400
TZNAME:EDT
DTSTART:20220313T070000
END:DAYLIGHT
BEGIN:STANDARD
TZOFFSETFROM:-0400
TZOFFSETTO:-0500
TZNAME:EST
DTSTART:20221106T060000
END:STANDARD
BEGIN:DAYLIGHT
TZOFFSETFROM:-0500
TZOFFSETTO:-0400
TZNAME:EDT
DTSTART:20230312T070000
END:DAYLIGHT
BEGIN:STANDARD
TZOFFSETFROM:-0400
TZOFFSETTO:-0500
TZNAME:EST
DTSTART:20231105T060000
END:STANDARD
BEGIN:DAYLIGHT
TZOFFSETFROM:-0500
TZOFFSETTO:-0400
TZNAME:EDT
DTSTART:20240310T070000
END:DAYLIGHT
BEGIN:STANDARD
TZOFFSETFROM:-0400
TZOFFSETTO:-0500
TZNAME:EST
DTSTART:20241103T060000
END:STANDARD
END:VTIMEZONE
BEGIN:VEVENT
DTSTART;TZID=America/New_York:20230329T100000
DTEND;TZID=America/New_York:20230329T120000
DTSTAMP:20260425T233351
CREATED:20230223T174721Z
LAST-MODIFIED:20230223T174721Z
UID:4114-1680084000-1680091200@godfreymillercenter.org
SUMMARY:Pinochle
DESCRIPTION:
URL:https://godfreymillercenter.org/event/pinochle-51/
LOCATION:Parlor or Dining Room
END:VEVENT
BEGIN:VEVENT
DTSTART;TZID=America/New_York:20230329T103000
DTEND;TZID=America/New_York:20230329T113000
DTSTAMP:20260425T233351
CREATED:20230223T174721Z
LAST-MODIFIED:20230223T174721Z
UID:4115-1680085800-1680089400@godfreymillercenter.org
SUMMARY:Workshop: Easter Cards
DESCRIPTION:Come make unique Easter cards for a friend\, family member\, or neighbor.  No crafting experience needed!  All are welcome. (Suggested Donation: $3) \n***RSVP required\, call The Godfrey Miller Center office at 540-667-5869 to reserve your spot.
URL:https://godfreymillercenter.org/event/workshop-easter-cards/
LOCATION:Parlor
END:VEVENT
BEGIN:VEVENT
DTSTART;TZID=America/New_York:20230329T123000
DTEND;TZID=America/New_York:20230329T133000
DTSTAMP:20260425T233351
CREATED:20230223T174721Z
LAST-MODIFIED:20230223T175212Z
UID:4116-1680093000-1680096600@godfreymillercenter.org
SUMMARY:Lunch
DESCRIPTION:***RSVP Required by the preceding Monday. Tickets are $8.50 and available in the Godfrey Miller Center office. \nMenu: Pork Stew\, Rice\, and Dessert
URL:https://godfreymillercenter.org/event/4116/
END:VEVENT
BEGIN:VEVENT
DTSTART;TZID=America/New_York:20230329T140000
DTEND;TZID=America/New_York:20230329T150000
DTSTAMP:20260425T233351
CREATED:20230223T174722Z
LAST-MODIFIED:20230223T174722Z
UID:4117-1680098400-1680102000@godfreymillercenter.org
SUMMARY:Exercise for Balance and Strength
DESCRIPTION:A low-impact program that includes joint check/warm-up\, range of motion/stretching\, strengthening\, cardiovascular endurance\, and joint check/cool down. Led by Sonna Russell. Ms. Russell is a gifted coach and was trained through the Arthritis Foundation. (Suggested donation – $3.00)
URL:https://godfreymillercenter.org/event/exercise-for-balance-and-strength-117/
LOCATION:Pavilion
END:VEVENT
END:VCALENDAR