BEGIN:VCALENDAR
VERSION:2.0
PRODID:-//Godfrey Miller Center - ECPv6.15.20//NONSGML v1.0//EN
CALSCALE:GREGORIAN
METHOD:PUBLISH
X-WR-CALNAME:Godfrey Miller Center
X-ORIGINAL-URL:https://godfreymillercenter.org
X-WR-CALDESC:Events for Godfrey Miller Center
REFRESH-INTERVAL;VALUE=DURATION:PT1H
X-Robots-Tag:noindex
X-PUBLISHED-TTL:PT1H
BEGIN:VTIMEZONE
TZID:America/New_York
BEGIN:DAYLIGHT
TZOFFSETFROM:-0500
TZOFFSETTO:-0400
TZNAME:EDT
DTSTART:20220313T070000
END:DAYLIGHT
BEGIN:STANDARD
TZOFFSETFROM:-0400
TZOFFSETTO:-0500
TZNAME:EST
DTSTART:20221106T060000
END:STANDARD
BEGIN:DAYLIGHT
TZOFFSETFROM:-0500
TZOFFSETTO:-0400
TZNAME:EDT
DTSTART:20230312T070000
END:DAYLIGHT
BEGIN:STANDARD
TZOFFSETFROM:-0400
TZOFFSETTO:-0500
TZNAME:EST
DTSTART:20231105T060000
END:STANDARD
BEGIN:DAYLIGHT
TZOFFSETFROM:-0500
TZOFFSETTO:-0400
TZNAME:EDT
DTSTART:20240310T070000
END:DAYLIGHT
BEGIN:STANDARD
TZOFFSETFROM:-0400
TZOFFSETTO:-0500
TZNAME:EST
DTSTART:20241103T060000
END:STANDARD
END:VTIMEZONE
BEGIN:VEVENT
DTSTART;TZID=America/New_York:20230417T080000
DTEND;TZID=America/New_York:20230417T083000
DTSTAMP:20260425T233351
CREATED:20230327T180845Z
LAST-MODIFIED:20230327T180845Z
UID:4175-1681718400-1681720200@godfreymillercenter.org
SUMMARY:Walking Club
DESCRIPTION:Meet in the courtyard of Godfrey Miller Center to walk and socialize around downtown Winchester.
URL:https://godfreymillercenter.org/event/walking-club-32/
END:VEVENT
BEGIN:VEVENT
DTSTART;TZID=America/New_York:20230417T100000
DTEND;TZID=America/New_York:20230417T120000
DTSTAMP:20260425T233351
CREATED:20230327T180845Z
LAST-MODIFIED:20230327T180845Z
UID:4176-1681725600-1681732800@godfreymillercenter.org
SUMMARY:Art Studio
DESCRIPTION:Art Studio is an open time for individuals to gather and work on their various art projects.  This is a social opportunity for artists of all levels to help each other and work independently. Recurs on every Monday of the month.
URL:https://godfreymillercenter.org/event/art-studio-59/
LOCATION:Pavilion
END:VEVENT
BEGIN:VEVENT
DTSTART;TZID=America/New_York:20230417T100000
DTEND;TZID=America/New_York:20230417T120000
DTSTAMP:20260425T233351
CREATED:20230327T180846Z
LAST-MODIFIED:20230327T180846Z
UID:4177-1681725600-1681732800@godfreymillercenter.org
SUMMARY:Samba
DESCRIPTION:Samba is a card game variation of Canasta.  All are invited to come\, learn and play!
URL:https://godfreymillercenter.org/event/samba-24/
LOCATION:Parlor
END:VEVENT
BEGIN:VEVENT
DTSTART;TZID=America/New_York:20230417T123000
DTEND;TZID=America/New_York:20230417T133000
DTSTAMP:20260425T233351
CREATED:20230327T180846Z
LAST-MODIFIED:20230327T181439Z
UID:4178-1681734600-1681738200@godfreymillercenter.org
SUMMARY:Lunch
DESCRIPTION:***RSVP Required by the preceding Thursday. Tickets are $8.50 and available in the Godfrey Miller Center office. \nMenu: French Onion Soup\, Baguette\, Roasted Vegetables\, and Dessert
URL:https://godfreymillercenter.org/event/4178/
LOCATION:Pavilion
END:VEVENT
BEGIN:VEVENT
DTSTART;TZID=America/New_York:20230417T140000
DTEND;TZID=America/New_York:20230417T150000
DTSTAMP:20260425T233351
CREATED:20230327T180846Z
LAST-MODIFIED:20230327T180846Z
UID:4179-1681740000-1681743600@godfreymillercenter.org
SUMMARY:Exercise for Balance and Strength
DESCRIPTION:A low-impact program that includes joint check/warm-up\, range of motion/stretching\, strengthening\, cardiovascular endurance\, and joint check/cool down. Led by Sonna Russell. Ms. Russell is a gifted coach and was trained through the Arthritis Foundation. (Suggested donation – $3.00)
URL:https://godfreymillercenter.org/event/exercise-for-balance-and-strength-121/
LOCATION:Pavilion
END:VEVENT
END:VCALENDAR