BEGIN:VCALENDAR
VERSION:2.0
PRODID:-//Godfrey Miller Center - ECPv6.15.20//NONSGML v1.0//EN
CALSCALE:GREGORIAN
METHOD:PUBLISH
X-WR-CALNAME:Godfrey Miller Center
X-ORIGINAL-URL:https://godfreymillercenter.org
X-WR-CALDESC:Events for Godfrey Miller Center
REFRESH-INTERVAL;VALUE=DURATION:PT1H
X-Robots-Tag:noindex
X-PUBLISHED-TTL:PT1H
BEGIN:VTIMEZONE
TZID:America/New_York
BEGIN:DAYLIGHT
TZOFFSETFROM:-0500
TZOFFSETTO:-0400
TZNAME:EDT
DTSTART:20220313T070000
END:DAYLIGHT
BEGIN:STANDARD
TZOFFSETFROM:-0400
TZOFFSETTO:-0500
TZNAME:EST
DTSTART:20221106T060000
END:STANDARD
BEGIN:DAYLIGHT
TZOFFSETFROM:-0500
TZOFFSETTO:-0400
TZNAME:EDT
DTSTART:20230312T070000
END:DAYLIGHT
BEGIN:STANDARD
TZOFFSETFROM:-0400
TZOFFSETTO:-0500
TZNAME:EST
DTSTART:20231105T060000
END:STANDARD
BEGIN:DAYLIGHT
TZOFFSETFROM:-0500
TZOFFSETTO:-0400
TZNAME:EDT
DTSTART:20240310T070000
END:DAYLIGHT
BEGIN:STANDARD
TZOFFSETFROM:-0400
TZOFFSETTO:-0500
TZNAME:EST
DTSTART:20241103T060000
END:STANDARD
END:VTIMEZONE
BEGIN:VEVENT
DTSTART;TZID=America/New_York:20230824T100000
DTEND;TZID=America/New_York:20230824T120000
DTSTAMP:20260425T164131
CREATED:20230720T140900Z
LAST-MODIFIED:20230720T140900Z
UID:4514-1692871200-1692878400@godfreymillercenter.org
SUMMARY:Mahjong
DESCRIPTION:
URL:https://godfreymillercenter.org/event/mahjong-72/
LOCATION:Parlor
END:VEVENT
BEGIN:VEVENT
DTSTART;TZID=America/New_York:20230824T103000
DTEND;TZID=America/New_York:20230824T120000
DTSTAMP:20260425T164131
CREATED:20230720T140900Z
LAST-MODIFIED:20230720T140900Z
UID:4513-1692873000-1692878400@godfreymillercenter.org
SUMMARY:Baking Workshop: Lemon Loaf
DESCRIPTION:Baking is always more fun when you bake with friends.  Join Program Coordinator Anna for a morning in the kitchen making lemon loaves.  Each participant will leave with a homemade lemon loaf to share with their family or friends.  All supplies provided.  (Suggested Donation: $8) \n***RSVP required\, call The Godfrey Miller Center office at 540-667-5869 to reserve your spot.
URL:https://godfreymillercenter.org/event/baking-workshop-lemon-loaf/
END:VEVENT
BEGIN:VEVENT
DTSTART;TZID=America/New_York:20230824T140000
DTEND;TZID=America/New_York:20230824T150000
DTSTAMP:20260425T164131
CREATED:20230720T140900Z
LAST-MODIFIED:20230720T140900Z
UID:4515-1692885600-1692889200@godfreymillercenter.org
SUMMARY:Strength and Conditioning Class
DESCRIPTION:This class is designed to increase physical strength through resistance exercise. All major muscle groups are worked from head to toe. We finish with core conditioning\, breathing\, and stretching for a complete workout. Dumbbells are used for each class\, you can bring your own or use ours! Led by Program Coordinator Anna.
URL:https://godfreymillercenter.org/event/strength-and-conditioning-class-87/
LOCATION:Pavilion
END:VEVENT
END:VCALENDAR