BEGIN:VCALENDAR
VERSION:2.0
PRODID:-//Godfrey Miller Center - ECPv6.15.20//NONSGML v1.0//EN
CALSCALE:GREGORIAN
METHOD:PUBLISH
X-ORIGINAL-URL:https://godfreymillercenter.org
X-WR-CALDESC:Events for Godfrey Miller Center
REFRESH-INTERVAL;VALUE=DURATION:PT1H
X-Robots-Tag:noindex
X-PUBLISHED-TTL:PT1H
BEGIN:VTIMEZONE
TZID:America/New_York
BEGIN:DAYLIGHT
TZOFFSETFROM:-0500
TZOFFSETTO:-0400
TZNAME:EDT
DTSTART:20220313T070000
END:DAYLIGHT
BEGIN:STANDARD
TZOFFSETFROM:-0400
TZOFFSETTO:-0500
TZNAME:EST
DTSTART:20221106T060000
END:STANDARD
BEGIN:DAYLIGHT
TZOFFSETFROM:-0500
TZOFFSETTO:-0400
TZNAME:EDT
DTSTART:20230312T070000
END:DAYLIGHT
BEGIN:STANDARD
TZOFFSETFROM:-0400
TZOFFSETTO:-0500
TZNAME:EST
DTSTART:20231105T060000
END:STANDARD
BEGIN:DAYLIGHT
TZOFFSETFROM:-0500
TZOFFSETTO:-0400
TZNAME:EDT
DTSTART:20240310T070000
END:DAYLIGHT
BEGIN:STANDARD
TZOFFSETFROM:-0400
TZOFFSETTO:-0500
TZNAME:EST
DTSTART:20241103T060000
END:STANDARD
END:VTIMEZONE
BEGIN:VEVENT
DTSTART;TZID=America/New_York:20230828T080000
DTEND;TZID=America/New_York:20230828T083000
DTSTAMP:20260425T150810
CREATED:20230720T140900Z
LAST-MODIFIED:20230720T140900Z
UID:4516-1693209600-1693211400@godfreymillercenter.org
SUMMARY:Walking Club
DESCRIPTION:Meet in the courtyard of Godfrey Miller Center to walk and socialize around downtown Winchester.
URL:https://godfreymillercenter.org/event/walking-club-47/
END:VEVENT
BEGIN:VEVENT
DTSTART;TZID=America/New_York:20230828T100000
DTEND;TZID=America/New_York:20230828T120000
DTSTAMP:20260425T150810
CREATED:20230720T140900Z
LAST-MODIFIED:20230720T140900Z
UID:4517-1693216800-1693224000@godfreymillercenter.org
SUMMARY:Jigsaw Puzzles
DESCRIPTION:Escape the heat with and enjoy the air conditioning while working on a jigsaw puzzle with others.  Fresh coffee provided!
URL:https://godfreymillercenter.org/event/jigsaw-puzzles-11/
END:VEVENT
BEGIN:VEVENT
DTSTART;TZID=America/New_York:20230828T100000
DTEND;TZID=America/New_York:20230828T120000
DTSTAMP:20260425T150810
CREATED:20230720T140900Z
LAST-MODIFIED:20230720T140900Z
UID:4518-1693216800-1693224000@godfreymillercenter.org
SUMMARY:Art Studio
DESCRIPTION:Art Studio is an open time for individuals to gather and work on their various art projects.  This is a social opportunity for artists of all levels to help each other and work independently. Recurs on every Monday of the month.
URL:https://godfreymillercenter.org/event/art-studio-74/
LOCATION:Pavilion
END:VEVENT
BEGIN:VEVENT
DTSTART;TZID=America/New_York:20230828T123000
DTEND;TZID=America/New_York:20230828T133000
DTSTAMP:20260425T150810
CREATED:20230720T140900Z
LAST-MODIFIED:20230720T140946Z
UID:4519-1693225800-1693229400@godfreymillercenter.org
SUMMARY:Lunch
DESCRIPTION:***RSVP Required by the preceding Thursday.  Tickets are $8.50 and available in the Godfrey Miller Center office. \nMenu: Chicken Enchiladas Verde\, Mexican Beans\, and Dessert
URL:https://godfreymillercenter.org/event/4519/
LOCATION:Pavilion
END:VEVENT
BEGIN:VEVENT
DTSTART;TZID=America/New_York:20230828T140000
DTEND;TZID=America/New_York:20230828T150000
DTSTAMP:20260425T150810
CREATED:20230720T140901Z
LAST-MODIFIED:20230720T140901Z
UID:4520-1693231200-1693234800@godfreymillercenter.org
SUMMARY:Exercise for Balance and Strength
DESCRIPTION:A low-impact program that includes joint check/warm-up\, range of motion/stretching\, strengthening\, cardiovascular endurance\, and joint check/cool down. Led by Sonna Russell. Ms. Russell is a gifted coach and was trained through the Arthritis Foundation. (Suggested donation – $3.00)
URL:https://godfreymillercenter.org/event/exercise-for-balance-and-strength-156/
LOCATION:Pavilion
END:VEVENT
END:VCALENDAR