BEGIN:VCALENDAR
VERSION:2.0
PRODID:-//Godfrey Miller Center - ECPv6.15.20//NONSGML v1.0//EN
CALSCALE:GREGORIAN
METHOD:PUBLISH
X-WR-CALNAME:Godfrey Miller Center
X-ORIGINAL-URL:https://godfreymillercenter.org
X-WR-CALDESC:Events for Godfrey Miller Center
REFRESH-INTERVAL;VALUE=DURATION:PT1H
X-Robots-Tag:noindex
X-PUBLISHED-TTL:PT1H
BEGIN:VTIMEZONE
TZID:America/New_York
BEGIN:DAYLIGHT
TZOFFSETFROM:-0500
TZOFFSETTO:-0400
TZNAME:EDT
DTSTART:20220313T070000
END:DAYLIGHT
BEGIN:STANDARD
TZOFFSETFROM:-0400
TZOFFSETTO:-0500
TZNAME:EST
DTSTART:20221106T060000
END:STANDARD
BEGIN:DAYLIGHT
TZOFFSETFROM:-0500
TZOFFSETTO:-0400
TZNAME:EDT
DTSTART:20230312T070000
END:DAYLIGHT
BEGIN:STANDARD
TZOFFSETFROM:-0400
TZOFFSETTO:-0500
TZNAME:EST
DTSTART:20231105T060000
END:STANDARD
BEGIN:DAYLIGHT
TZOFFSETFROM:-0500
TZOFFSETTO:-0400
TZNAME:EDT
DTSTART:20240310T070000
END:DAYLIGHT
BEGIN:STANDARD
TZOFFSETFROM:-0400
TZOFFSETTO:-0500
TZNAME:EST
DTSTART:20241103T060000
END:STANDARD
END:VTIMEZONE
BEGIN:VEVENT
DTSTART;TZID=America/New_York:20230913T100000
DTEND;TZID=America/New_York:20230913T120000
DTSTAMP:20260425T150718
CREATED:20230825T175415Z
LAST-MODIFIED:20230825T175415Z
UID:4581-1694599200-1694606400@godfreymillercenter.org
SUMMARY:Pinochle
DESCRIPTION:
URL:https://godfreymillercenter.org/event/pinochle-69/
LOCATION:Parlor or Dining Room
END:VEVENT
BEGIN:VEVENT
DTSTART;TZID=America/New_York:20230913T103000
DTEND;TZID=America/New_York:20230913T113000
DTSTAMP:20260425T150718
CREATED:20230825T175415Z
LAST-MODIFIED:20230825T175415Z
UID:4580-1694601000-1694604600@godfreymillercenter.org
SUMMARY:Presentation: Verdi and the Drama of
DESCRIPTION:Giuseppe Verdi was an Italian composer best known for his dramatic music. Come explore some of his best-known compositions with Jason Gottschalk.
URL:https://godfreymillercenter.org/event/presentation-verdi-and-the-drama-of/
END:VEVENT
BEGIN:VEVENT
DTSTART;TZID=America/New_York:20230913T123000
DTEND;TZID=America/New_York:20230913T133000
DTSTAMP:20260425T150718
CREATED:20230825T175415Z
LAST-MODIFIED:20230825T175541Z
UID:4582-1694608200-1694611800@godfreymillercenter.org
SUMMARY:Lunch
DESCRIPTION:***RSVP Required by the preceding Monday.  Tickets are $8.50 and available in the Godfrey Miller Center office. \nSeptember 13: Chicken and Dumplings\, Cucumber Salad\, Bread\, and Dessert
URL:https://godfreymillercenter.org/event/4582/
LOCATION:Pavilion
END:VEVENT
BEGIN:VEVENT
DTSTART;TZID=America/New_York:20230913T140000
DTEND;TZID=America/New_York:20230913T150000
DTSTAMP:20260425T150718
CREATED:20230825T175415Z
LAST-MODIFIED:20230825T175415Z
UID:4584-1694613600-1694617200@godfreymillercenter.org
SUMMARY:Exercise for Balance and Strength
DESCRIPTION:A low-impact program that includes joint check/warm-up\, range of motion/stretching\, strengthening\, cardiovascular endurance\, and joint check/cool down. Led by Sonna Russell. Ms. Russell is a gifted coach and was trained through the Arthritis Foundation. (Suggested donation – $3.00)
URL:https://godfreymillercenter.org/event/exercise-for-balance-and-strength-159/
LOCATION:Pavilion
END:VEVENT
BEGIN:VEVENT
DTSTART;TZID=America/New_York:20230913T140000
DTEND;TZID=America/New_York:20230913T160000
DTSTAMP:20260425T150718
CREATED:20230825T175415Z
LAST-MODIFIED:20230825T175415Z
UID:4583-1694613600-1694620800@godfreymillercenter.org
SUMMARY:Bridge Class: Standard American Bidding System
DESCRIPTION:Bridge Class: Standard American Bidding System – Wednesdays\, September 6\, 13\, 20\, & 27\, 2:00-4:00 PM ***RSVP to Milan at 434-406-3387 \nMilan Majarov\, an American Contract Bridge League certified teacher\, will be offering a beginner bridge course on the standard American bidding system.  Each class is two hours long\, and the course will run for 10 weeks and each class is $15.  Please RSVP directly to Milan at 434-406-3387.
URL:https://godfreymillercenter.org/event/bridge-class-standard-american-bidding-system-2/
END:VEVENT
END:VCALENDAR