BEGIN:VCALENDAR
VERSION:2.0
PRODID:-//Godfrey Miller Center - ECPv6.15.20//NONSGML v1.0//EN
CALSCALE:GREGORIAN
METHOD:PUBLISH
X-ORIGINAL-URL:https://godfreymillercenter.org
X-WR-CALDESC:Events for Godfrey Miller Center
REFRESH-INTERVAL;VALUE=DURATION:PT1H
X-Robots-Tag:noindex
X-PUBLISHED-TTL:PT1H
BEGIN:VTIMEZONE
TZID:America/New_York
BEGIN:DAYLIGHT
TZOFFSETFROM:-0500
TZOFFSETTO:-0400
TZNAME:EDT
DTSTART:20220313T070000
END:DAYLIGHT
BEGIN:STANDARD
TZOFFSETFROM:-0400
TZOFFSETTO:-0500
TZNAME:EST
DTSTART:20221106T060000
END:STANDARD
BEGIN:DAYLIGHT
TZOFFSETFROM:-0500
TZOFFSETTO:-0400
TZNAME:EDT
DTSTART:20230312T070000
END:DAYLIGHT
BEGIN:STANDARD
TZOFFSETFROM:-0400
TZOFFSETTO:-0500
TZNAME:EST
DTSTART:20231105T060000
END:STANDARD
BEGIN:DAYLIGHT
TZOFFSETFROM:-0500
TZOFFSETTO:-0400
TZNAME:EDT
DTSTART:20240310T070000
END:DAYLIGHT
BEGIN:STANDARD
TZOFFSETFROM:-0400
TZOFFSETTO:-0500
TZNAME:EST
DTSTART:20241103T060000
END:STANDARD
END:VTIMEZONE
BEGIN:VEVENT
DTSTART;TZID=America/New_York:20230927T100000
DTEND;TZID=America/New_York:20230927T120000
DTSTAMP:20260425T150806
CREATED:20230825T175422Z
LAST-MODIFIED:20230825T175422Z
UID:4614-1695808800-1695816000@godfreymillercenter.org
SUMMARY:Pinochle
DESCRIPTION:
URL:https://godfreymillercenter.org/event/pinochle-71/
LOCATION:Parlor or Dining Room
END:VEVENT
BEGIN:VEVENT
DTSTART;TZID=America/New_York:20230927T123000
DTEND;TZID=America/New_York:20230927T133000
DTSTAMP:20260425T150806
CREATED:20230825T175422Z
LAST-MODIFIED:20230825T175442Z
UID:4615-1695817800-1695821400@godfreymillercenter.org
SUMMARY:Lunch
DESCRIPTION:***RSVP Required by the preceding Monday. Tickets are $8.50 and available in the Godfrey Miller Center office. \nSeptember 27: Chicken Pot Pie\, Fresh Fruit\, and Dessert
URL:https://godfreymillercenter.org/event/4615/
LOCATION:Pavilion
END:VEVENT
BEGIN:VEVENT
DTSTART;TZID=America/New_York:20230927T140000
DTEND;TZID=America/New_York:20230927T150000
DTSTAMP:20260425T150806
CREATED:20230825T175422Z
LAST-MODIFIED:20230825T175422Z
UID:4617-1695823200-1695826800@godfreymillercenter.org
SUMMARY:Exercise for Balance and Strength
DESCRIPTION:A low-impact program that includes joint check/warm-up\, range of motion/stretching\, strengthening\, cardiovascular endurance\, and joint check/cool down. Led by Sonna Russell. Ms. Russell is a gifted coach and was trained through the Arthritis Foundation. (Suggested donation – $3.00)
URL:https://godfreymillercenter.org/event/exercise-for-balance-and-strength-163/
LOCATION:Pavilion
END:VEVENT
BEGIN:VEVENT
DTSTART;TZID=America/New_York:20230927T140000
DTEND;TZID=America/New_York:20230927T160000
DTSTAMP:20260425T150806
CREATED:20230825T175422Z
LAST-MODIFIED:20230825T175422Z
UID:4616-1695823200-1695830400@godfreymillercenter.org
SUMMARY:Bridge Class: Standard American Bidding System
DESCRIPTION:Bridge Class: Standard American Bidding System – Wednesdays\, September 6\, 13\, 20\, & 27\, 2:00-4:00 PM ***RSVP to Milan at 434-406-3387 \nMilan Majarov\, an American Contract Bridge League certified teacher\, will be offering a beginner bridge course on the standard American bidding system.  Each class is two hours long\, and the course will run for 10 weeks and each class is $15.  Please RSVP directly to Milan at 434-406-3387.
URL:https://godfreymillercenter.org/event/bridge-class-standard-american-bidding-system-4/
END:VEVENT
END:VCALENDAR