BEGIN:VCALENDAR
VERSION:2.0
PRODID:-//Godfrey Miller Center - ECPv6.15.20//NONSGML v1.0//EN
CALSCALE:GREGORIAN
METHOD:PUBLISH
X-WR-CALNAME:Godfrey Miller Center
X-ORIGINAL-URL:https://godfreymillercenter.org
X-WR-CALDESC:Events for Godfrey Miller Center
REFRESH-INTERVAL;VALUE=DURATION:PT1H
X-Robots-Tag:noindex
X-PUBLISHED-TTL:PT1H
BEGIN:VTIMEZONE
TZID:America/New_York
BEGIN:DAYLIGHT
TZOFFSETFROM:-0500
TZOFFSETTO:-0400
TZNAME:EDT
DTSTART:20220313T070000
END:DAYLIGHT
BEGIN:STANDARD
TZOFFSETFROM:-0400
TZOFFSETTO:-0500
TZNAME:EST
DTSTART:20221106T060000
END:STANDARD
BEGIN:DAYLIGHT
TZOFFSETFROM:-0500
TZOFFSETTO:-0400
TZNAME:EDT
DTSTART:20230312T070000
END:DAYLIGHT
BEGIN:STANDARD
TZOFFSETFROM:-0400
TZOFFSETTO:-0500
TZNAME:EST
DTSTART:20231105T060000
END:STANDARD
BEGIN:DAYLIGHT
TZOFFSETFROM:-0500
TZOFFSETTO:-0400
TZNAME:EDT
DTSTART:20240310T070000
END:DAYLIGHT
BEGIN:STANDARD
TZOFFSETFROM:-0400
TZOFFSETTO:-0500
TZNAME:EST
DTSTART:20241103T060000
END:STANDARD
END:VTIMEZONE
BEGIN:VEVENT
DTSTART;TZID=America/New_York:20231001T160000
DTEND;TZID=America/New_York:20231001T170000
DTSTAMP:20260425T131926
CREATED:20230927T234326Z
LAST-MODIFIED:20230927T234326Z
UID:4634-1696176000-1696179600@godfreymillercenter.org
SUMMARY:Fall Concert Series: Project Locrea
DESCRIPTION:Fall Concert Series: Project Locrea\, World Folk Fusion – Sunday\, October 1\, 4:00 PM at Grace Lutheran Church (Tickets: $15)\nProject Locrea is a world music fusion ensemble created by flutist Yana Nikol\, dedicated to creating and performing original compositions and contemporary arrangements inspired by the folk music of different countries. Combining sound and instrumentation of world folk traditions with classical\, jazz and contemporary music conventions\, the project’s focus is to bring a better understanding and deeper connection between cultures.
URL:https://godfreymillercenter.org/event/fall-concert-series-project-locrea/
END:VEVENT
END:VCALENDAR