BEGIN:VCALENDAR
VERSION:2.0
PRODID:-//Godfrey Miller Center - ECPv6.15.20//NONSGML v1.0//EN
CALSCALE:GREGORIAN
METHOD:PUBLISH
X-ORIGINAL-URL:https://godfreymillercenter.org
X-WR-CALDESC:Events for Godfrey Miller Center
REFRESH-INTERVAL;VALUE=DURATION:PT1H
X-Robots-Tag:noindex
X-PUBLISHED-TTL:PT1H
BEGIN:VTIMEZONE
TZID:America/New_York
BEGIN:DAYLIGHT
TZOFFSETFROM:-0500
TZOFFSETTO:-0400
TZNAME:EDT
DTSTART:20220313T070000
END:DAYLIGHT
BEGIN:STANDARD
TZOFFSETFROM:-0400
TZOFFSETTO:-0500
TZNAME:EST
DTSTART:20221106T060000
END:STANDARD
BEGIN:DAYLIGHT
TZOFFSETFROM:-0500
TZOFFSETTO:-0400
TZNAME:EDT
DTSTART:20230312T070000
END:DAYLIGHT
BEGIN:STANDARD
TZOFFSETFROM:-0400
TZOFFSETTO:-0500
TZNAME:EST
DTSTART:20231105T060000
END:STANDARD
BEGIN:DAYLIGHT
TZOFFSETFROM:-0500
TZOFFSETTO:-0400
TZNAME:EDT
DTSTART:20240310T070000
END:DAYLIGHT
BEGIN:STANDARD
TZOFFSETFROM:-0400
TZOFFSETTO:-0500
TZNAME:EST
DTSTART:20241103T060000
END:STANDARD
END:VTIMEZONE
BEGIN:VEVENT
DTSTART;TZID=America/New_York:20231011T100000
DTEND;TZID=America/New_York:20231011T120000
DTSTAMP:20260425T132022
CREATED:20230927T234330Z
LAST-MODIFIED:20230927T234330Z
UID:4651-1697018400-1697025600@godfreymillercenter.org
SUMMARY:Pinochle
DESCRIPTION:
URL:https://godfreymillercenter.org/event/pinochle-72/
LOCATION:Parlor or Dining Room
END:VEVENT
BEGIN:VEVENT
DTSTART;TZID=America/New_York:20231011T103000
DTEND;TZID=America/New_York:20231011T113000
DTSTAMP:20260425T132022
CREATED:20230927T234329Z
LAST-MODIFIED:20230927T234329Z
UID:4650-1697020200-1697023800@godfreymillercenter.org
SUMMARY:Presentation: Sounds of Horror
DESCRIPTION:Come explore the spine chilling music that make movies scary with Jason Gottschalk.
URL:https://godfreymillercenter.org/event/presentation-sounds-of-horror/
LOCATION:Parlor
END:VEVENT
BEGIN:VEVENT
DTSTART;TZID=America/New_York:20231011T123000
DTEND;TZID=America/New_York:20231011T133000
DTSTAMP:20260425T132022
CREATED:20230927T234330Z
LAST-MODIFIED:20230927T234558Z
UID:4652-1697027400-1697031000@godfreymillercenter.org
SUMMARY:Lunch
DESCRIPTION:***RSVP Required by the preceding Monday.  Tickets are $8.50 and available in the Godfrey Miller Center office.\n*	October 4: Pumpkin Tomato Soup\, Grilled Ham & Cheese\, and Dessert\n*	October 11: Lemon & Thyme Chicken\, Roasted Potatoes with Feta\, Creamed Spinach\, and Dessert\n*	October 18: Beef Stroganoff over Noodles\, Green Beans\, and Dessert\n*	October 25: Creamy Chicken & Gnocchi\, Garlic Butter Spinach\, Bread\, and Dessert
URL:https://godfreymillercenter.org/event/4652/
LOCATION:Pavilion
END:VEVENT
BEGIN:VEVENT
DTSTART;TZID=America/New_York:20231011T140000
DTEND;TZID=America/New_York:20231011T150000
DTSTAMP:20260425T132022
CREATED:20230927T234330Z
LAST-MODIFIED:20230927T234330Z
UID:4653-1697032800-1697036400@godfreymillercenter.org
SUMMARY:Exercise for Balance and Strength
DESCRIPTION:A low-impact program that includes joint check/warm-up\, range of motion/stretching\, strengthening\, cardiovascular endurance\, and joint check/cool down. Led by Sonna Russell. Ms. Russell is a gifted coach and was trained through the Arthritis Foundation. (Suggested donation – $3.00)
URL:https://godfreymillercenter.org/event/exercise-for-balance-and-strength-166/
LOCATION:Pavilion
END:VEVENT
BEGIN:VEVENT
DTSTART;TZID=America/New_York:20231011T140000
DTEND;TZID=America/New_York:20231011T160000
DTSTAMP:20260425T132022
CREATED:20230927T234330Z
LAST-MODIFIED:20230927T234330Z
UID:4654-1697032800-1697040000@godfreymillercenter.org
SUMMARY:Bridge Class: Standard American Bidding System
DESCRIPTION:Bridge Class: Standard American Bidding System – Wednesdays\, September 6\, 13\, 20\, & 27\, 2:00-4:00 PM ***RSVP to Milan at 434-406-3387 \nMilan Majarov\, an American Contract Bridge League certified teacher\, will be offering a beginner bridge course on the standard American bidding system.  Each class is two hours long\, and the course will run for 10 weeks and each class is $15.  Please RSVP directly to Milan at 434-406-3387.
URL:https://godfreymillercenter.org/event/bridge-class-standard-american-bidding-system-5/
END:VEVENT
END:VCALENDAR