BEGIN:VCALENDAR
VERSION:2.0
PRODID:-//Godfrey Miller Center - ECPv6.15.20//NONSGML v1.0//EN
CALSCALE:GREGORIAN
METHOD:PUBLISH
X-ORIGINAL-URL:https://godfreymillercenter.org
X-WR-CALDESC:Events for Godfrey Miller Center
REFRESH-INTERVAL;VALUE=DURATION:PT1H
X-Robots-Tag:noindex
X-PUBLISHED-TTL:PT1H
BEGIN:VTIMEZONE
TZID:America/New_York
BEGIN:DAYLIGHT
TZOFFSETFROM:-0500
TZOFFSETTO:-0400
TZNAME:EDT
DTSTART:20220313T070000
END:DAYLIGHT
BEGIN:STANDARD
TZOFFSETFROM:-0400
TZOFFSETTO:-0500
TZNAME:EST
DTSTART:20221106T060000
END:STANDARD
BEGIN:DAYLIGHT
TZOFFSETFROM:-0500
TZOFFSETTO:-0400
TZNAME:EDT
DTSTART:20230312T070000
END:DAYLIGHT
BEGIN:STANDARD
TZOFFSETFROM:-0400
TZOFFSETTO:-0500
TZNAME:EST
DTSTART:20231105T060000
END:STANDARD
BEGIN:DAYLIGHT
TZOFFSETFROM:-0500
TZOFFSETTO:-0400
TZNAME:EDT
DTSTART:20240310T070000
END:DAYLIGHT
BEGIN:STANDARD
TZOFFSETFROM:-0400
TZOFFSETTO:-0500
TZNAME:EST
DTSTART:20241103T060000
END:STANDARD
END:VTIMEZONE
BEGIN:VEVENT
DTSTART;TZID=America/New_York:20231102T103000
DTEND;TZID=America/New_York:20231102T113000
DTSTAMP:20260425T114817
CREATED:20231018T175926Z
LAST-MODIFIED:20231018T175926Z
UID:4716-1698921000-1698924600@godfreymillercenter.org
SUMMARY:Presentation: Nutrition Labels & Healthy Eating
DESCRIPTION:Join Hannah Copp\, Family and Consumer Sciences Associate Extension Agent\, from the Virginia Cooperative Extension Office for a presentation on Nutrition Labels.  In this presentation she will give an overview on how to understand nutrition labels\, what to look for\, and answer any questions you may have.  All are welcome!
URL:https://godfreymillercenter.org/event/presentation-nutrition-labels-healthy-eating/
END:VEVENT
END:VCALENDAR