BEGIN:VCALENDAR
VERSION:2.0
PRODID:-//Godfrey Miller Center - ECPv6.15.20//NONSGML v1.0//EN
CALSCALE:GREGORIAN
METHOD:PUBLISH
X-ORIGINAL-URL:https://godfreymillercenter.org
X-WR-CALDESC:Events for Godfrey Miller Center
REFRESH-INTERVAL;VALUE=DURATION:PT1H
X-Robots-Tag:noindex
X-PUBLISHED-TTL:PT1H
BEGIN:VTIMEZONE
TZID:America/New_York
BEGIN:DAYLIGHT
TZOFFSETFROM:-0500
TZOFFSETTO:-0400
TZNAME:EDT
DTSTART:20220313T070000
END:DAYLIGHT
BEGIN:STANDARD
TZOFFSETFROM:-0400
TZOFFSETTO:-0500
TZNAME:EST
DTSTART:20221106T060000
END:STANDARD
BEGIN:DAYLIGHT
TZOFFSETFROM:-0500
TZOFFSETTO:-0400
TZNAME:EDT
DTSTART:20230312T070000
END:DAYLIGHT
BEGIN:STANDARD
TZOFFSETFROM:-0400
TZOFFSETTO:-0500
TZNAME:EST
DTSTART:20231105T060000
END:STANDARD
BEGIN:DAYLIGHT
TZOFFSETFROM:-0500
TZOFFSETTO:-0400
TZNAME:EDT
DTSTART:20240310T070000
END:DAYLIGHT
BEGIN:STANDARD
TZOFFSETFROM:-0400
TZOFFSETTO:-0500
TZNAME:EST
DTSTART:20241103T060000
END:STANDARD
END:VTIMEZONE
BEGIN:VEVENT
DTSTART;TZID=America/New_York:20231108T100000
DTEND;TZID=America/New_York:20231108T120000
DTSTAMP:20260425T114819
CREATED:20231018T175928Z
LAST-MODIFIED:20231018T175928Z
UID:4721-1699437600-1699444800@godfreymillercenter.org
SUMMARY:Pinochle
DESCRIPTION:
URL:https://godfreymillercenter.org/event/pinochle-75/
LOCATION:Parlor or Dining Room
END:VEVENT
BEGIN:VEVENT
DTSTART;TZID=America/New_York:20231108T103000
DTEND;TZID=America/New_York:20231108T113000
DTSTAMP:20260425T114819
CREATED:20231018T175928Z
LAST-MODIFIED:20231018T175928Z
UID:4722-1699439400-1699443000@godfreymillercenter.org
SUMMARY:Workshop: Christmas Cards
DESCRIPTION:Join Lorraine for a Christmas card workshop!  This workshop will guide you through making custom Christmas cards perfect for the upcoming holiday season.  (Suggested Donation: $3) \n***RSVP required\, call The Godfrey Miller Center office at 540-667-5869 to reserve your spot.
URL:https://godfreymillercenter.org/event/workshop-christmas-cards/
END:VEVENT
BEGIN:VEVENT
DTSTART;TZID=America/New_York:20231108T123000
DTEND;TZID=America/New_York:20231108T133000
DTSTAMP:20260425T114819
CREATED:20231018T175928Z
LAST-MODIFIED:20231018T180334Z
UID:4723-1699446600-1699450200@godfreymillercenter.org
SUMMARY:Lunch
DESCRIPTION:***RSVP required\, call The Godfrey Miller Center office at 540-667-5869 to reserve your spot.   \nNovember 8: Broccoli Cheddar Soup\, Turkey Grilled Cheese\, Green Beans\, and Dessert
URL:https://godfreymillercenter.org/event/4723/
LOCATION:Pavilion
END:VEVENT
BEGIN:VEVENT
DTSTART;TZID=America/New_York:20231108T140000
DTEND;TZID=America/New_York:20231108T150000
DTSTAMP:20260425T114819
CREATED:20231018T175928Z
LAST-MODIFIED:20231018T175928Z
UID:4724-1699452000-1699455600@godfreymillercenter.org
SUMMARY:Exercise for Balance and Strength
DESCRIPTION:A low-impact program that includes joint check/warm-up\, range of motion/stretching\, strengthening\, cardiovascular endurance\, and joint check/cool down. Led by Sonna Russell. Ms. Russell is a gifted coach and was trained through the Arthritis Foundation. (Suggested donation – $3.00)
URL:https://godfreymillercenter.org/event/exercise-for-balance-and-strength-173/
LOCATION:Pavilion
END:VEVENT
BEGIN:VEVENT
DTSTART;TZID=America/New_York:20231108T140000
DTEND;TZID=America/New_York:20231108T160000
DTSTAMP:20260425T114819
CREATED:20231018T175928Z
LAST-MODIFIED:20231018T175928Z
UID:4725-1699452000-1699459200@godfreymillercenter.org
SUMMARY:Bridge Class: Standard American Bidding System
DESCRIPTION:Bridge Class: Standard American Bidding System – Wednesdays\, September 6\, 13\, 20\, & 27\, 2:00-4:00 PM ***RSVP to Milan at 434-406-3387 \nMilan Majarov\, an American Contract Bridge League certified teacher\, will be offering a beginner bridge course on the standard American bidding system.  Each class is two hours long\, and the course will run for 10 weeks and each class is $15.  Please RSVP directly to Milan at 434-406-3387.
URL:https://godfreymillercenter.org/event/bridge-class-standard-american-bidding-system-8/
END:VEVENT
END:VCALENDAR