BEGIN:VCALENDAR
VERSION:2.0
PRODID:-//Godfrey Miller Center - ECPv6.15.20//NONSGML v1.0//EN
CALSCALE:GREGORIAN
METHOD:PUBLISH
X-WR-CALNAME:Godfrey Miller Center
X-ORIGINAL-URL:https://godfreymillercenter.org
X-WR-CALDESC:Events for Godfrey Miller Center
REFRESH-INTERVAL;VALUE=DURATION:PT1H
X-Robots-Tag:noindex
X-PUBLISHED-TTL:PT1H
BEGIN:VTIMEZONE
TZID:America/New_York
BEGIN:DAYLIGHT
TZOFFSETFROM:-0500
TZOFFSETTO:-0400
TZNAME:EDT
DTSTART:20220313T070000
END:DAYLIGHT
BEGIN:STANDARD
TZOFFSETFROM:-0400
TZOFFSETTO:-0500
TZNAME:EST
DTSTART:20221106T060000
END:STANDARD
BEGIN:DAYLIGHT
TZOFFSETFROM:-0500
TZOFFSETTO:-0400
TZNAME:EDT
DTSTART:20230312T070000
END:DAYLIGHT
BEGIN:STANDARD
TZOFFSETFROM:-0400
TZOFFSETTO:-0500
TZNAME:EST
DTSTART:20231105T060000
END:STANDARD
BEGIN:DAYLIGHT
TZOFFSETFROM:-0500
TZOFFSETTO:-0400
TZNAME:EDT
DTSTART:20240310T070000
END:DAYLIGHT
BEGIN:STANDARD
TZOFFSETFROM:-0400
TZOFFSETTO:-0500
TZNAME:EST
DTSTART:20241103T060000
END:STANDARD
END:VTIMEZONE
BEGIN:VEVENT
DTSTART;TZID=America/New_York:20231119T160000
DTEND;TZID=America/New_York:20231119T173000
DTSTAMP:20260425T114706
CREATED:20231018T175931Z
LAST-MODIFIED:20231018T175931Z
UID:4744-1700409600-1700415000@godfreymillercenter.org
SUMMARY:Fall Concert Series: Andrew McKnight Concert
DESCRIPTION:”Beyond Appalachian\, Beyond Blues\, Beyond Folk”  Andrew’s solo performances are like one man theatre; the songs are woven together with humorous stories and poetic drama\, and the musical soundscape traverses influences from Appalachia\, tasteful slide and jazzy blues\, feisty anthems\, rustic folk\, and even a little fancy flatpicking on a Carter Family tune. While his guitar is clearly the foundation for a concert\, the touches of native American cedar flute\, resonator guitar\, djembe (African hand drum) and even mandolin add delightful and mesmerizing embellishments to the show. (Tickets: $15)
URL:https://godfreymillercenter.org/event/fall-concert-series-andrew-mcknight-concert/
LOCATION:Grace Evangelical Lutheran Church (26 W Boscawen St\, Winchester\, VA 22601\, United States)
END:VEVENT
END:VCALENDAR