BEGIN:VCALENDAR
VERSION:2.0
PRODID:-//Godfrey Miller Center - ECPv6.15.20//NONSGML v1.0//EN
CALSCALE:GREGORIAN
METHOD:PUBLISH
X-ORIGINAL-URL:https://godfreymillercenter.org
X-WR-CALDESC:Events for Godfrey Miller Center
REFRESH-INTERVAL;VALUE=DURATION:PT1H
X-Robots-Tag:noindex
X-PUBLISHED-TTL:PT1H
BEGIN:VTIMEZONE
TZID:America/New_York
BEGIN:DAYLIGHT
TZOFFSETFROM:-0500
TZOFFSETTO:-0400
TZNAME:EDT
DTSTART:20220313T070000
END:DAYLIGHT
BEGIN:STANDARD
TZOFFSETFROM:-0400
TZOFFSETTO:-0500
TZNAME:EST
DTSTART:20221106T060000
END:STANDARD
BEGIN:DAYLIGHT
TZOFFSETFROM:-0500
TZOFFSETTO:-0400
TZNAME:EDT
DTSTART:20230312T070000
END:DAYLIGHT
BEGIN:STANDARD
TZOFFSETFROM:-0400
TZOFFSETTO:-0500
TZNAME:EST
DTSTART:20231105T060000
END:STANDARD
BEGIN:DAYLIGHT
TZOFFSETFROM:-0500
TZOFFSETTO:-0400
TZNAME:EDT
DTSTART:20240310T070000
END:DAYLIGHT
BEGIN:STANDARD
TZOFFSETFROM:-0400
TZOFFSETTO:-0500
TZNAME:EST
DTSTART:20241103T060000
END:STANDARD
END:VTIMEZONE
BEGIN:VEVENT
DTSTART;TZID=America/New_York:20231206T100000
DTEND;TZID=America/New_York:20231206T120000
DTSTAMP:20260425T100630
CREATED:20221220T153339Z
LAST-MODIFIED:20231115T193707Z
UID:3923-1701856800-1701864000@godfreymillercenter.org
SUMMARY:Pinochle
DESCRIPTION:
URL:https://godfreymillercenter.org/event/pinochle-41/
LOCATION:Parlor or Dining Room
END:VEVENT
BEGIN:VEVENT
DTSTART;TZID=America/New_York:20231206T123000
DTEND;TZID=America/New_York:20231206T133000
DTSTAMP:20260425T100630
CREATED:20231018T175926Z
LAST-MODIFIED:20231115T193707Z
UID:4715-1701865800-1701869400@godfreymillercenter.org
SUMMARY:Lunch
DESCRIPTION:***RSVP required\, call The Godfrey Miller Center office at 540-667-5869 to reserve your spot.   \nDecember 6: Spaghetti and Meatballs\, Broccoli\, Garlic Bread\, and Dessert\nDecember 20: Roast Pork\, Mac & Cheese\, Peas\, and Dessert
URL:https://godfreymillercenter.org/event/lunch-22/
LOCATION:Pavilion
END:VEVENT
BEGIN:VEVENT
DTSTART;TZID=America/New_York:20231206T140000
DTEND;TZID=America/New_York:20231206T150000
DTSTAMP:20260425T100630
CREATED:20231115T193707Z
LAST-MODIFIED:20231115T193707Z
UID:4790-1701871200-1701874800@godfreymillercenter.org
SUMMARY:Exercise for Balance and Strength
DESCRIPTION:A low-impact program that includes joint check/warm-up\, range of motion/stretching\, strengthening\, cardiovascular endurance\, and joint check/cool down. Led by Sonna Russell. Ms. Russell is a gifted coach and was trained through the Arthritis Foundation. (Suggested donation – $3.00)
URL:https://godfreymillercenter.org/event/exercise-for-balance-and-strength-180/
LOCATION:Pavilion
END:VEVENT
BEGIN:VEVENT
DTSTART;TZID=America/New_York:20231206T153000
DTEND;TZID=America/New_York:20231206T173000
DTSTAMP:20260425T100630
CREATED:20231115T193708Z
LAST-MODIFIED:20231115T193708Z
UID:4791-1701876600-1701883800@godfreymillercenter.org
SUMMARY:Godfrey Miller Art Show Opening Reception
DESCRIPTION:Join us for the second annual Godfrey Miller Art Show! There will be many art pieces of a variety of mediums on display by our Godfrey Miller participants.  Light refreshments will be served.  There will also be a selection of hand painted Christmas ornaments for sale featuring our artists.
URL:https://godfreymillercenter.org/event/godfrey-miller-art-show-opening-reception-2/
END:VEVENT
END:VCALENDAR