BEGIN:VCALENDAR
VERSION:2.0
PRODID:-//Godfrey Miller Center - ECPv6.15.20//NONSGML v1.0//EN
CALSCALE:GREGORIAN
METHOD:PUBLISH
X-WR-CALNAME:Godfrey Miller Center
X-ORIGINAL-URL:https://godfreymillercenter.org
X-WR-CALDESC:Events for Godfrey Miller Center
REFRESH-INTERVAL;VALUE=DURATION:PT1H
X-Robots-Tag:noindex
X-PUBLISHED-TTL:PT1H
BEGIN:VTIMEZONE
TZID:America/New_York
BEGIN:DAYLIGHT
TZOFFSETFROM:-0500
TZOFFSETTO:-0400
TZNAME:EDT
DTSTART:20230312T070000
END:DAYLIGHT
BEGIN:STANDARD
TZOFFSETFROM:-0400
TZOFFSETTO:-0500
TZNAME:EST
DTSTART:20231105T060000
END:STANDARD
BEGIN:DAYLIGHT
TZOFFSETFROM:-0500
TZOFFSETTO:-0400
TZNAME:EDT
DTSTART:20240310T070000
END:DAYLIGHT
BEGIN:STANDARD
TZOFFSETFROM:-0400
TZOFFSETTO:-0500
TZNAME:EST
DTSTART:20241103T060000
END:STANDARD
BEGIN:DAYLIGHT
TZOFFSETFROM:-0500
TZOFFSETTO:-0400
TZNAME:EDT
DTSTART:20250309T070000
END:DAYLIGHT
BEGIN:STANDARD
TZOFFSETFROM:-0400
TZOFFSETTO:-0500
TZNAME:EST
DTSTART:20251102T060000
END:STANDARD
END:VTIMEZONE
BEGIN:VEVENT
DTSTART;TZID=America/New_York:20240124T103000
DTEND;TZID=America/New_York:20240124T113000
DTSTAMP:20260425T082005
CREATED:20231220T230002Z
LAST-MODIFIED:20231220T230002Z
UID:4883-1706092200-1706095800@godfreymillercenter.org
SUMMARY:Workshop: Valentine Cards
DESCRIPTION:***RSVP required\, call The Godfrey Miller Center office at 540-667-5869 to reserve your spot.\nCome make unique valentines for a friend\, lover\, or neighbor.  No crafting experience needed!  All are welcome. (Suggested Donation: $5)
URL:https://godfreymillercenter.org/event/workshop-valentine-cards-2/
LOCATION:Parlor
END:VEVENT
BEGIN:VEVENT
DTSTART;TZID=America/New_York:20240124T123000
DTEND;TZID=America/New_York:20240124T133000
DTSTAMP:20260425T082005
CREATED:20231220T230002Z
LAST-MODIFIED:20231220T230126Z
UID:4884-1706099400-1706103000@godfreymillercenter.org
SUMMARY:Lunch
DESCRIPTION:***RSVP required\, call The Godfrey Miller Center office at 540-667-5869 to reserve your spot.\nTickets: $9.00 \nJanuary 10: Chicken and Cheese Enchiladas\, Rice\, and Dessert\nJanuary 17: Tortellini Soup\, Grilled Turkey Sandwich\, and Dessert\nJanuary 24: Chicken Alfredo\, Caprese Salad\, and Dessert\nJanuary 31: Fish Tacos\, Mexican Chopped Salad\, and Dessert
URL:https://godfreymillercenter.org/event/4884/
LOCATION:Pavilion
END:VEVENT
BEGIN:VEVENT
DTSTART;TZID=America/New_York:20240124T140000
DTEND;TZID=America/New_York:20240124T150000
DTSTAMP:20260425T082005
CREATED:20231220T230002Z
LAST-MODIFIED:20231220T230002Z
UID:4885-1706104800-1706108400@godfreymillercenter.org
SUMMARY:Exercise for Balance & Strength
DESCRIPTION:A low-impact program that includes joint check/warm-up\, range of motion/stretching\, strengthening\, cardiovascular endurance\, and joint check/cool down. Led by Sonna Russell. Ms. Russell is a gifted coach and was trained through the Arthritis Foundation. (Suggested donation – $3.00)
URL:https://godfreymillercenter.org/event/exercise-for-balance-strength-5/
LOCATION:Pavilion
END:VEVENT
END:VCALENDAR