BEGIN:VCALENDAR
VERSION:2.0
PRODID:-//Godfrey Miller Center - ECPv6.15.20//NONSGML v1.0//EN
CALSCALE:GREGORIAN
METHOD:PUBLISH
X-WR-CALNAME:Godfrey Miller Center
X-ORIGINAL-URL:https://godfreymillercenter.org
X-WR-CALDESC:Events for Godfrey Miller Center
REFRESH-INTERVAL;VALUE=DURATION:PT1H
X-Robots-Tag:noindex
X-PUBLISHED-TTL:PT1H
BEGIN:VTIMEZONE
TZID:America/New_York
BEGIN:DAYLIGHT
TZOFFSETFROM:-0500
TZOFFSETTO:-0400
TZNAME:EDT
DTSTART:20230312T070000
END:DAYLIGHT
BEGIN:STANDARD
TZOFFSETFROM:-0400
TZOFFSETTO:-0500
TZNAME:EST
DTSTART:20231105T060000
END:STANDARD
BEGIN:DAYLIGHT
TZOFFSETFROM:-0500
TZOFFSETTO:-0400
TZNAME:EDT
DTSTART:20240310T070000
END:DAYLIGHT
BEGIN:STANDARD
TZOFFSETFROM:-0400
TZOFFSETTO:-0500
TZNAME:EST
DTSTART:20241103T060000
END:STANDARD
BEGIN:DAYLIGHT
TZOFFSETFROM:-0500
TZOFFSETTO:-0400
TZNAME:EDT
DTSTART:20250309T070000
END:DAYLIGHT
BEGIN:STANDARD
TZOFFSETFROM:-0400
TZOFFSETTO:-0500
TZNAME:EST
DTSTART:20251102T060000
END:STANDARD
END:VTIMEZONE
BEGIN:VEVENT
DTSTART;TZID=America/New_York:20240129T090000
DTEND;TZID=America/New_York:20240129T100000
DTSTAMP:20260425T064018
CREATED:20231220T230003Z
LAST-MODIFIED:20231220T230003Z
UID:4892-1706518800-1706522400@godfreymillercenter.org
SUMMARY:Walking Club
DESCRIPTION:
URL:https://godfreymillercenter.org/event/walking-club-61/
LOCATION:Courtyard
END:VEVENT
BEGIN:VEVENT
DTSTART;TZID=America/New_York:20240129T100000
DTEND;TZID=America/New_York:20240129T110000
DTSTAMP:20260425T064018
CREATED:20231220T230003Z
LAST-MODIFIED:20231220T230003Z
UID:4893-1706522400-1706526000@godfreymillercenter.org
SUMMARY:Jigsaw Puzzles
DESCRIPTION:
URL:https://godfreymillercenter.org/event/jigsaw-puzzles-25/
LOCATION:Front Sitting Room/Puzzle Room
END:VEVENT
BEGIN:VEVENT
DTSTART;TZID=America/New_York:20240129T100000
DTEND;TZID=America/New_York:20240129T120000
DTSTAMP:20260425T064018
CREATED:20231220T230003Z
LAST-MODIFIED:20231220T230003Z
UID:4891-1706522400-1706529600@godfreymillercenter.org
SUMMARY:Art Studio
DESCRIPTION:Art Studio is an open time for individuals to gather and work on their various art projects.  This is a social opportunity for artists of all levels to help each other and work independently. Recurs on every Monday of the month.
URL:https://godfreymillercenter.org/event/art-studio-88/
LOCATION:Pavilion
END:VEVENT
BEGIN:VEVENT
DTSTART;TZID=America/New_York:20240129T123000
DTEND;TZID=America/New_York:20240129T133000
DTSTAMP:20260425T064018
CREATED:20231220T230004Z
LAST-MODIFIED:20231220T230105Z
UID:4894-1706531400-1706535000@godfreymillercenter.org
SUMMARY:Lunch
DESCRIPTION:***RSVP required\, call The Godfrey Miller Center office at 540-667-5869 to reserve your spot.\nTickets: $9.00 \nJanuary 8: Loaded Baked Potatoes\, Broccoli\, and Dessert\nJanuary 22: Meatloaf\, Mashed Potatoes\, Broccoli\, and Dessert\nJanuary 29: Chicken Pot Pie\, Cucumber Salad\, and Dessert
URL:https://godfreymillercenter.org/event/4894/
LOCATION:Pavilion
END:VEVENT
BEGIN:VEVENT
DTSTART;TZID=America/New_York:20240129T140000
DTEND;TZID=America/New_York:20240129T150000
DTSTAMP:20260425T064018
CREATED:20231220T230004Z
LAST-MODIFIED:20231220T230004Z
UID:4895-1706536800-1706540400@godfreymillercenter.org
SUMMARY:Exercise for Balance & Strength
DESCRIPTION:A low-impact program that includes joint check/warm-up\, range of motion/stretching\, strengthening\, cardiovascular endurance\, and joint check/cool down. Led by Sonna Russell. Ms. Russell is a gifted coach and was trained through the Arthritis Foundation. (Suggested donation – $3.00)
URL:https://godfreymillercenter.org/event/exercise-for-balance-strength-6/
LOCATION:Pavilion
END:VEVENT
END:VCALENDAR