BEGIN:VCALENDAR
VERSION:2.0
PRODID:-//Godfrey Miller Center - ECPv6.15.20//NONSGML v1.0//EN
CALSCALE:GREGORIAN
METHOD:PUBLISH
X-WR-CALNAME:Godfrey Miller Center
X-ORIGINAL-URL:https://godfreymillercenter.org
X-WR-CALDESC:Events for Godfrey Miller Center
REFRESH-INTERVAL;VALUE=DURATION:PT1H
X-Robots-Tag:noindex
X-PUBLISHED-TTL:PT1H
BEGIN:VTIMEZONE
TZID:America/New_York
BEGIN:DAYLIGHT
TZOFFSETFROM:-0500
TZOFFSETTO:-0400
TZNAME:EDT
DTSTART:20230312T070000
END:DAYLIGHT
BEGIN:STANDARD
TZOFFSETFROM:-0400
TZOFFSETTO:-0500
TZNAME:EST
DTSTART:20231105T060000
END:STANDARD
BEGIN:DAYLIGHT
TZOFFSETFROM:-0500
TZOFFSETTO:-0400
TZNAME:EDT
DTSTART:20240310T070000
END:DAYLIGHT
BEGIN:STANDARD
TZOFFSETFROM:-0400
TZOFFSETTO:-0500
TZNAME:EST
DTSTART:20241103T060000
END:STANDARD
BEGIN:DAYLIGHT
TZOFFSETFROM:-0500
TZOFFSETTO:-0400
TZNAME:EDT
DTSTART:20250309T070000
END:DAYLIGHT
BEGIN:STANDARD
TZOFFSETFROM:-0400
TZOFFSETTO:-0500
TZNAME:EST
DTSTART:20251102T060000
END:STANDARD
END:VTIMEZONE
BEGIN:VEVENT
DTSTART;TZID=America/New_York:20240820T100000
DTEND;TZID=America/New_York:20240820T120000
DTSTAMP:20260424T195649
CREATED:20240726T190825Z
LAST-MODIFIED:20240726T190825Z
UID:5363-1724148000-1724155200@godfreymillercenter.org
SUMMARY:Canasta
DESCRIPTION:All are welcome to come and play Canasta!
URL:https://godfreymillercenter.org/event/canasta-116/
LOCATION:Parlor
END:VEVENT
BEGIN:VEVENT
DTSTART;TZID=America/New_York:20240820T100000
DTEND;TZID=America/New_York:20240820T120000
DTSTAMP:20260424T195649
CREATED:20240730T145052Z
LAST-MODIFIED:20240730T145052Z
UID:5390-1724148000-1724155200@godfreymillercenter.org
SUMMARY:Still Life Art Studio
DESCRIPTION:Each Tuesday in August there will be a different still life subject set up for artists to come and paint or draw.  This is a great opportunity to practice your artistic skills with friends!  All supplies are provided\, but you are welcome to bring your own as well.  (Suggested Donation: $5) \n***RSVP required\, call The Godfrey Miller Center office at 540-667-5869 to reserve your spot.
URL:https://godfreymillercenter.org/event/still-life-art-studio-3/
END:VEVENT
BEGIN:VEVENT
DTSTART;TZID=America/New_York:20240820T130000
DTEND;TZID=America/New_York:20240820T150000
DTSTAMP:20260424T195649
CREATED:20240726T190825Z
LAST-MODIFIED:20240726T190825Z
UID:5364-1724158800-1724166000@godfreymillercenter.org
SUMMARY:Movie Matinee: Unfrosted
DESCRIPTION:Written and directed by Jerry Seinfeld\, Unfrosted tells the story of two sworn cereal rivals\, Kellogg’s and Post\, and their race to produce a pastry that will change breakfast forever.  Come watch this hilarious story from 1963 unfold.  Run Time: 1 hour and 33 minutes.  Movie snacks and drinks provided.
URL:https://godfreymillercenter.org/event/movie-matinee-unfrosted/
END:VEVENT
END:VCALENDAR