BEGIN:VCALENDAR
VERSION:2.0
PRODID:-//Godfrey Miller Center - ECPv6.15.20//NONSGML v1.0//EN
CALSCALE:GREGORIAN
METHOD:PUBLISH
X-ORIGINAL-URL:https://godfreymillercenter.org
X-WR-CALDESC:Events for Godfrey Miller Center
REFRESH-INTERVAL;VALUE=DURATION:PT1H
X-Robots-Tag:noindex
X-PUBLISHED-TTL:PT1H
BEGIN:VTIMEZONE
TZID:America/New_York
BEGIN:DAYLIGHT
TZOFFSETFROM:-0500
TZOFFSETTO:-0400
TZNAME:EDT
DTSTART:20230312T070000
END:DAYLIGHT
BEGIN:STANDARD
TZOFFSETFROM:-0400
TZOFFSETTO:-0500
TZNAME:EST
DTSTART:20231105T060000
END:STANDARD
BEGIN:DAYLIGHT
TZOFFSETFROM:-0500
TZOFFSETTO:-0400
TZNAME:EDT
DTSTART:20240310T070000
END:DAYLIGHT
BEGIN:STANDARD
TZOFFSETFROM:-0400
TZOFFSETTO:-0500
TZNAME:EST
DTSTART:20241103T060000
END:STANDARD
BEGIN:DAYLIGHT
TZOFFSETFROM:-0500
TZOFFSETTO:-0400
TZNAME:EDT
DTSTART:20250309T070000
END:DAYLIGHT
BEGIN:STANDARD
TZOFFSETFROM:-0400
TZOFFSETTO:-0500
TZNAME:EST
DTSTART:20251102T060000
END:STANDARD
END:VTIMEZONE
BEGIN:VEVENT
DTSTART;TZID=America/New_York:20241016T103000
DTEND;TZID=America/New_York:20241016T113000
DTSTAMP:20260424T163803
CREATED:20240926T235439Z
LAST-MODIFIED:20240926T235439Z
UID:5478-1729074600-1729078200@godfreymillercenter.org
SUMMARY:Workshop: Halloween & Fall Greeting Cards & Treat Holders
DESCRIPTION:***RSVP required\, call The Godfrey Miller Center office at 540-667-5869 to reserve your spot.   \nThis month master paper crafter\, Lorraine\, will be holding two workshops!  Each workshop will be the same; creating custom Halloween and Fall greeting cards for you to share with your family and friends. (Suggested Donation: $6)
URL:https://godfreymillercenter.org/event/workshop-halloween-fall-greeting-cards-treat-holders/
END:VEVENT
BEGIN:VEVENT
DTSTART;TZID=America/New_York:20241016T123000
DTEND;TZID=America/New_York:20241016T133000
DTSTAMP:20260424T163803
CREATED:20240926T235439Z
LAST-MODIFIED:20240926T235439Z
UID:5479-1729081800-1729085400@godfreymillercenter.org
SUMMARY:Lunch
DESCRIPTION:***RSVP required\, call The Godfrey Miller Center office at 540-667-5869 to reserve your spot.\nTickets: $9.00
URL:https://godfreymillercenter.org/event/lunch-89/
LOCATION:Pavilion
END:VEVENT
BEGIN:VEVENT
DTSTART;TZID=America/New_York:20241016T133000
DTEND;TZID=America/New_York:20241016T143000
DTSTAMP:20260424T163803
CREATED:20240926T235439Z
LAST-MODIFIED:20240926T235439Z
UID:5481-1729085400-1729089000@godfreymillercenter.org
SUMMARY:Workshop: Halloween & Fall Greeting Cards & Treat Holders
DESCRIPTION:***RSVP required\, call The Godfrey Miller Center office at 540-667-5869 to reserve your spot.   \nThis month master paper crafter\, Lorraine\, will be holding two workshops!  Each workshop will be the same; creating custom Halloween and Fall greeting cards for you to share with your family and friends. (Suggested Donation: $6)
URL:https://godfreymillercenter.org/event/workshop-halloween-fall-greeting-cards-treat-holders-2/
END:VEVENT
BEGIN:VEVENT
DTSTART;TZID=America/New_York:20241016T140000
DTEND;TZID=America/New_York:20241016T150000
DTSTAMP:20260424T163803
CREATED:20240926T235439Z
LAST-MODIFIED:20240926T235439Z
UID:5480-1729087200-1729090800@godfreymillercenter.org
SUMMARY:Exercise for Balance & Strength
DESCRIPTION:A low-impact program that includes joint check/warm-up\, range of motion/stretching\, strengthening\, cardiovascular endurance\, and joint check/cool down. Led by Sonna Russell. Ms. Russell is a gifted coach and was trained through the Arthritis Foundation. (Suggested donation – $3.00)
URL:https://godfreymillercenter.org/event/exercise-for-balance-strength-69/
LOCATION:Pavilion
END:VEVENT
END:VCALENDAR