BEGIN:VCALENDAR
VERSION:2.0
PRODID:-//Godfrey Miller Center - ECPv6.15.20//NONSGML v1.0//EN
CALSCALE:GREGORIAN
METHOD:PUBLISH
X-WR-CALNAME:Godfrey Miller Center
X-ORIGINAL-URL:https://godfreymillercenter.org
X-WR-CALDESC:Events for Godfrey Miller Center
REFRESH-INTERVAL;VALUE=DURATION:PT1H
X-Robots-Tag:noindex
X-PUBLISHED-TTL:PT1H
BEGIN:VTIMEZONE
TZID:America/New_York
BEGIN:DAYLIGHT
TZOFFSETFROM:-0500
TZOFFSETTO:-0400
TZNAME:EDT
DTSTART:20230312T070000
END:DAYLIGHT
BEGIN:STANDARD
TZOFFSETFROM:-0400
TZOFFSETTO:-0500
TZNAME:EST
DTSTART:20231105T060000
END:STANDARD
BEGIN:DAYLIGHT
TZOFFSETFROM:-0500
TZOFFSETTO:-0400
TZNAME:EDT
DTSTART:20240310T070000
END:DAYLIGHT
BEGIN:STANDARD
TZOFFSETFROM:-0400
TZOFFSETTO:-0500
TZNAME:EST
DTSTART:20241103T060000
END:STANDARD
BEGIN:DAYLIGHT
TZOFFSETFROM:-0500
TZOFFSETTO:-0400
TZNAME:EDT
DTSTART:20250309T070000
END:DAYLIGHT
BEGIN:STANDARD
TZOFFSETFROM:-0400
TZOFFSETTO:-0500
TZNAME:EST
DTSTART:20251102T060000
END:STANDARD
END:VTIMEZONE
BEGIN:VEVENT
DTSTART;TZID=America/New_York:20241022T100000
DTEND;TZID=America/New_York:20241022T120000
DTSTAMP:20260424T163756
CREATED:20240926T235441Z
LAST-MODIFIED:20240926T235441Z
UID:5491-1729591200-1729598400@godfreymillercenter.org
SUMMARY:Canasta
DESCRIPTION:All are welcome to come and play Canasta!
URL:https://godfreymillercenter.org/event/canasta-123/
LOCATION:Parlor
END:VEVENT
BEGIN:VEVENT
DTSTART;TZID=America/New_York:20241022T130000
DTEND;TZID=America/New_York:20241022T153000
DTSTAMP:20260424T163756
CREATED:20240926T235441Z
LAST-MODIFIED:20240926T235441Z
UID:5492-1729602000-1729611000@godfreymillercenter.org
SUMMARY:Movie Matinee: Fly Me to the Moon
DESCRIPTION:Starring Scarlett Johansson and Channing Tatum\, Fly Me to the Moon\, tells the story between marketing specialist Kelly Jones and the NASA launch director Cole Davis as they are tasked with creating a fictionalized version of the Apollo 11 mission in case the actual one does not succeed.  Movie snacks and drinks provided.  Movie run time: 2 hours and 11 minutes.
URL:https://godfreymillercenter.org/event/movie-matinee-fly-me-to-the-moon/
LOCATION:Pavilion
END:VEVENT
END:VCALENDAR