BEGIN:VCALENDAR
VERSION:2.0
PRODID:-//Godfrey Miller Center - ECPv6.15.20//NONSGML v1.0//EN
CALSCALE:GREGORIAN
METHOD:PUBLISH
X-ORIGINAL-URL:https://godfreymillercenter.org
X-WR-CALDESC:Events for Godfrey Miller Center
REFRESH-INTERVAL;VALUE=DURATION:PT1H
X-Robots-Tag:noindex
X-PUBLISHED-TTL:PT1H
BEGIN:VTIMEZONE
TZID:America/New_York
BEGIN:DAYLIGHT
TZOFFSETFROM:-0500
TZOFFSETTO:-0400
TZNAME:EDT
DTSTART:20240310T070000
END:DAYLIGHT
BEGIN:STANDARD
TZOFFSETFROM:-0400
TZOFFSETTO:-0500
TZNAME:EST
DTSTART:20241103T060000
END:STANDARD
BEGIN:DAYLIGHT
TZOFFSETFROM:-0500
TZOFFSETTO:-0400
TZNAME:EDT
DTSTART:20250309T070000
END:DAYLIGHT
BEGIN:STANDARD
TZOFFSETFROM:-0400
TZOFFSETTO:-0500
TZNAME:EST
DTSTART:20251102T060000
END:STANDARD
BEGIN:DAYLIGHT
TZOFFSETFROM:-0500
TZOFFSETTO:-0400
TZNAME:EDT
DTSTART:20260308T070000
END:DAYLIGHT
BEGIN:STANDARD
TZOFFSETFROM:-0400
TZOFFSETTO:-0500
TZNAME:EST
DTSTART:20261101T060000
END:STANDARD
END:VTIMEZONE
BEGIN:VEVENT
DTSTART;TZID=America/New_York:20250305T103000
DTEND;TZID=America/New_York:20250305T113000
DTSTAMP:20260424T074127
CREATED:20250220T184740Z
LAST-MODIFIED:20250220T184740Z
UID:5794-1741170600-1741174200@godfreymillercenter.org
SUMMARY:Workshop: St. Patrick's Day Cards
DESCRIPTION:Join Lorraine for a St. Patrick’s Day card workshop!  This workshop will guide you through making custom St. Patrick’s day greeting cards.  (Suggested Donation: $6) \n***RSVP required\, call The Godfrey Miller Center office at 540-667-5869 to reserve your spot.
URL:https://godfreymillercenter.org/event/workshop-st-patricks-day-cards/
LOCATION:Parlor
END:VEVENT
BEGIN:VEVENT
DTSTART;TZID=America/New_York:20250305T133000
DTEND;TZID=America/New_York:20250305T143000
DTSTAMP:20260424T074127
CREATED:20250220T184740Z
LAST-MODIFIED:20250220T184740Z
UID:5795-1741181400-1741185000@godfreymillercenter.org
SUMMARY:Workshop: St. Patrick's Day Cards
DESCRIPTION:Join Lorraine for a St. Patrick’s Day card workshop!  This workshop will guide you through making custom St. Patrick’s day greeting cards.  (Suggested Donation: $6) \n***RSVP required\, call The Godfrey Miller Center office at 540-667-5869 to reserve your spot.
URL:https://godfreymillercenter.org/event/workshop-st-patricks-day-cards-2/
LOCATION:Parlor
END:VEVENT
BEGIN:VEVENT
DTSTART;TZID=America/New_York:20250305T140000
DTEND;TZID=America/New_York:20250305T150000
DTSTAMP:20260424T074127
CREATED:20250220T184740Z
LAST-MODIFIED:20250220T184740Z
UID:5796-1741183200-1741186800@godfreymillercenter.org
SUMMARY:Exercise for Balance & Strength
DESCRIPTION:A low-impact program that includes joint check/warm-up\, range of motion/stretching\, strengthening\, cardiovascular endurance\, and joint check/cool down. Led by Sonna Russell. Ms. Russell is a gifted coach and was trained through the Arthritis Foundation. (Suggested donation – $3.00)
URL:https://godfreymillercenter.org/event/exercise-for-balance-strength-99/
LOCATION:Pavilion
END:VEVENT
END:VCALENDAR