BEGIN:VCALENDAR
VERSION:2.0
PRODID:-//Godfrey Miller Center - ECPv6.15.20//NONSGML v1.0//EN
CALSCALE:GREGORIAN
METHOD:PUBLISH
X-ORIGINAL-URL:https://godfreymillercenter.org
X-WR-CALDESC:Events for Godfrey Miller Center
REFRESH-INTERVAL;VALUE=DURATION:PT1H
X-Robots-Tag:noindex
X-PUBLISHED-TTL:PT1H
BEGIN:VTIMEZONE
TZID:America/New_York
BEGIN:DAYLIGHT
TZOFFSETFROM:-0500
TZOFFSETTO:-0400
TZNAME:EDT
DTSTART:20240310T070000
END:DAYLIGHT
BEGIN:STANDARD
TZOFFSETFROM:-0400
TZOFFSETTO:-0500
TZNAME:EST
DTSTART:20241103T060000
END:STANDARD
BEGIN:DAYLIGHT
TZOFFSETFROM:-0500
TZOFFSETTO:-0400
TZNAME:EDT
DTSTART:20250309T070000
END:DAYLIGHT
BEGIN:STANDARD
TZOFFSETFROM:-0400
TZOFFSETTO:-0500
TZNAME:EST
DTSTART:20251102T060000
END:STANDARD
BEGIN:DAYLIGHT
TZOFFSETFROM:-0500
TZOFFSETTO:-0400
TZNAME:EDT
DTSTART:20260308T070000
END:DAYLIGHT
BEGIN:STANDARD
TZOFFSETFROM:-0400
TZOFFSETTO:-0500
TZNAME:EST
DTSTART:20261101T060000
END:STANDARD
END:VTIMEZONE
BEGIN:VEVENT
DTSTART;TZID=America/New_York:20250521T103000
DTEND;TZID=America/New_York:20250521T113000
DTSTAMP:20260424T044302
CREATED:20250417T165210Z
LAST-MODIFIED:20250417T165210Z
UID:5966-1747823400-1747827000@godfreymillercenter.org
SUMMARY:Workshop: All Occasion Greeting Cards
DESCRIPTION:Join Lorraine for a custom greeting card workshop!  This workshop will guide you through making greeting cards for all different occasions.  (Suggested Donation: $6) \n***RSVP required\, call The Godfrey Miller Center office at 540-667-5869 to reserve your spot.
URL:https://godfreymillercenter.org/event/workshop-all-occasion-greeting-cards/
LOCATION:Parlor
END:VEVENT
BEGIN:VEVENT
DTSTART;TZID=America/New_York:20250521T123000
DTEND;TZID=America/New_York:20250521T133000
DTSTAMP:20260424T044302
CREATED:20250417T165210Z
LAST-MODIFIED:20250417T165210Z
UID:5967-1747830600-1747834200@godfreymillercenter.org
SUMMARY:Lunch
DESCRIPTION:***RSVP required\, call The Godfrey Miller Center office at 540-667-5869 to reserve your spot.\nTickets: $10
URL:https://godfreymillercenter.org/event/lunch-151/
LOCATION:Pavilion
END:VEVENT
BEGIN:VEVENT
DTSTART;TZID=America/New_York:20250521T133000
DTEND;TZID=America/New_York:20250521T143000
DTSTAMP:20260424T044302
CREATED:20250417T165211Z
LAST-MODIFIED:20250417T165211Z
UID:5968-1747834200-1747837800@godfreymillercenter.org
SUMMARY:Workshop: All Occasion Greeting Cards
DESCRIPTION:Join Lorraine for a custom greeting card workshop!  This workshop will guide you through making greeting cards for all different occasions.  (Suggested Donation: $6) \n***RSVP required\, call The Godfrey Miller Center office at 540-667-5869 to reserve your spot.
URL:https://godfreymillercenter.org/event/workshop-all-occasion-greeting-cards-2/
LOCATION:Parlor
END:VEVENT
BEGIN:VEVENT
DTSTART;TZID=America/New_York:20250521T140000
DTEND;TZID=America/New_York:20250521T150000
DTSTAMP:20260424T044302
CREATED:20250417T165211Z
LAST-MODIFIED:20250417T165211Z
UID:5969-1747836000-1747839600@godfreymillercenter.org
SUMMARY:Exercise for Balance & Strength
DESCRIPTION:A low-impact program that includes joint check/warm-up\, range of motion/stretching\, strengthening\, cardiovascular endurance\, and joint check/cool down. Led by Sonna Russell. Ms. Russell is a gifted coach and was trained through the Arthritis Foundation. (Suggested donation – $3.00)
URL:https://godfreymillercenter.org/event/exercise-for-balance-strength-118/
LOCATION:Pavilion
END:VEVENT
END:VCALENDAR