BEGIN:VCALENDAR
VERSION:2.0
PRODID:-//Godfrey Miller Center - ECPv6.15.20//NONSGML v1.0//EN
CALSCALE:GREGORIAN
METHOD:PUBLISH
X-WR-CALNAME:Godfrey Miller Center
X-ORIGINAL-URL:https://godfreymillercenter.org
X-WR-CALDESC:Events for Godfrey Miller Center
REFRESH-INTERVAL;VALUE=DURATION:PT1H
X-Robots-Tag:noindex
X-PUBLISHED-TTL:PT1H
BEGIN:VTIMEZONE
TZID:America/New_York
BEGIN:DAYLIGHT
TZOFFSETFROM:-0500
TZOFFSETTO:-0400
TZNAME:EDT
DTSTART:20240310T070000
END:DAYLIGHT
BEGIN:STANDARD
TZOFFSETFROM:-0400
TZOFFSETTO:-0500
TZNAME:EST
DTSTART:20241103T060000
END:STANDARD
BEGIN:DAYLIGHT
TZOFFSETFROM:-0500
TZOFFSETTO:-0400
TZNAME:EDT
DTSTART:20250309T070000
END:DAYLIGHT
BEGIN:STANDARD
TZOFFSETFROM:-0400
TZOFFSETTO:-0500
TZNAME:EST
DTSTART:20251102T060000
END:STANDARD
BEGIN:DAYLIGHT
TZOFFSETFROM:-0500
TZOFFSETTO:-0400
TZNAME:EDT
DTSTART:20260308T070000
END:DAYLIGHT
BEGIN:STANDARD
TZOFFSETFROM:-0400
TZOFFSETTO:-0500
TZNAME:EST
DTSTART:20261101T060000
END:STANDARD
END:VTIMEZONE
BEGIN:VEVENT
DTSTART;TZID=America/New_York:20250529T100000
DTEND;TZID=America/New_York:20250529T120000
DTSTAMP:20260424T044129
CREATED:20250417T165213Z
LAST-MODIFIED:20250417T165213Z
UID:5982-1748512800-1748520000@godfreymillercenter.org
SUMMARY:Mahjong
DESCRIPTION:
URL:https://godfreymillercenter.org/event/mahjong-138/
LOCATION:Parlor
END:VEVENT
BEGIN:VEVENT
DTSTART;TZID=America/New_York:20250529T100000
DTEND;TZID=America/New_York:20250529T120000
DTSTAMP:20260424T044129
CREATED:20250424T135453Z
LAST-MODIFIED:20250424T135453Z
UID:5987-1748512800-1748520000@godfreymillercenter.org
SUMMARY:Mahjong Lessons
DESCRIPTION:Come learn the game of Mahjong! These lessons are open to all skill levels from beginner to long time players. \n***RSVP required\, call The Godfrey Miller Center office at 540-667-5869 to reserve your spot.
URL:https://godfreymillercenter.org/event/mahjong-lessons-5/
END:VEVENT
BEGIN:VEVENT
DTSTART;TZID=America/New_York:20250529T103000
DTEND;TZID=America/New_York:20250529T113000
DTSTAMP:20260424T044129
CREATED:20250417T165213Z
LAST-MODIFIED:20250417T165213Z
UID:5981-1748514600-1748518200@godfreymillercenter.org
SUMMARY:Bingo
DESCRIPTION:Join us for a game of Bingo!  There will be many useful and fun prizes available for you to win. \n***RSVP required\, call The Godfrey Miller Center office at 540-667-5869 to reserve your spot.
URL:https://godfreymillercenter.org/event/bingo-9/
LOCATION:Pavilion
END:VEVENT
BEGIN:VEVENT
DTSTART;TZID=America/New_York:20250529T123000
DTEND;TZID=America/New_York:20250529T133000
DTSTAMP:20260424T044129
CREATED:20250417T165213Z
LAST-MODIFIED:20250417T165213Z
UID:5983-1748521800-1748525400@godfreymillercenter.org
SUMMARY:Lunch
DESCRIPTION:***RSVP required\, call The Godfrey Miller Center office at 540-667-5869 to reserve your spot.\nTickets: $10
URL:https://godfreymillercenter.org/event/lunch-154/
LOCATION:Pavilion
END:VEVENT
BEGIN:VEVENT
DTSTART;TZID=America/New_York:20250529T140000
DTEND;TZID=America/New_York:20250529T150000
DTSTAMP:20260424T044129
CREATED:20250417T165214Z
LAST-MODIFIED:20250417T165214Z
UID:5984-1748527200-1748530800@godfreymillercenter.org
SUMMARY:Strength & Conditioning
DESCRIPTION:This class is designed to increase physical strength through resistance exercise. All major muscle groups are worked from head to toe. We finish with core conditioning\, breathing\, and stretching for a complete workout. Dumbbells are used for each class\, you can bring your own or use ours! Led by Program Coordinator Anna.
URL:https://godfreymillercenter.org/event/strength-conditioning-106/
LOCATION:Pavilion
END:VEVENT
END:VCALENDAR