BEGIN:VCALENDAR
VERSION:2.0
PRODID:-//Godfrey Miller Center - ECPv6.15.20//NONSGML v1.0//EN
CALSCALE:GREGORIAN
METHOD:PUBLISH
X-ORIGINAL-URL:https://godfreymillercenter.org
X-WR-CALDESC:Events for Godfrey Miller Center
REFRESH-INTERVAL;VALUE=DURATION:PT1H
X-Robots-Tag:noindex
X-PUBLISHED-TTL:PT1H
BEGIN:VTIMEZONE
TZID:America/New_York
BEGIN:DAYLIGHT
TZOFFSETFROM:-0500
TZOFFSETTO:-0400
TZNAME:EDT
DTSTART:20240310T070000
END:DAYLIGHT
BEGIN:STANDARD
TZOFFSETFROM:-0400
TZOFFSETTO:-0500
TZNAME:EST
DTSTART:20241103T060000
END:STANDARD
BEGIN:DAYLIGHT
TZOFFSETFROM:-0500
TZOFFSETTO:-0400
TZNAME:EDT
DTSTART:20250309T070000
END:DAYLIGHT
BEGIN:STANDARD
TZOFFSETFROM:-0400
TZOFFSETTO:-0500
TZNAME:EST
DTSTART:20251102T060000
END:STANDARD
BEGIN:DAYLIGHT
TZOFFSETFROM:-0500
TZOFFSETTO:-0400
TZNAME:EDT
DTSTART:20260308T070000
END:DAYLIGHT
BEGIN:STANDARD
TZOFFSETFROM:-0400
TZOFFSETTO:-0500
TZNAME:EST
DTSTART:20261101T060000
END:STANDARD
END:VTIMEZONE
BEGIN:VEVENT
DTSTART;TZID=America/New_York:20250804T100000
DTEND;TZID=America/New_York:20250804T110000
DTSTAMP:20260423T234953
CREATED:20250730T183216Z
LAST-MODIFIED:20250730T183216Z
UID:6370-1754301600-1754305200@godfreymillercenter.org
SUMMARY:Samba Lessons
DESCRIPTION:Samba is a kind of Canasta – all are welcome – even beginners!
URL:https://godfreymillercenter.org/event/samba-lessons/
END:VEVENT
BEGIN:VEVENT
DTSTART;TZID=America/New_York:20250804T110000
DTEND;TZID=America/New_York:20250804T120000
DTSTAMP:20260423T234953
CREATED:20250730T183216Z
LAST-MODIFIED:20250730T183216Z
UID:6369-1754305200-1754308800@godfreymillercenter.org
SUMMARY:Seated Yoga
DESCRIPTION:Join yoga instructor\, Debbie Coulson\, for a seated chair yoga session.  All are welcome – including beginners! (Suggested Donation: $3)
URL:https://godfreymillercenter.org/event/seated-yoga-11/
LOCATION:Parlor
END:VEVENT
BEGIN:VEVENT
DTSTART;TZID=America/New_York:20250804T123000
DTEND;TZID=America/New_York:20250804T133000
DTSTAMP:20260423T234953
CREATED:20250730T183427Z
LAST-MODIFIED:20250730T183431Z
UID:6423-1754310600-1754314200@godfreymillercenter.org
SUMMARY:Lunch
DESCRIPTION:***RSVP required\, call The Godfrey Miller Center office at 540-667-5869 to reserve your spot.\nTickets: $10
URL:https://godfreymillercenter.org/event/lunch-193/
END:VEVENT
BEGIN:VEVENT
DTSTART;TZID=America/New_York:20250804T140000
DTEND;TZID=America/New_York:20250804T150000
DTSTAMP:20260423T234953
CREATED:20250730T183514Z
LAST-MODIFIED:20250730T183514Z
UID:6425-1754316000-1754319600@godfreymillercenter.org
SUMMARY:Exercise for Balance & Strength
DESCRIPTION:
URL:https://godfreymillercenter.org/event/exercise-for-balance-strength-145/
END:VEVENT
END:VCALENDAR