BEGIN:VCALENDAR
VERSION:2.0
PRODID:-//Godfrey Miller Center - ECPv6.15.20//NONSGML v1.0//EN
CALSCALE:GREGORIAN
METHOD:PUBLISH
X-ORIGINAL-URL:https://godfreymillercenter.org
X-WR-CALDESC:Events for Godfrey Miller Center
REFRESH-INTERVAL;VALUE=DURATION:PT1H
X-Robots-Tag:noindex
X-PUBLISHED-TTL:PT1H
BEGIN:VTIMEZONE
TZID:America/New_York
BEGIN:DAYLIGHT
TZOFFSETFROM:-0500
TZOFFSETTO:-0400
TZNAME:EDT
DTSTART:20240310T070000
END:DAYLIGHT
BEGIN:STANDARD
TZOFFSETFROM:-0400
TZOFFSETTO:-0500
TZNAME:EST
DTSTART:20241103T060000
END:STANDARD
BEGIN:DAYLIGHT
TZOFFSETFROM:-0500
TZOFFSETTO:-0400
TZNAME:EDT
DTSTART:20250309T070000
END:DAYLIGHT
BEGIN:STANDARD
TZOFFSETFROM:-0400
TZOFFSETTO:-0500
TZNAME:EST
DTSTART:20251102T060000
END:STANDARD
BEGIN:DAYLIGHT
TZOFFSETFROM:-0500
TZOFFSETTO:-0400
TZNAME:EDT
DTSTART:20260308T070000
END:DAYLIGHT
BEGIN:STANDARD
TZOFFSETFROM:-0400
TZOFFSETTO:-0500
TZNAME:EST
DTSTART:20261101T060000
END:STANDARD
END:VTIMEZONE
BEGIN:VEVENT
DTSTART;TZID=America/New_York:20250827T103000
DTEND;TZID=America/New_York:20250827T113000
DTSTAMP:20260423T235556
CREATED:20250730T183224Z
LAST-MODIFIED:20250730T183224Z
UID:6417-1756290600-1756294200@godfreymillercenter.org
SUMMARY:Workshop: Diamond Art
DESCRIPTION:Come make a unique diamond art craft!  Instructions and supplies are provided.  (Suggested Donation: $5)
URL:https://godfreymillercenter.org/event/workshop-diamond-art-6/
LOCATION:Parlor
END:VEVENT
BEGIN:VEVENT
DTSTART;TZID=America/New_York:20250827T110000
DTEND;TZID=America/New_York:20250827T120000
DTSTAMP:20260423T235556
CREATED:20250730T183224Z
LAST-MODIFIED:20250730T183224Z
UID:6416-1756292400-1756296000@godfreymillercenter.org
SUMMARY:Practical Tai Chi
DESCRIPTION:Adrian’s Practical Tai Chi classes are a blend of tai chi and qigong\, meant to get the practitioner connected into their own body. The focus is on proper body structure and grounding\, while different series of movements are performed. Attendees can expect to feel more grounded\, relaxed\, and rejuvenated after each class. Limited-mobility friendly! (Suggested Donation: $3)
URL:https://godfreymillercenter.org/event/practical-tai-chi-16/
LOCATION:Pavilion
END:VEVENT
BEGIN:VEVENT
DTSTART;TZID=America/New_York:20250827T123000
DTEND;TZID=America/New_York:20250827T133000
DTSTAMP:20260423T235556
CREATED:20250730T183224Z
LAST-MODIFIED:20250730T183224Z
UID:6418-1756297800-1756301400@godfreymillercenter.org
SUMMARY:Lunch
DESCRIPTION:***RSVP required\, call The Godfrey Miller Center office at 540-667-5869 to reserve your spot.\nTickets: $10
URL:https://godfreymillercenter.org/event/lunch-191/
LOCATION:Pavilion
END:VEVENT
BEGIN:VEVENT
DTSTART;TZID=America/New_York:20250827T140000
DTEND;TZID=America/New_York:20250827T150000
DTSTAMP:20260423T235556
CREATED:20250730T183224Z
LAST-MODIFIED:20250730T183224Z
UID:6419-1756303200-1756306800@godfreymillercenter.org
SUMMARY:Exercise for Balance & Strength
DESCRIPTION:A low-impact program that includes joint check/warm-up\, range of motion/stretching\, strengthening\, cardiovascular endurance\, and joint check/cool down. Led by Sonna Russell. Ms. Russell is a gifted coach and was trained through the Arthritis Foundation. (Suggested donation – $3.00)
URL:https://godfreymillercenter.org/event/exercise-for-balance-strength-144/
LOCATION:Pavilion
END:VEVENT
END:VCALENDAR