BEGIN:VCALENDAR
VERSION:2.0
PRODID:-//Godfrey Miller Center - ECPv6.15.20//NONSGML v1.0//EN
CALSCALE:GREGORIAN
METHOD:PUBLISH
X-WR-CALNAME:Godfrey Miller Center
X-ORIGINAL-URL:https://godfreymillercenter.org
X-WR-CALDESC:Events for Godfrey Miller Center
REFRESH-INTERVAL;VALUE=DURATION:PT1H
X-Robots-Tag:noindex
X-PUBLISHED-TTL:PT1H
BEGIN:VTIMEZONE
TZID:America/New_York
BEGIN:DAYLIGHT
TZOFFSETFROM:-0500
TZOFFSETTO:-0400
TZNAME:EDT
DTSTART:20240310T070000
END:DAYLIGHT
BEGIN:STANDARD
TZOFFSETFROM:-0400
TZOFFSETTO:-0500
TZNAME:EST
DTSTART:20241103T060000
END:STANDARD
BEGIN:DAYLIGHT
TZOFFSETFROM:-0500
TZOFFSETTO:-0400
TZNAME:EDT
DTSTART:20250309T070000
END:DAYLIGHT
BEGIN:STANDARD
TZOFFSETFROM:-0400
TZOFFSETTO:-0500
TZNAME:EST
DTSTART:20251102T060000
END:STANDARD
BEGIN:DAYLIGHT
TZOFFSETFROM:-0500
TZOFFSETTO:-0400
TZNAME:EDT
DTSTART:20260308T070000
END:DAYLIGHT
BEGIN:STANDARD
TZOFFSETFROM:-0400
TZOFFSETTO:-0500
TZNAME:EST
DTSTART:20261101T060000
END:STANDARD
END:VTIMEZONE
BEGIN:VEVENT
DTSTART;TZID=America/New_York:20250924T103000
DTEND;TZID=America/New_York:20250924T113000
DTSTAMP:20260423T221052
CREATED:20250827T144323Z
LAST-MODIFIED:20250827T144323Z
UID:6580-1758709800-1758713400@godfreymillercenter.org
SUMMARY:Workshop: Diamond Art
DESCRIPTION:Come make a unique diamond art craft!  Instructions and supplies are provided.  (Suggested Donation: $5) \n***RSVP required\, call The Godfrey Miller Center office at 540-667-5869 to reserve your spot.
URL:https://godfreymillercenter.org/event/workshop-diamond-art-7/
LOCATION:28 S Loudoun St (28 S Loudoun St\, Winchester\, Virginia  22601)
END:VEVENT
BEGIN:VEVENT
DTSTART;TZID=America/New_York:20250924T110000
DTEND;TZID=America/New_York:20250924T120000
DTSTAMP:20260423T221052
CREATED:20250827T144323Z
LAST-MODIFIED:20250827T144323Z
UID:6581-1758711600-1758715200@godfreymillercenter.org
SUMMARY:Practical Tai Chi
DESCRIPTION:Adrian’s Practical Tai Chi classes are a blend of tai chi and qigong\, meant to get the practitioner connected into their own body. The focus is on proper body structure and grounding\, while different series of movements are performed. Attendees can expect to feel more grounded\, relaxed\, and rejuvenated after each class. Limited-mobility friendly! (Suggested Donation: $3)
URL:https://godfreymillercenter.org/event/practical-tai-chi-18/
LOCATION:28 S Loudoun St (28 S Loudoun St\, Winchester\, Virginia  22601)
END:VEVENT
BEGIN:VEVENT
DTSTART;TZID=America/New_York:20250924T123000
DTEND;TZID=America/New_York:20250924T133000
DTSTAMP:20260423T221052
CREATED:20250827T144324Z
LAST-MODIFIED:20250918T203919Z
UID:6582-1758717000-1758720600@godfreymillercenter.org
SUMMARY:Canceled - Lunch
DESCRIPTION:***RSVP required\, call The Godfrey Miller Center office at 540-667-5869 to reserve your spot.\nTickets: $10
URL:https://godfreymillercenter.org/event/lunch-201/
LOCATION:28 S Loudoun St (28 S Loudoun St\, Winchester\, Virginia  22601)
END:VEVENT
BEGIN:VEVENT
DTSTART;TZID=America/New_York:20250924T140000
DTEND;TZID=America/New_York:20250924T150000
DTSTAMP:20260423T221052
CREATED:20250827T144324Z
LAST-MODIFIED:20250827T144324Z
UID:6583-1758722400-1758726000@godfreymillercenter.org
SUMMARY:Exercise for Balance & Strength
DESCRIPTION:A low-impact program that includes joint check/warm-up\, range of motion/stretching\, strengthening\, cardiovascular endurance\, and joint check/cool down. Led by Sonna Russell. Ms. Russell is a gifted coach and was trained through the Arthritis Foundation. (Suggested donation – $3.00)
URL:https://godfreymillercenter.org/event/exercise-for-balance-strength-151/
LOCATION:28 S Loudoun St (28 S Loudoun St\, Winchester\, Virginia  22601)
END:VEVENT
END:VCALENDAR