BEGIN:VCALENDAR
VERSION:2.0
PRODID:-//Godfrey Miller Center - ECPv6.15.20//NONSGML v1.0//EN
CALSCALE:GREGORIAN
METHOD:PUBLISH
X-WR-CALNAME:Godfrey Miller Center
X-ORIGINAL-URL:https://godfreymillercenter.org
X-WR-CALDESC:Events for Godfrey Miller Center
REFRESH-INTERVAL;VALUE=DURATION:PT1H
X-Robots-Tag:noindex
X-PUBLISHED-TTL:PT1H
BEGIN:VTIMEZONE
TZID:America/New_York
BEGIN:DAYLIGHT
TZOFFSETFROM:-0500
TZOFFSETTO:-0400
TZNAME:EDT
DTSTART:20240310T070000
END:DAYLIGHT
BEGIN:STANDARD
TZOFFSETFROM:-0400
TZOFFSETTO:-0500
TZNAME:EST
DTSTART:20241103T060000
END:STANDARD
BEGIN:DAYLIGHT
TZOFFSETFROM:-0500
TZOFFSETTO:-0400
TZNAME:EDT
DTSTART:20250309T070000
END:DAYLIGHT
BEGIN:STANDARD
TZOFFSETFROM:-0400
TZOFFSETTO:-0500
TZNAME:EST
DTSTART:20251102T060000
END:STANDARD
BEGIN:DAYLIGHT
TZOFFSETFROM:-0500
TZOFFSETTO:-0400
TZNAME:EDT
DTSTART:20260308T070000
END:DAYLIGHT
BEGIN:STANDARD
TZOFFSETFROM:-0400
TZOFFSETTO:-0500
TZNAME:EST
DTSTART:20261101T060000
END:STANDARD
END:VTIMEZONE
BEGIN:VEVENT
DTSTART;TZID=America/New_York:20251109T140000
DTEND;TZID=America/New_York:20251109T160000
DTSTAMP:20260423T190238
CREATED:20251028T000458Z
LAST-MODIFIED:20251028T000508Z
UID:6792-1762696800-1762704000@godfreymillercenter.org
SUMMARY:Sunday Stitch-In
DESCRIPTION:Hosted by the Winchester Chapter of the Embroiderer’s Guild of America.  All are welcome!
URL:https://godfreymillercenter.org/event/sunday-stitch-in-10/
LOCATION:28 S Loudoun St (28 S Loudoun St\, Winchester\, Virginia  22601)
END:VEVENT
END:VCALENDAR