BEGIN:VCALENDAR
VERSION:2.0
PRODID:-//Godfrey Miller Center - ECPv6.15.20//NONSGML v1.0//EN
CALSCALE:GREGORIAN
METHOD:PUBLISH
X-WR-CALNAME:Godfrey Miller Center
X-ORIGINAL-URL:https://godfreymillercenter.org
X-WR-CALDESC:Events for Godfrey Miller Center
REFRESH-INTERVAL;VALUE=DURATION:PT1H
X-Robots-Tag:noindex
X-PUBLISHED-TTL:PT1H
BEGIN:VTIMEZONE
TZID:America/New_York
BEGIN:DAYLIGHT
TZOFFSETFROM:-0500
TZOFFSETTO:-0400
TZNAME:EDT
DTSTART:20240310T070000
END:DAYLIGHT
BEGIN:STANDARD
TZOFFSETFROM:-0400
TZOFFSETTO:-0500
TZNAME:EST
DTSTART:20241103T060000
END:STANDARD
BEGIN:DAYLIGHT
TZOFFSETFROM:-0500
TZOFFSETTO:-0400
TZNAME:EDT
DTSTART:20250309T070000
END:DAYLIGHT
BEGIN:STANDARD
TZOFFSETFROM:-0400
TZOFFSETTO:-0500
TZNAME:EST
DTSTART:20251102T060000
END:STANDARD
BEGIN:DAYLIGHT
TZOFFSETFROM:-0500
TZOFFSETTO:-0400
TZNAME:EDT
DTSTART:20260308T070000
END:DAYLIGHT
BEGIN:STANDARD
TZOFFSETFROM:-0400
TZOFFSETTO:-0500
TZNAME:EST
DTSTART:20261101T060000
END:STANDARD
END:VTIMEZONE
BEGIN:VEVENT
DTSTART;TZID=America/New_York:20251125T100000
DTEND;TZID=America/New_York:20251125T120000
DTSTAMP:20260423T190927
CREATED:20251027T235707Z
LAST-MODIFIED:20251027T235707Z
UID:6773-1764064800-1764072000@godfreymillercenter.org
SUMMARY:Samba & Hand and Foot
DESCRIPTION:All are welcome to come and play cards!
URL:https://godfreymillercenter.org/event/samba-hand-and-foot-21/
LOCATION:28 S Loudoun St (28 S Loudoun St\, Winchester\, Virginia  22601)
END:VEVENT
BEGIN:VEVENT
DTSTART;TZID=America/New_York:20251125T100000
DTEND;TZID=America/New_York:20251125T120000
DTSTAMP:20260423T190927
CREATED:20251028T002702Z
LAST-MODIFIED:20251028T002826Z
UID:6797-1764064800-1764072000@godfreymillercenter.org
SUMMARY:Art Class: Acrylic & Watercolor Painting
DESCRIPTION:In this course\, students will develop painting skills\, techniques\, and aesthetic sensibilities related to artistic expression in acrylic and/or watercolor mediums. Each week will focus on a different subject\, emphasizing color and composition\, and enabling students to expand and better define their unique style and technique. Taught by master artist Tracy Burke. (Suggested donation: $15 per class) \nRSVP Required at 540-667-5869
URL:https://godfreymillercenter.org/event/art-class-acrylic-watercolor-painting-81/
LOCATION:28 S Loudoun St (28 S Loudoun St\, Winchester\, Virginia  22601)
END:VEVENT
BEGIN:VEVENT
DTSTART;TZID=America/New_York:20251125T130000
DTEND;TZID=America/New_York:20251125T143000
DTSTAMP:20260423T190927
CREATED:20251027T235707Z
LAST-MODIFIED:20251027T235707Z
UID:6774-1764075600-1764081000@godfreymillercenter.org
SUMMARY:Greens Workshop
DESCRIPTION:Join T. Shafferman for a holiday greens workshop.  This centerpiece will be perfect for Thanksgiving and all through the upcoming holiday season.  All supplies will be provided\, but please bring a pair of clippers if you have some.  (Suggested Donation: $10) \n***RSVP required\, call The Godfrey Miller Center office at 540-667-5869 to reserve your spot.
URL:https://godfreymillercenter.org/event/greens-workshop-3/
LOCATION:28 S Loudoun St\, Winchester\, VA\, United States
END:VEVENT
BEGIN:VEVENT
DTSTART;TZID=America/New_York:20251125T130000
DTEND;TZID=America/New_York:20251125T150000
DTSTAMP:20260423T190927
CREATED:20251028T002756Z
LAST-MODIFIED:20251028T002756Z
UID:6799-1764075600-1764082800@godfreymillercenter.org
SUMMARY:Art Class: Drawing
DESCRIPTION:In this course\, students will improve drawing skills through using a combination of mediums such as graphite\, charcoal\, pen\, and ink. Students will have their choice of mediums to help define their styles. Taught by master artist Tracy Burke. (Suggested donation: $15 per class) \nRSVP Required at 540-667-5869
URL:https://godfreymillercenter.org/event/art-class-drawing-85/
LOCATION:28 S Loudoun St (28 S Loudoun St\, Winchester\, Virginia  22601)
END:VEVENT
END:VCALENDAR