BEGIN:VCALENDAR
VERSION:2.0
PRODID:-//Godfrey Miller Center - ECPv6.15.20//NONSGML v1.0//EN
CALSCALE:GREGORIAN
METHOD:PUBLISH
X-ORIGINAL-URL:https://godfreymillercenter.org
X-WR-CALDESC:Events for Godfrey Miller Center
REFRESH-INTERVAL;VALUE=DURATION:PT1H
X-Robots-Tag:noindex
X-PUBLISHED-TTL:PT1H
BEGIN:VTIMEZONE
TZID:America/New_York
BEGIN:DAYLIGHT
TZOFFSETFROM:-0500
TZOFFSETTO:-0400
TZNAME:EDT
DTSTART:20240310T070000
END:DAYLIGHT
BEGIN:STANDARD
TZOFFSETFROM:-0400
TZOFFSETTO:-0500
TZNAME:EST
DTSTART:20241103T060000
END:STANDARD
BEGIN:DAYLIGHT
TZOFFSETFROM:-0500
TZOFFSETTO:-0400
TZNAME:EDT
DTSTART:20250309T070000
END:DAYLIGHT
BEGIN:STANDARD
TZOFFSETFROM:-0400
TZOFFSETTO:-0500
TZNAME:EST
DTSTART:20251102T060000
END:STANDARD
BEGIN:DAYLIGHT
TZOFFSETFROM:-0500
TZOFFSETTO:-0400
TZNAME:EDT
DTSTART:20260308T070000
END:DAYLIGHT
BEGIN:STANDARD
TZOFFSETFROM:-0400
TZOFFSETTO:-0500
TZNAME:EST
DTSTART:20261101T060000
END:STANDARD
END:VTIMEZONE
BEGIN:VEVENT
DTSTART;TZID=America/New_York:20251201T103000
DTEND;TZID=America/New_York:20251201T113000
DTSTAMP:20260423T171911
CREATED:20251126T200013Z
LAST-MODIFIED:20251126T200013Z
UID:6814-1764585000-1764588600@godfreymillercenter.org
SUMMARY:Android Smart Phone Help Session
DESCRIPTION:Join Program Coordinator Anna for help with your smart phone.  Bring your device\, account passwords\, and any questions!
URL:https://godfreymillercenter.org/event/android-smart-phone-help-session-24/
LOCATION:28 S Loudoun St\, Winchester\, VA\, United States
END:VEVENT
BEGIN:VEVENT
DTSTART;TZID=America/New_York:20251201T110000
DTEND;TZID=America/New_York:20251201T120000
DTSTAMP:20260423T171911
CREATED:20251126T200013Z
LAST-MODIFIED:20251126T200013Z
UID:6813-1764586800-1764590400@godfreymillercenter.org
SUMMARY:Seated Yoga
DESCRIPTION:Join yoga instructor\, Debbie Coulson\, for a seated chair yoga session.  All are welcome – including beginners! (Suggested Donation: $3)
URL:https://godfreymillercenter.org/event/seated-yoga-19/
LOCATION:28 S Loudoun St\, Winchester\, VA\, United States
END:VEVENT
BEGIN:VEVENT
DTSTART;TZID=America/New_York:20251201T123000
DTEND;TZID=America/New_York:20251201T133000
DTSTAMP:20260423T171911
CREATED:20251126T200339Z
LAST-MODIFIED:20251126T200339Z
UID:6855-1764592200-1764595800@godfreymillercenter.org
SUMMARY:Lunch
DESCRIPTION:***RSVP required\, call The Godfrey Miller Center office at 540-667-5869 to reserve your spot.\nTickets: $10
URL:https://godfreymillercenter.org/event/lunch-237/
LOCATION:28 S Loudoun St (28 S Loudoun St\, Winchester\, Virginia  22601)
END:VEVENT
BEGIN:VEVENT
DTSTART;TZID=America/New_York:20251201T140000
DTEND;TZID=America/New_York:20251201T150000
DTSTAMP:20260423T171911
CREATED:20251126T200432Z
LAST-MODIFIED:20251126T200438Z
UID:6857-1764597600-1764601200@godfreymillercenter.org
SUMMARY:Exercise for Balance & Strength
DESCRIPTION:A low-impact program that includes joint check/warm-up\, range of motion/stretching\, strengthening\, cardiovascular endurance\, and joint check/cool down. Led by Sonna Russell. Ms. Russell is a gifted coach and was trained through the Arthritis Foundation. (Suggested donation – $3.00)
URL:https://godfreymillercenter.org/event/exercise-for-balance-strength-176/
LOCATION:28 S Loudoun St (28 S Loudoun St\, Winchester\, Virginia  22601)
END:VEVENT
END:VCALENDAR