BEGIN:VCALENDAR
VERSION:2.0
PRODID:-//Godfrey Miller Center - ECPv6.15.20//NONSGML v1.0//EN
CALSCALE:GREGORIAN
METHOD:PUBLISH
X-ORIGINAL-URL:https://godfreymillercenter.org
X-WR-CALDESC:Events for Godfrey Miller Center
REFRESH-INTERVAL;VALUE=DURATION:PT1H
X-Robots-Tag:noindex
X-PUBLISHED-TTL:PT1H
BEGIN:VTIMEZONE
TZID:America/New_York
BEGIN:DAYLIGHT
TZOFFSETFROM:-0500
TZOFFSETTO:-0400
TZNAME:EDT
DTSTART:20250309T070000
END:DAYLIGHT
BEGIN:STANDARD
TZOFFSETFROM:-0400
TZOFFSETTO:-0500
TZNAME:EST
DTSTART:20251102T060000
END:STANDARD
BEGIN:DAYLIGHT
TZOFFSETFROM:-0500
TZOFFSETTO:-0400
TZNAME:EDT
DTSTART:20260308T070000
END:DAYLIGHT
BEGIN:STANDARD
TZOFFSETFROM:-0400
TZOFFSETTO:-0500
TZNAME:EST
DTSTART:20261101T060000
END:STANDARD
BEGIN:DAYLIGHT
TZOFFSETFROM:-0500
TZOFFSETTO:-0400
TZNAME:EDT
DTSTART:20270314T070000
END:DAYLIGHT
BEGIN:STANDARD
TZOFFSETFROM:-0400
TZOFFSETTO:-0500
TZNAME:EST
DTSTART:20271107T060000
END:STANDARD
END:VTIMEZONE
BEGIN:VEVENT
DTSTART;TZID=America/New_York:20260217T100000
DTEND;TZID=America/New_York:20260217T120000
DTSTAMP:20260423T135926
CREATED:20260127T000317Z
LAST-MODIFIED:20260127T000317Z
UID:6982-1771322400-1771329600@godfreymillercenter.org
SUMMARY:Samba & Hand and Foot
DESCRIPTION:All are welcome to come and play cards!
URL:https://godfreymillercenter.org/event/samba-hand-and-foot-31/
LOCATION:28 S Loudoun St (28 S Loudoun St\, Winchester\, Virginia  22601)
END:VEVENT
BEGIN:VEVENT
DTSTART;TZID=America/New_York:20260217T100000
DTEND;TZID=America/New_York:20260217T120000
DTSTAMP:20260423T135926
CREATED:20260127T000317Z
LAST-MODIFIED:20260127T000317Z
UID:6983-1771322400-1771329600@godfreymillercenter.org
SUMMARY:Still Life Art Studio
DESCRIPTION:Each Tuesday in February there will be a different still life subject set up for artists to come and paint or draw.  This is a great opportunity to practice your artistic skills with friends!  All supplies are provided\, but you are welcome to bring your own as well.  (Suggested Donation: $5) \n***RSVP required\, call The Godfrey Miller Center office at 540-667-5869 to reserve your spot.
URL:https://godfreymillercenter.org/event/still-life-art-studio-21/
LOCATION:28 S Loudoun St\, Winchester\, VA\, United States
END:VEVENT
BEGIN:VEVENT
DTSTART;TZID=America/New_York:20260217T130000
DTEND;TZID=America/New_York:20260217T150000
DTSTAMP:20260423T135926
CREATED:20260127T000317Z
LAST-MODIFIED:20260127T000317Z
UID:6984-1771333200-1771340400@godfreymillercenter.org
SUMMARY:Movie Matinee: Knives Out
DESCRIPTION:Escape the winter cold and join us for a movie matinee!  Knives Out tells the story of when the famed crime novelist Harlan Thrombey is found dead\, and the circumstances are anything but clear. Renowned detective Benoit Blanc is called in and quickly realizes that every member of the wildly dysfunctional Thrombey family has something to hide and something to gain. As secrets unravel\, Blanc must cut through a maze of lies and misdirection to reveal the truth.  Movie snacks are provided.  Movie run time: 2 hours 10 minutes. \n***RSVP required\, call The Godfrey Miller Center office at 540-667-5869 to reserve your spot.
URL:https://godfreymillercenter.org/event/movie-matinee-knives-out/
LOCATION:28 S Loudoun St\, Winchester\, VA\, United States
END:VEVENT
END:VCALENDAR