BEGIN:VCALENDAR
VERSION:2.0
PRODID:-//Godfrey Miller Center - ECPv6.15.20//NONSGML v1.0//EN
CALSCALE:GREGORIAN
METHOD:PUBLISH
X-WR-CALNAME:Godfrey Miller Center
X-ORIGINAL-URL:https://godfreymillercenter.org
X-WR-CALDESC:Events for Godfrey Miller Center
REFRESH-INTERVAL;VALUE=DURATION:PT1H
X-Robots-Tag:noindex
X-PUBLISHED-TTL:PT1H
BEGIN:VTIMEZONE
TZID:America/New_York
BEGIN:DAYLIGHT
TZOFFSETFROM:-0500
TZOFFSETTO:-0400
TZNAME:EDT
DTSTART:20250309T070000
END:DAYLIGHT
BEGIN:STANDARD
TZOFFSETFROM:-0400
TZOFFSETTO:-0500
TZNAME:EST
DTSTART:20251102T060000
END:STANDARD
BEGIN:DAYLIGHT
TZOFFSETFROM:-0500
TZOFFSETTO:-0400
TZNAME:EDT
DTSTART:20260308T070000
END:DAYLIGHT
BEGIN:STANDARD
TZOFFSETFROM:-0400
TZOFFSETTO:-0500
TZNAME:EST
DTSTART:20261101T060000
END:STANDARD
BEGIN:DAYLIGHT
TZOFFSETFROM:-0500
TZOFFSETTO:-0400
TZNAME:EDT
DTSTART:20270314T070000
END:DAYLIGHT
BEGIN:STANDARD
TZOFFSETFROM:-0400
TZOFFSETTO:-0500
TZNAME:EST
DTSTART:20271107T060000
END:STANDARD
END:VTIMEZONE
BEGIN:VEVENT
DTSTART;TZID=America/New_York:20260312T100000
DTEND;TZID=America/New_York:20260312T113000
DTSTAMP:20260423T121432
CREATED:20260226T183242Z
LAST-MODIFIED:20260226T183242Z
UID:7124-1773309600-1773315000@godfreymillercenter.org
SUMMARY:Workshop: 18th Century Sewing
DESCRIPTION:The Fort Loudoun Chapter of the Daughters of the American Revolution is hosting classes to learn to hand sew an 18th Century petticoat (skirt)\, perfect to wear to one of the many VA250 events. The techniques are useful for modern clothing alterations and repairs. This is a drop-in course. Attendees should bring scraps of cotton or linen fabric\, cotton thread\, a needle\, pins\, and scissors to their first session\, during which they will receive a full supply list and instructions. Any skill level is welcome.
URL:https://godfreymillercenter.org/event/workshop-18th-century-sewing-3/
LOCATION:28 S Loudoun St\, Winchester\, VA\, United States
END:VEVENT
BEGIN:VEVENT
DTSTART;TZID=America/New_York:20260312T100000
DTEND;TZID=America/New_York:20260312T120000
DTSTAMP:20260423T121432
CREATED:20260226T183242Z
LAST-MODIFIED:20260226T183242Z
UID:7122-1773309600-1773316800@godfreymillercenter.org
SUMMARY:Mahjong Lessons
DESCRIPTION:Come learn the game of Mahjong!  These lessons are open to all skill levels from beginner to long time players.  Please plan to attend all three sessions. \n***RSVP required\, call The Godfrey Miller Center office at 540-667-5869 to reserve your spot.
URL:https://godfreymillercenter.org/event/mahjong-lessons-6/
LOCATION:28 S Loudoun St\, Winchester\, VA\, United States
END:VEVENT
BEGIN:VEVENT
DTSTART;TZID=America/New_York:20260312T100000
DTEND;TZID=America/New_York:20260312T120000
DTSTAMP:20260423T121432
CREATED:20260226T183242Z
LAST-MODIFIED:20260226T183242Z
UID:7125-1773309600-1773316800@godfreymillercenter.org
SUMMARY:Mahjong
DESCRIPTION:Weekly on Thursdays at 10:00am.  All are welcome!
URL:https://godfreymillercenter.org/event/mahjong-172/
LOCATION:28 S Loudoun St\, Winchester\, VA\, United States
END:VEVENT
BEGIN:VEVENT
DTSTART;TZID=America/New_York:20260312T103000
DTEND;TZID=America/New_York:20260312T113000
DTSTAMP:20260423T121432
CREATED:20260226T183242Z
LAST-MODIFIED:20260226T183242Z
UID:7123-1773311400-1773315000@godfreymillercenter.org
SUMMARY:Bingo
DESCRIPTION:Join us for a game of Bingo!  There will be many useful and fun prizes available for you to win. \n***RSVP required\, call The Godfrey Miller Center office at 540-667-5869 to reserve your spot.
URL:https://godfreymillercenter.org/event/bingo-10/
LOCATION:28 S Loudoun St\, Winchester\, VA\, United States
END:VEVENT
BEGIN:VEVENT
DTSTART;TZID=America/New_York:20260312T123000
DTEND;TZID=America/New_York:20260312T133000
DTSTAMP:20260423T121432
CREATED:20260226T183243Z
LAST-MODIFIED:20260226T183243Z
UID:7126-1773318600-1773322200@godfreymillercenter.org
SUMMARY:Lunch
DESCRIPTION:***RSVP required\, call The Godfrey Miller Center office at 540-667-5869 to reserve your spot.\nTickets: $10
URL:https://godfreymillercenter.org/event/lunch-260/
LOCATION:28 S Loudoun St (28 S Loudoun St\, Winchester\, Virginia  22601)
END:VEVENT
BEGIN:VEVENT
DTSTART;TZID=America/New_York:20260312T140000
DTEND;TZID=America/New_York:20260312T150000
DTSTAMP:20260423T121432
CREATED:20260226T183243Z
LAST-MODIFIED:20260226T183243Z
UID:7127-1773324000-1773327600@godfreymillercenter.org
SUMMARY:Strength & Conditioning
DESCRIPTION:This class is designed to increase physical strength through resistance exercise. All major muscle groups are worked from head to toe. We finish with core conditioning\, breathing\, and stretching for a complete workout. Dumbbells are used for each class\, you can bring your own or use ours! Led by Program Coordinator Anna.
URL:https://godfreymillercenter.org/event/strength-conditioning-174/
LOCATION:28 S Loudoun St (28 S Loudoun St\, Winchester\, Virginia  22601)
END:VEVENT
END:VCALENDAR