BEGIN:VCALENDAR
VERSION:2.0
PRODID:-//Godfrey Miller Center - ECPv6.15.20//NONSGML v1.0//EN
CALSCALE:GREGORIAN
METHOD:PUBLISH
X-ORIGINAL-URL:https://godfreymillercenter.org
X-WR-CALDESC:Events for Godfrey Miller Center
REFRESH-INTERVAL;VALUE=DURATION:PT1H
X-Robots-Tag:noindex
X-PUBLISHED-TTL:PT1H
BEGIN:VTIMEZONE
TZID:America/New_York
BEGIN:DAYLIGHT
TZOFFSETFROM:-0500
TZOFFSETTO:-0400
TZNAME:EDT
DTSTART:20250309T070000
END:DAYLIGHT
BEGIN:STANDARD
TZOFFSETFROM:-0400
TZOFFSETTO:-0500
TZNAME:EST
DTSTART:20251102T060000
END:STANDARD
BEGIN:DAYLIGHT
TZOFFSETFROM:-0500
TZOFFSETTO:-0400
TZNAME:EDT
DTSTART:20260308T070000
END:DAYLIGHT
BEGIN:STANDARD
TZOFFSETFROM:-0400
TZOFFSETTO:-0500
TZNAME:EST
DTSTART:20261101T060000
END:STANDARD
BEGIN:DAYLIGHT
TZOFFSETFROM:-0500
TZOFFSETTO:-0400
TZNAME:EDT
DTSTART:20270314T070000
END:DAYLIGHT
BEGIN:STANDARD
TZOFFSETFROM:-0400
TZOFFSETTO:-0500
TZNAME:EST
DTSTART:20271107T060000
END:STANDARD
END:VTIMEZONE
BEGIN:VEVENT
DTSTART;TZID=America/New_York:20260322T121500
DTEND;TZID=America/New_York:20260322T140000
DTSTAMP:20260423T121633
CREATED:20260226T183247Z
LAST-MODIFIED:20260226T183247Z
UID:7144-1774181700-1774188000@godfreymillercenter.org
SUMMARY:Pavilion Open House & Kitchen Shower
DESCRIPTION:Celebrate with us during our 50th anniversary year! Join us as we celebrate the completion of our kitchen and Judge Woltz Pavilion renovations! We’re excited to open our doors and invite you to tour these newly renovated spaces. If you’d like to help us put the finishing touches on them\, Godfrey Miller Center is registered at Target and Amazon. We hope you’ll stop by to celebrate with us!
URL:https://godfreymillercenter.org/event/pavilion-open-house-kitchen-shower/
LOCATION:28 S Loudoun St\, Winchester\, VA\, United States
END:VEVENT
END:VCALENDAR