BEGIN:VCALENDAR
VERSION:2.0
PRODID:-//Godfrey Miller Center - ECPv6.15.20//NONSGML v1.0//EN
CALSCALE:GREGORIAN
METHOD:PUBLISH
X-WR-CALNAME:Godfrey Miller Center
X-ORIGINAL-URL:https://godfreymillercenter.org
X-WR-CALDESC:Events for Godfrey Miller Center
REFRESH-INTERVAL;VALUE=DURATION:PT1H
X-Robots-Tag:noindex
X-PUBLISHED-TTL:PT1H
BEGIN:VTIMEZONE
TZID:America/New_York
BEGIN:DAYLIGHT
TZOFFSETFROM:-0500
TZOFFSETTO:-0400
TZNAME:EDT
DTSTART:20250309T070000
END:DAYLIGHT
BEGIN:STANDARD
TZOFFSETFROM:-0400
TZOFFSETTO:-0500
TZNAME:EST
DTSTART:20251102T060000
END:STANDARD
BEGIN:DAYLIGHT
TZOFFSETFROM:-0500
TZOFFSETTO:-0400
TZNAME:EDT
DTSTART:20260308T070000
END:DAYLIGHT
BEGIN:STANDARD
TZOFFSETFROM:-0400
TZOFFSETTO:-0500
TZNAME:EST
DTSTART:20261101T060000
END:STANDARD
BEGIN:DAYLIGHT
TZOFFSETFROM:-0500
TZOFFSETTO:-0400
TZNAME:EDT
DTSTART:20270314T070000
END:DAYLIGHT
BEGIN:STANDARD
TZOFFSETFROM:-0400
TZOFFSETTO:-0500
TZNAME:EST
DTSTART:20271107T060000
END:STANDARD
END:VTIMEZONE
BEGIN:VEVENT
DTSTART;TZID=America/New_York:20260415T103000
DTEND;TZID=America/New_York:20260415T120000
DTSTAMP:20260423T100435
CREATED:20260319T175243Z
LAST-MODIFIED:20260319T175243Z
UID:7214-1776249000-1776254400@godfreymillercenter.org
SUMMARY:Workshop: Golden Greeting Cards
DESCRIPTION:Join master paper crafter Lorraine for a Golden Greeting Card Workshop as we celebrate our golden anniversary.  Participants will make custom greeting cards that will be perfect for any sparkling occasion; all supplies are provided. (Suggested Donation: $6) \nPlease RSVP to: 540-667-5869 or anna@godfreymillercenter.org
URL:https://godfreymillercenter.org/event/workshop-golden-greeting-cards/
LOCATION:28 S Loudoun St\, Winchester\, VA\, United States
END:VEVENT
BEGIN:VEVENT
DTSTART;TZID=America/New_York:20260415T123000
DTEND;TZID=America/New_York:20260415T133000
DTSTAMP:20260423T100435
CREATED:20260319T175244Z
LAST-MODIFIED:20260319T175244Z
UID:7215-1776256200-1776259800@godfreymillercenter.org
SUMMARY:Lunch
DESCRIPTION:***RSVP required\, call The Godfrey Miller Center office at 540-667-5869 to reserve your spot.\nTickets: $10
URL:https://godfreymillercenter.org/event/lunch-273/
LOCATION:28 S Loudoun St (28 S Loudoun St\, Winchester\, Virginia  22601)
END:VEVENT
BEGIN:VEVENT
DTSTART;TZID=America/New_York:20260415T140000
DTEND;TZID=America/New_York:20260415T150000
DTSTAMP:20260423T100435
CREATED:20260319T175244Z
LAST-MODIFIED:20260319T175244Z
UID:7216-1776261600-1776265200@godfreymillercenter.org
SUMMARY:Exercise for Balance & Strength
DESCRIPTION:A low-impact program that includes joint check/warm-up\, range of motion/stretching\, strengthening\, cardiovascular endurance\, and joint check/cool down. Led by Sonna Russell. Ms. Russell is a gifted coach and was trained through the Arthritis Foundation. (Suggested donation – $3.00)
URL:https://godfreymillercenter.org/event/exercise-for-balance-strength-203/
LOCATION:28 S Loudoun St (28 S Loudoun St\, Winchester\, Virginia  22601)
END:VEVENT
BEGIN:VEVENT
DTSTART;TZID=America/New_York:20260415T183000
DTEND;TZID=America/New_York:20260415T200000
DTSTAMP:20260423T100435
CREATED:20260319T175244Z
LAST-MODIFIED:20260319T175244Z
UID:7217-1776277800-1776283200@godfreymillercenter.org
SUMMARY:Grace Book Study In-Person
DESCRIPTION:
URL:https://godfreymillercenter.org/event/grace-book-study-in-person-4/
LOCATION:Pavilion or House
END:VEVENT
END:VCALENDAR