BEGIN:VCALENDAR
VERSION:2.0
PRODID:-//Godfrey Miller Center - ECPv6.15.20//NONSGML v1.0//EN
CALSCALE:GREGORIAN
METHOD:PUBLISH
X-WR-CALNAME:Godfrey Miller Center
X-ORIGINAL-URL:https://godfreymillercenter.org
X-WR-CALDESC:Events for Godfrey Miller Center
REFRESH-INTERVAL;VALUE=DURATION:PT1H
X-Robots-Tag:noindex
X-PUBLISHED-TTL:PT1H
BEGIN:VTIMEZONE
TZID:America/New_York
BEGIN:DAYLIGHT
TZOFFSETFROM:-0500
TZOFFSETTO:-0400
TZNAME:EDT
DTSTART:20220313T070000
END:DAYLIGHT
BEGIN:STANDARD
TZOFFSETFROM:-0400
TZOFFSETTO:-0500
TZNAME:EST
DTSTART:20221106T060000
END:STANDARD
BEGIN:DAYLIGHT
TZOFFSETFROM:-0500
TZOFFSETTO:-0400
TZNAME:EDT
DTSTART:20230312T070000
END:DAYLIGHT
BEGIN:STANDARD
TZOFFSETFROM:-0400
TZOFFSETTO:-0500
TZNAME:EST
DTSTART:20231105T060000
END:STANDARD
BEGIN:DAYLIGHT
TZOFFSETFROM:-0500
TZOFFSETTO:-0400
TZNAME:EDT
DTSTART:20240310T070000
END:DAYLIGHT
BEGIN:STANDARD
TZOFFSETFROM:-0400
TZOFFSETTO:-0500
TZNAME:EST
DTSTART:20241103T060000
END:STANDARD
END:VTIMEZONE
BEGIN:VEVENT
DTSTART;TZID=America/New_York:20231130T140000
DTEND;TZID=America/New_York:20231130T150000
DTSTAMP:20260425T115146
CREATED:20231018T175935Z
LAST-MODIFIED:20231018T175935Z
UID:4772-1701352800-1701356400@godfreymillercenter.org
SUMMARY:Strength and Conditioning Class
DESCRIPTION:This class is designed to increase physical strength through resistance exercise. All major muscle groups are worked from head to toe. We finish with core conditioning\, breathing\, and stretching for a complete workout. Dumbbells are used for each class\, you can bring your own or use ours! Led by Program Coordinator Anna.
URL:https://godfreymillercenter.org/event/strength-and-conditioning-class-108/
LOCATION:Pavilion
END:VEVENT
BEGIN:VEVENT
DTSTART;TZID=America/New_York:20231130T103000
DTEND;TZID=America/New_York:20231130T113000
DTSTAMP:20260425T115146
CREATED:20231018T175934Z
LAST-MODIFIED:20231018T175934Z
UID:4770-1701340200-1701343800@godfreymillercenter.org
SUMMARY:Workshop: Dried Soup Mixes
DESCRIPTION:Need a hostess gift for the upcoming holiday season or do you love making soup on a chilly day?  Join us for a dried soup mix workshop.  Each participant will make three different soups mixes to take home.  All supplies provided.  (Suggested Donation: $8) \n***RSVP required\, call The Godfrey Miller Center office at 540-667-5869 to reserve your spot.
URL:https://godfreymillercenter.org/event/workshop-dried-soup-mixes/
END:VEVENT
BEGIN:VEVENT
DTSTART;TZID=America/New_York:20231130T100000
DTEND;TZID=America/New_York:20231130T120000
DTSTAMP:20260425T115146
CREATED:20231018T175934Z
LAST-MODIFIED:20231018T175934Z
UID:4771-1701338400-1701345600@godfreymillercenter.org
SUMMARY:Mahjong
DESCRIPTION:
URL:https://godfreymillercenter.org/event/mahjong-83/
LOCATION:Parlor
END:VEVENT
BEGIN:VEVENT
DTSTART;TZID=America/New_York:20231129T140000
DTEND;TZID=America/New_York:20231129T150000
DTSTAMP:20260425T115146
CREATED:20231018T175934Z
LAST-MODIFIED:20231018T175934Z
UID:4769-1701266400-1701270000@godfreymillercenter.org
SUMMARY:Exercise for Balance and Strength
DESCRIPTION:A low-impact program that includes joint check/warm-up\, range of motion/stretching\, strengthening\, cardiovascular endurance\, and joint check/cool down. Led by Sonna Russell. Ms. Russell is a gifted coach and was trained through the Arthritis Foundation. (Suggested donation – $3.00)
URL:https://godfreymillercenter.org/event/exercise-for-balance-and-strength-179/
LOCATION:Pavilion
END:VEVENT
BEGIN:VEVENT
DTSTART;TZID=America/New_York:20231129T123000
DTEND;TZID=America/New_York:20231129T133000
DTSTAMP:20260425T115146
CREATED:20231018T175934Z
LAST-MODIFIED:20231018T180230Z
UID:4768-1701261000-1701264600@godfreymillercenter.org
SUMMARY:Lunch
DESCRIPTION:***RSVP required\, call The Godfrey Miller Center office at 540-667-5869 to reserve your spot. \nNovember 29: Lasagna\, Tomato Salad\, Garlic Bread\, and Dessert
URL:https://godfreymillercenter.org/event/4768/
LOCATION:Pavilion
END:VEVENT
BEGIN:VEVENT
DTSTART;TZID=America/New_York:20231129T100000
DTEND;TZID=America/New_York:20231129T120000
DTSTAMP:20260425T115146
CREATED:20231018T175934Z
LAST-MODIFIED:20231018T175934Z
UID:4767-1701252000-1701259200@godfreymillercenter.org
SUMMARY:Pinochle
DESCRIPTION:
URL:https://godfreymillercenter.org/event/pinochle-78/
LOCATION:Parlor or Dining Room
END:VEVENT
BEGIN:VEVENT
DTSTART;TZID=America/New_York:20231128T140000
DTEND;TZID=America/New_York:20231128T150000
DTSTAMP:20260425T115146
CREATED:20231018T175934Z
LAST-MODIFIED:20231018T175934Z
UID:4765-1701180000-1701183600@godfreymillercenter.org
SUMMARY:Strength and Conditioning Class
DESCRIPTION:This class is designed to increase physical strength through resistance exercise. All major muscle groups are worked from head to toe. We finish with core conditioning\, breathing\, and stretching for a complete workout. Dumbbells are used for each class\, you can bring your own or use ours! Led by Program Coordinator Anna.
URL:https://godfreymillercenter.org/event/strength-and-conditioning-class-107/
LOCATION:Pavilion
END:VEVENT
BEGIN:VEVENT
DTSTART;TZID=America/New_York:20231128T130000
DTEND;TZID=America/New_York:20231128T150000
DTSTAMP:20260425T115146
CREATED:20231018T175934Z
LAST-MODIFIED:20231018T175934Z
UID:4766-1701176400-1701183600@godfreymillercenter.org
SUMMARY:Art Class: Drawing
DESCRIPTION:In this course\, students will improve drawing skills through using a combination of mediums such as graphite\, charcoal\, and pen and ink.  Students will have their choice of mediums to help define their styles. Taught by master artist Kate Williams. (Suggested donation: $15 per class) \n***RSVP required\, call The Godfrey Miller Center office at 540-667-5869 to reserve your spot.
URL:https://godfreymillercenter.org/event/art-class-drawing-25/
END:VEVENT
BEGIN:VEVENT
DTSTART;TZID=America/New_York:20231128T100000
DTEND;TZID=America/New_York:20231128T120000
DTSTAMP:20260425T115146
CREATED:20231018T175933Z
LAST-MODIFIED:20231018T175933Z
UID:4763-1701165600-1701172800@godfreymillercenter.org
SUMMARY:Canasta
DESCRIPTION:
URL:https://godfreymillercenter.org/event/canasta-88/
LOCATION:Parlor
END:VEVENT
BEGIN:VEVENT
DTSTART;TZID=America/New_York:20231128T100000
DTEND;TZID=America/New_York:20231128T120000
DTSTAMP:20260425T115146
CREATED:20231018T175933Z
LAST-MODIFIED:20231018T175933Z
UID:4764-1701165600-1701172800@godfreymillercenter.org
SUMMARY:Art Class: Acrylic & Watercolor Painting
DESCRIPTION:In this course\, students will develop painting skills\, techniques\, and aesthetic sensibilities related to artistic expression in acrylic and/or watercolor mediums. Each week will focus on a different subject\, emphasizing color and composition\, and enabling students to expand and better define their unique style and technique. Taught by master artist Kate Williams. (Suggested donation: $15 per class) \n***RSVP required\, call The Godfrey Miller Center office at 540-667-5869 to reserve your spot.
URL:https://godfreymillercenter.org/event/art-class-acrylic-watercolor-painting-25/
END:VEVENT
BEGIN:VEVENT
DTSTART;TZID=America/New_York:20231127T140000
DTEND;TZID=America/New_York:20231127T150000
DTSTAMP:20260425T115146
CREATED:20231018T175933Z
LAST-MODIFIED:20231018T175933Z
UID:4762-1701093600-1701097200@godfreymillercenter.org
SUMMARY:Exercise for Balance and Strength
DESCRIPTION:A low-impact program that includes joint check/warm-up\, range of motion/stretching\, strengthening\, cardiovascular endurance\, and joint check/cool down. Led by Sonna Russell. Ms. Russell is a gifted coach and was trained through the Arthritis Foundation. (Suggested donation – $3.00)
URL:https://godfreymillercenter.org/event/exercise-for-balance-and-strength-178/
LOCATION:Pavilion
END:VEVENT
BEGIN:VEVENT
DTSTART;TZID=America/New_York:20231127T123000
DTEND;TZID=America/New_York:20231127T133000
DTSTAMP:20260425T115146
CREATED:20231018T175933Z
LAST-MODIFIED:20231018T180247Z
UID:4761-1701088200-1701091800@godfreymillercenter.org
SUMMARY:Lunch
DESCRIPTION:***RSVP required\, call The Godfrey Miller Center office at 540-667-5869 to reserve your spot.   \nNovember 27: Turkey and Tortellini Soup\, Brussel Sprouts\, Bread\, and Dessert
URL:https://godfreymillercenter.org/event/4761/
LOCATION:Pavilion
END:VEVENT
BEGIN:VEVENT
DTSTART;TZID=America/New_York:20231127T103000
DTEND;TZID=America/New_York:20231127T113000
DTSTAMP:20260425T115146
CREATED:20231018T175933Z
LAST-MODIFIED:20231018T175933Z
UID:4759-1701081000-1701084600@godfreymillercenter.org
SUMMARY:iPhone Help Session
DESCRIPTION:Join Program Coordinator Anna for help with your smart phone.  Bring your device\, account passwords\, and any questions!
URL:https://godfreymillercenter.org/event/iphone-help-session-2/
END:VEVENT
BEGIN:VEVENT
DTSTART;TZID=America/New_York:20231127T100000
DTEND;TZID=America/New_York:20231127T120000
DTSTAMP:20260425T115146
CREATED:20231018T175933Z
LAST-MODIFIED:20231018T175933Z
UID:4758-1701079200-1701086400@godfreymillercenter.org
SUMMARY:Jigsaw Puzzles
DESCRIPTION:Escape the heat with and enjoy the air conditioning while working on a jigsaw puzzle with others.  Fresh coffee provided!
URL:https://godfreymillercenter.org/event/jigsaw-puzzles-20/
END:VEVENT
BEGIN:VEVENT
DTSTART;TZID=America/New_York:20231127T100000
DTEND;TZID=America/New_York:20231127T120000
DTSTAMP:20260425T115146
CREATED:20231018T175933Z
LAST-MODIFIED:20231018T175933Z
UID:4760-1701079200-1701086400@godfreymillercenter.org
SUMMARY:Art Studio
DESCRIPTION:Art Studio is an open time for individuals to gather and work on their various art projects.  This is a social opportunity for artists of all levels to help each other and work independently. Recurs on every Monday of the month.
URL:https://godfreymillercenter.org/event/art-studio-83/
LOCATION:Pavilion
END:VEVENT
BEGIN:VEVENT
DTSTART;TZID=America/New_York:20231127T080000
DTEND;TZID=America/New_York:20231127T083000
DTSTAMP:20260425T115146
CREATED:20231018T175932Z
LAST-MODIFIED:20231018T175932Z
UID:4757-1701072000-1701073800@godfreymillercenter.org
SUMMARY:Walking Club
DESCRIPTION:Meet in the courtyard of Godfrey Miller Center to walk and socialize around downtown Winchester.
URL:https://godfreymillercenter.org/event/walking-club-56/
END:VEVENT
BEGIN:VEVENT
DTSTART;TZID=America/New_York:20231123T100000
DTEND;TZID=America/New_York:20231123T150000
DTSTAMP:20260425T115146
CREATED:20231018T175932Z
LAST-MODIFIED:20231018T180206Z
UID:4755-1700733600-1700751600@godfreymillercenter.org
SUMMARY:Godfrey Miller Center Closed
DESCRIPTION:Godfrey Miller Center is closed on Thursday\, November 23rd in recognition of Thanksgiving.
URL:https://godfreymillercenter.org/event/gmc-closed/
LOCATION:Parlor
END:VEVENT
BEGIN:VEVENT
DTSTART;TZID=America/New_York:20231122T140000
DTEND;TZID=America/New_York:20231122T150000
DTSTAMP:20260425T115146
CREATED:20231018T175932Z
LAST-MODIFIED:20231018T175932Z
UID:4754-1700661600-1700665200@godfreymillercenter.org
SUMMARY:Exercise for Balance and Strength
DESCRIPTION:A low-impact program that includes joint check/warm-up\, range of motion/stretching\, strengthening\, cardiovascular endurance\, and joint check/cool down. Led by Sonna Russell. Ms. Russell is a gifted coach and was trained through the Arthritis Foundation. (Suggested donation – $3.00)
URL:https://godfreymillercenter.org/event/exercise-for-balance-and-strength-177/
LOCATION:Pavilion
END:VEVENT
BEGIN:VEVENT
DTSTART;TZID=America/New_York:20231122T123000
DTEND;TZID=America/New_York:20231122T133000
DTSTAMP:20260425T115146
CREATED:20231018T175932Z
LAST-MODIFIED:20231018T180054Z
UID:4753-1700656200-1700659800@godfreymillercenter.org
SUMMARY:Lunch
DESCRIPTION:***RSVP required\, call The Godfrey Miller Center office at 540-667-5869 to reserve your spot.   \nNovember 22: Turkey\, Mashed Potatoes and Gravy\, Corn\, Green Bean Casserole\, Stuffing\, Rolls\, and Dessert
URL:https://godfreymillercenter.org/event/4753/
LOCATION:Pavilion
END:VEVENT
BEGIN:VEVENT
DTSTART;TZID=America/New_York:20231122T100000
DTEND;TZID=America/New_York:20231122T120000
DTSTAMP:20260425T115146
CREATED:20231018T175932Z
LAST-MODIFIED:20231018T175932Z
UID:4752-1700647200-1700654400@godfreymillercenter.org
SUMMARY:Pinochle
DESCRIPTION:
URL:https://godfreymillercenter.org/event/pinochle-77/
LOCATION:Parlor or Dining Room
END:VEVENT
BEGIN:VEVENT
DTSTART;TZID=America/New_York:20231121T140000
DTEND;TZID=America/New_York:20231121T150000
DTSTAMP:20260425T115146
CREATED:20231018T175932Z
LAST-MODIFIED:20231018T175932Z
UID:4751-1700575200-1700578800@godfreymillercenter.org
SUMMARY:Strength and Conditioning Class
DESCRIPTION:This class is designed to increase physical strength through resistance exercise. All major muscle groups are worked from head to toe. We finish with core conditioning\, breathing\, and stretching for a complete workout. Dumbbells are used for each class\, you can bring your own or use ours! Led by Program Coordinator Anna.
URL:https://godfreymillercenter.org/event/strength-and-conditioning-class-105/
LOCATION:Pavilion
END:VEVENT
BEGIN:VEVENT
DTSTART;TZID=America/New_York:20231121T100000
DTEND;TZID=America/New_York:20231121T120000
DTSTAMP:20260425T115146
CREATED:20231018T175932Z
LAST-MODIFIED:20231018T175932Z
UID:4750-1700560800-1700568000@godfreymillercenter.org
SUMMARY:Canasta
DESCRIPTION:
URL:https://godfreymillercenter.org/event/canasta-87/
LOCATION:Parlor
END:VEVENT
BEGIN:VEVENT
DTSTART;TZID=America/New_York:20231120T140000
DTEND;TZID=America/New_York:20231120T150000
DTSTAMP:20260425T115146
CREATED:20231018T175931Z
LAST-MODIFIED:20231018T175931Z
UID:4749-1700488800-1700492400@godfreymillercenter.org
SUMMARY:Exercise for Balance and Strength
DESCRIPTION:A low-impact program that includes joint check/warm-up\, range of motion/stretching\, strengthening\, cardiovascular endurance\, and joint check/cool down. Led by Sonna Russell. Ms. Russell is a gifted coach and was trained through the Arthritis Foundation. (Suggested donation – $3.00)
URL:https://godfreymillercenter.org/event/exercise-for-balance-and-strength-176/
LOCATION:Pavilion
END:VEVENT
BEGIN:VEVENT
DTSTART;TZID=America/New_York:20231120T123000
DTEND;TZID=America/New_York:20231120T133000
DTSTAMP:20260425T115146
CREATED:20231018T175931Z
LAST-MODIFIED:20231018T180258Z
UID:4748-1700483400-1700487000@godfreymillercenter.org
SUMMARY:Lunch
DESCRIPTION:***RSVP required\, call The Godfrey Miller Center office at 540-667-5869 to reserve your spot.   \nNovember 20: Creamy Chicken and Mushroom Casserole with Peas and Carrots\, Bread\, and Dessert
URL:https://godfreymillercenter.org/event/4748/
LOCATION:Pavilion
END:VEVENT
BEGIN:VEVENT
DTSTART;TZID=America/New_York:20231120T100000
DTEND;TZID=America/New_York:20231120T120000
DTSTAMP:20260425T115146
CREATED:20231018T175931Z
LAST-MODIFIED:20231018T175931Z
UID:4746-1700474400-1700481600@godfreymillercenter.org
SUMMARY:Art Studio
DESCRIPTION:Art Studio is an open time for individuals to gather and work on their various art projects.  This is a social opportunity for artists of all levels to help each other and work independently. Recurs on every Monday of the month.
URL:https://godfreymillercenter.org/event/art-studio-82/
LOCATION:Pavilion
END:VEVENT
BEGIN:VEVENT
DTSTART;TZID=America/New_York:20231120T100000
DTEND;TZID=America/New_York:20231120T120000
DTSTAMP:20260425T115146
CREATED:20231018T175931Z
LAST-MODIFIED:20231018T175931Z
UID:4747-1700474400-1700481600@godfreymillercenter.org
SUMMARY:Jigsaw Puzzles
DESCRIPTION:Escape the heat with and enjoy the air conditioning while working on a jigsaw puzzle with others.  Fresh coffee provided!
URL:https://godfreymillercenter.org/event/jigsaw-puzzles-19/
END:VEVENT
BEGIN:VEVENT
DTSTART;TZID=America/New_York:20231120T080000
DTEND;TZID=America/New_York:20231120T083000
DTSTAMP:20260425T115146
CREATED:20231018T175931Z
LAST-MODIFIED:20231018T175931Z
UID:4745-1700467200-1700469000@godfreymillercenter.org
SUMMARY:Walking Club
DESCRIPTION:Meet in the courtyard of Godfrey Miller Center to walk and socialize around downtown Winchester.
URL:https://godfreymillercenter.org/event/walking-club-55/
END:VEVENT
BEGIN:VEVENT
DTSTART;TZID=America/New_York:20231119T160000
DTEND;TZID=America/New_York:20231119T173000
DTSTAMP:20260425T115146
CREATED:20231018T175931Z
LAST-MODIFIED:20231018T175931Z
UID:4744-1700409600-1700415000@godfreymillercenter.org
SUMMARY:Fall Concert Series: Andrew McKnight Concert
DESCRIPTION:”Beyond Appalachian\, Beyond Blues\, Beyond Folk”  Andrew’s solo performances are like one man theatre; the songs are woven together with humorous stories and poetic drama\, and the musical soundscape traverses influences from Appalachia\, tasteful slide and jazzy blues\, feisty anthems\, rustic folk\, and even a little fancy flatpicking on a Carter Family tune. While his guitar is clearly the foundation for a concert\, the touches of native American cedar flute\, resonator guitar\, djembe (African hand drum) and even mandolin add delightful and mesmerizing embellishments to the show. (Tickets: $15)
URL:https://godfreymillercenter.org/event/fall-concert-series-andrew-mcknight-concert/
LOCATION:Grace Evangelical Lutheran Church (26 W Boscawen St\, Winchester\, VA 22601\, United States)
END:VEVENT
BEGIN:VEVENT
DTSTART;TZID=America/New_York:20231116T140000
DTEND;TZID=America/New_York:20231116T150000
DTSTAMP:20260425T115146
CREATED:20231018T175931Z
LAST-MODIFIED:20231018T175931Z
UID:4743-1700143200-1700146800@godfreymillercenter.org
SUMMARY:Strength and Conditioning Class
DESCRIPTION:This class is designed to increase physical strength through resistance exercise. All major muscle groups are worked from head to toe. We finish with core conditioning\, breathing\, and stretching for a complete workout. Dumbbells are used for each class\, you can bring your own or use ours! Led by Program Coordinator Anna.
URL:https://godfreymillercenter.org/event/strength-and-conditioning-class-104/
LOCATION:Pavilion
END:VEVENT
BEGIN:VEVENT
DTSTART;TZID=America/New_York:20231116T103000
DTEND;TZID=America/New_York:20231116T113000
DTSTAMP:20260425T115146
CREATED:20231018T175931Z
LAST-MODIFIED:20231018T175931Z
UID:4741-1700130600-1700134200@godfreymillercenter.org
SUMMARY:Greens Workshop
DESCRIPTION:Join T. Shafferman for a holiday greens workshop.  This centerpiece will be perfect for Thanksgiving and all through the upcoming holiday season.  All supplies will be provided\, but please bring a pair of clippers if you have some.  (Suggested Donation: $8) \n***RSVP required\, call The Godfrey Miller Center office at 540-667-5869 to reserve your spot.
URL:https://godfreymillercenter.org/event/greens-workshop/
END:VEVENT
END:VCALENDAR