BEGIN:VCALENDAR
VERSION:2.0
PRODID:-//Godfrey Miller Center - ECPv6.15.20//NONSGML v1.0//EN
CALSCALE:GREGORIAN
METHOD:PUBLISH
X-WR-CALNAME:Godfrey Miller Center
X-ORIGINAL-URL:https://godfreymillercenter.org
X-WR-CALDESC:Events for Godfrey Miller Center
REFRESH-INTERVAL;VALUE=DURATION:PT1H
X-Robots-Tag:noindex
X-PUBLISHED-TTL:PT1H
BEGIN:VTIMEZONE
TZID:America/New_York
BEGIN:DAYLIGHT
TZOFFSETFROM:-0500
TZOFFSETTO:-0400
TZNAME:EDT
DTSTART:20240310T070000
END:DAYLIGHT
BEGIN:STANDARD
TZOFFSETFROM:-0400
TZOFFSETTO:-0500
TZNAME:EST
DTSTART:20241103T060000
END:STANDARD
BEGIN:DAYLIGHT
TZOFFSETFROM:-0500
TZOFFSETTO:-0400
TZNAME:EDT
DTSTART:20250309T070000
END:DAYLIGHT
BEGIN:STANDARD
TZOFFSETFROM:-0400
TZOFFSETTO:-0500
TZNAME:EST
DTSTART:20251102T060000
END:STANDARD
BEGIN:DAYLIGHT
TZOFFSETFROM:-0500
TZOFFSETTO:-0400
TZNAME:EDT
DTSTART:20260308T070000
END:DAYLIGHT
BEGIN:STANDARD
TZOFFSETFROM:-0400
TZOFFSETTO:-0500
TZNAME:EST
DTSTART:20261101T060000
END:STANDARD
END:VTIMEZONE
BEGIN:VEVENT
DTSTART;TZID=America/New_York:20251102T100000
DTEND;TZID=America/New_York:20251102T113000
DTSTAMP:20260423T221644
CREATED:20251027T235659Z
LAST-MODIFIED:20251027T235659Z
UID:6734-1762077600-1762083000@godfreymillercenter.org
SUMMARY:Fall Concert Series: John Rutter's Requiem
DESCRIPTION:Join us for Rutter’s 1985 choral work that blends parts of the traditional Latin Requiem Mass with English texts from the Book of Common Prayer and Psalms. Scored for soprano\, mixed choir\, and chamber ensemble\, it is one of Rutter’s most beloved pieces\, known for its contrasting mood shifts between solemnity and hope.
URL:https://godfreymillercenter.org/event/fall-concert-series-john-rutters-requiem/
LOCATION:26 W Boscawen St\, Winchester\, VA\, United States
END:VEVENT
BEGIN:VEVENT
DTSTART;TZID=America/New_York:20251030T140000
DTEND;TZID=America/New_York:20251030T150000
DTSTAMP:20260423T221644
CREATED:20250918T202536Z
LAST-MODIFIED:20250918T202536Z
UID:6681-1761832800-1761836400@godfreymillercenter.org
SUMMARY:Strength & Conditioning
DESCRIPTION:This class is designed to increase physical strength through resistance exercise. All major muscle groups are worked from head to toe. We finish with core conditioning\, breathing\, and stretching for a complete workout. Dumbbells are used for each class\, you can bring your own or use ours! Led by Program Coordinator Anna.
URL:https://godfreymillercenter.org/event/strength-conditioning-147/
LOCATION:28 S Loudoun St (28 S Loudoun St\, Winchester\, Virginia  22601)
END:VEVENT
BEGIN:VEVENT
DTSTART;TZID=America/New_York:20251030T123000
DTEND;TZID=America/New_York:20251030T133000
DTSTAMP:20260423T221644
CREATED:20250918T202536Z
LAST-MODIFIED:20250918T202536Z
UID:6680-1761827400-1761831000@godfreymillercenter.org
SUMMARY:Lunch
DESCRIPTION:***RSVP required\, call The Godfrey Miller Center office at 540-667-5869 to reserve your spot.\nTickets: $10
URL:https://godfreymillercenter.org/event/lunch-215/
LOCATION:28 S Loudoun St (28 S Loudoun St\, Winchester\, Virginia  22601)
END:VEVENT
BEGIN:VEVENT
DTSTART;TZID=America/New_York:20251030T103000
DTEND;TZID=America/New_York:20251030T113000
DTSTAMP:20260423T221644
CREATED:20250918T202536Z
LAST-MODIFIED:20250918T202536Z
UID:6678-1761820200-1761823800@godfreymillercenter.org
SUMMARY:Halloween Bingo
DESCRIPTION:Come have a spooky good time winning some useful prizes! \n***RSVP required\, call The Godfrey Miller Center office at 540-667-5869 to reserve your spot.
URL:https://godfreymillercenter.org/event/halloween-bingo/
LOCATION:28 S Loudoun St\, Winchester\, VA\, United States
END:VEVENT
BEGIN:VEVENT
DTSTART;TZID=America/New_York:20251030T100000
DTEND;TZID=America/New_York:20251030T120000
DTSTAMP:20260423T221644
CREATED:20250918T202536Z
LAST-MODIFIED:20250918T202536Z
UID:6679-1761818400-1761825600@godfreymillercenter.org
SUMMARY:Mahjong
DESCRIPTION:All are welcome!
URL:https://godfreymillercenter.org/event/mahjong-157/
LOCATION:28 S Loudoun St (28 S Loudoun St\, Winchester\, Virginia  22601)
END:VEVENT
BEGIN:VEVENT
DTSTART;TZID=America/New_York:20251029T140000
DTEND;TZID=America/New_York:20251029T150000
DTSTAMP:20260423T221644
CREATED:20250918T202536Z
LAST-MODIFIED:20250918T202536Z
UID:6676-1761746400-1761750000@godfreymillercenter.org
SUMMARY:Exercise for Balance & Strength
DESCRIPTION:A low-impact program that includes joint check/warm-up\, range of motion/stretching\, strengthening\, cardiovascular endurance\, and joint check/cool down. Led by Sonna Russell. Ms. Russell is a gifted coach and was trained through the Arthritis Foundation. (Suggested donation – $3.00)
URL:https://godfreymillercenter.org/event/exercise-for-balance-strength-161/
LOCATION:28 S Loudoun St (28 S Loudoun St\, Winchester\, Virginia  22601)
END:VEVENT
BEGIN:VEVENT
DTSTART;TZID=America/New_York:20251029T123000
DTEND;TZID=America/New_York:20251029T133000
DTSTAMP:20260423T221644
CREATED:20250918T202535Z
LAST-MODIFIED:20250918T202535Z
UID:6675-1761741000-1761744600@godfreymillercenter.org
SUMMARY:Lunch
DESCRIPTION:***RSVP required\, call The Godfrey Miller Center office at 540-667-5869 to reserve your spot.\nTickets: $10
URL:https://godfreymillercenter.org/event/lunch-214/
LOCATION:28 S Loudoun St (28 S Loudoun St\, Winchester\, Virginia  22601)
END:VEVENT
BEGIN:VEVENT
DTSTART;TZID=America/New_York:20251029T103000
DTEND;TZID=America/New_York:20251029T113000
DTSTAMP:20260423T221644
CREATED:20250918T202535Z
LAST-MODIFIED:20250918T202535Z
UID:6674-1761733800-1761737400@godfreymillercenter.org
SUMMARY:Workshop: Diamond Art
DESCRIPTION:Come make a unique diamond art craft!  Instructions and supplies are provided.  (Suggested Donation: $5) \n***RSVP required\, call The Godfrey Miller Center office at 540-667-5869 to reserve your spot.
URL:https://godfreymillercenter.org/event/workshop-diamond-art-8/
LOCATION:28 S Loudoun St\, Winchester\, VA\, United States
END:VEVENT
BEGIN:VEVENT
DTSTART;TZID=America/New_York:20251028T140000
DTEND;TZID=America/New_York:20251028T150000
DTSTAMP:20260423T221644
CREATED:20250918T202535Z
LAST-MODIFIED:20250918T202535Z
UID:6672-1761660000-1761663600@godfreymillercenter.org
SUMMARY:Strength & Conditioning
DESCRIPTION:This class is designed to increase physical strength through resistance exercise. All major muscle groups are worked from head to toe. We finish with core conditioning\, breathing\, and stretching for a complete workout. Dumbbells are used for each class\, you can bring your own or use ours! Led by Program Coordinator Anna.
URL:https://godfreymillercenter.org/event/strength-conditioning-146/
LOCATION:28 S Loudoun St (28 S Loudoun St\, Winchester\, Virginia  22601)
END:VEVENT
BEGIN:VEVENT
DTSTART;TZID=America/New_York:20251028T130000
DTEND;TZID=America/New_York:20251028T150000
DTSTAMP:20260423T221644
CREATED:20250918T202535Z
LAST-MODIFIED:20250918T202535Z
UID:6673-1761656400-1761663600@godfreymillercenter.org
SUMMARY:Art Class: Drawing
DESCRIPTION:***RSVP required\, call The Godfrey Miller Center office at 540-667-5869 to reserve your spot.   \nIn this course\, students will improve drawing skills through using a combination of mediums such as graphite\, charcoal\, pen\, and ink.  Students will have their choice of mediums to help define their styles. Taught by Artist Tracy Burk. (Suggested donation: $15 per class)
URL:https://godfreymillercenter.org/event/art-class-drawing-83/
LOCATION:28 S Loudoun St (28 S Loudoun St\, Winchester\, Virginia  22601)
END:VEVENT
BEGIN:VEVENT
DTSTART;TZID=America/New_York:20251028T100000
DTEND;TZID=America/New_York:20251028T120000
DTSTAMP:20260423T221644
CREATED:20250918T202535Z
LAST-MODIFIED:20250918T202535Z
UID:6670-1761645600-1761652800@godfreymillercenter.org
SUMMARY:Samba & Hand and Foot
DESCRIPTION:All are welcome to come and play cards!
URL:https://godfreymillercenter.org/event/samba-hand-and-foot-17/
LOCATION:28 S Loudoun St (28 S Loudoun St\, Winchester\, Virginia  22601)
END:VEVENT
BEGIN:VEVENT
DTSTART;TZID=America/New_York:20251028T100000
DTEND;TZID=America/New_York:20251028T120000
DTSTAMP:20260423T221644
CREATED:20250918T202535Z
LAST-MODIFIED:20250918T202535Z
UID:6671-1761645600-1761652800@godfreymillercenter.org
SUMMARY:Art Class: Acrylic & Watercolor Painting
DESCRIPTION:***RSVP required\, call The Godfrey Miller Center office at 540-667-5869 to reserve your spot.   \nIn this course\, students will develop painting skills\, techniques\, and aesthetic sensibilities related to artistic expression in acrylic and/or watercolor mediums. Taught by Artist Tracy Burk. (Suggested donation: $15 per class)
URL:https://godfreymillercenter.org/event/art-class-acrylic-watercolor-painting-80/
LOCATION:28 S Loudoun St (28 S Loudoun St\, Winchester\, Virginia  22601)
END:VEVENT
BEGIN:VEVENT
DTSTART;TZID=America/New_York:20251027T140000
DTEND;TZID=America/New_York:20251027T150000
DTSTAMP:20260423T221644
CREATED:20250918T202535Z
LAST-MODIFIED:20250918T202535Z
UID:6669-1761573600-1761577200@godfreymillercenter.org
SUMMARY:Exercise for Balance & Strength
DESCRIPTION:A low-impact program that includes joint check/warm-up\, range of motion/stretching\, strengthening\, cardiovascular endurance\, and joint check/cool down. Led by Sonna Russell. Ms. Russell is a gifted coach and was trained through the Arthritis Foundation. (Suggested donation – $3.00)
URL:https://godfreymillercenter.org/event/exercise-for-balance-strength-160/
LOCATION:28 S Loudoun St (28 S Loudoun St\, Winchester\, Virginia  22601)
END:VEVENT
BEGIN:VEVENT
DTSTART;TZID=America/New_York:20251027T123000
DTEND;TZID=America/New_York:20251027T133000
DTSTAMP:20260423T221644
CREATED:20250918T202534Z
LAST-MODIFIED:20250918T202534Z
UID:6668-1761568200-1761571800@godfreymillercenter.org
SUMMARY:Lunch
DESCRIPTION:***RSVP required\, call The Godfrey Miller Center office at 540-667-5869 to reserve your spot.\nTickets: $10
URL:https://godfreymillercenter.org/event/lunch-213/
LOCATION:28 S Loudoun St (28 S Loudoun St\, Winchester\, Virginia  22601)
END:VEVENT
BEGIN:VEVENT
DTSTART;TZID=America/New_York:20251027T110000
DTEND;TZID=America/New_York:20251027T120000
DTSTAMP:20260423T221644
CREATED:20250918T202534Z
LAST-MODIFIED:20250918T202534Z
UID:6665-1761562800-1761566400@godfreymillercenter.org
SUMMARY:Seated Yoga
DESCRIPTION:Join yoga instructor\, Debbie Coulson\, for a seated chair yoga session.  All are welcome – including beginners! (Suggested Donation: $3)
URL:https://godfreymillercenter.org/event/seated-yoga-16/
LOCATION:28 S Loudoun St\, Winchester\, VA\, United States
END:VEVENT
BEGIN:VEVENT
DTSTART;TZID=America/New_York:20251027T103000
DTEND;TZID=America/New_York:20251027T113000
DTSTAMP:20260423T221644
CREATED:20250918T202534Z
LAST-MODIFIED:20250918T202534Z
UID:6666-1761561000-1761564600@godfreymillercenter.org
SUMMARY:Android Smart Phone Help Session
DESCRIPTION:Join Program Coordinator Anna for help with your smart phone.  Bring your device\, account passwords\, and any questions!
URL:https://godfreymillercenter.org/event/android-smart-phone-help-session-22/
LOCATION:28 S Loudoun St\, Winchester\, VA\, United States
END:VEVENT
BEGIN:VEVENT
DTSTART;TZID=America/New_York:20251027T100000
DTEND;TZID=America/New_York:20251027T120000
DTSTAMP:20260423T221644
CREATED:20250918T202534Z
LAST-MODIFIED:20250918T202534Z
UID:6667-1761559200-1761566400@godfreymillercenter.org
SUMMARY:Art Studio
DESCRIPTION:Art Studio is an open time for individuals to gather and work on their various art projects.  This is a social opportunity for artists of all levels to help each other and work independently. Recurs on every Monday of the month.
URL:https://godfreymillercenter.org/event/art-studio-150/
LOCATION:28 S Loudoun St (28 S Loudoun St\, Winchester\, Virginia  22601)
END:VEVENT
BEGIN:VEVENT
DTSTART;TZID=America/New_York:20251027T100000
DTEND;TZID=America/New_York:20251027T110000
DTSTAMP:20260423T221644
CREATED:20250918T202534Z
LAST-MODIFIED:20250918T202534Z
UID:6664-1761559200-1761562800@godfreymillercenter.org
SUMMARY:Jigsaw Puzzles
DESCRIPTION:
URL:https://godfreymillercenter.org/event/jigsaw-puzzles-86/
LOCATION:28 S Loudoun St (28 S Loudoun St\, Winchester\, Virginia  22601)
END:VEVENT
BEGIN:VEVENT
DTSTART;TZID=America/New_York:20251023T140000
DTEND;TZID=America/New_York:20251023T150000
DTSTAMP:20260423T221644
CREATED:20250918T202534Z
LAST-MODIFIED:20250918T202534Z
UID:6663-1761228000-1761231600@godfreymillercenter.org
SUMMARY:Strength & Conditioning
DESCRIPTION:This class is designed to increase physical strength through resistance exercise. All major muscle groups are worked from head to toe. We finish with core conditioning\, breathing\, and stretching for a complete workout. Dumbbells are used for each class\, you can bring your own or use ours! Led by Program Coordinator Anna.
URL:https://godfreymillercenter.org/event/strength-conditioning-145/
LOCATION:28 S Loudoun St (28 S Loudoun St\, Winchester\, Virginia  22601)
END:VEVENT
BEGIN:VEVENT
DTSTART;TZID=America/New_York:20251023T123000
DTEND;TZID=America/New_York:20251023T133000
DTSTAMP:20260423T221644
CREATED:20250918T202534Z
LAST-MODIFIED:20250918T202534Z
UID:6662-1761222600-1761226200@godfreymillercenter.org
SUMMARY:Lunch
DESCRIPTION:***RSVP required\, call The Godfrey Miller Center office at 540-667-5869 to reserve your spot.\nTickets: $10
URL:https://godfreymillercenter.org/event/lunch-212/
LOCATION:28 S Loudoun St (28 S Loudoun St\, Winchester\, Virginia  22601)
END:VEVENT
BEGIN:VEVENT
DTSTART;TZID=America/New_York:20251023T100000
DTEND;TZID=America/New_York:20251023T120000
DTSTAMP:20260423T221644
CREATED:20250918T202534Z
LAST-MODIFIED:20250918T202534Z
UID:6661-1761213600-1761220800@godfreymillercenter.org
SUMMARY:Mahjong
DESCRIPTION:All are welcome!
URL:https://godfreymillercenter.org/event/mahjong-156/
LOCATION:28 S Loudoun St (28 S Loudoun St\, Winchester\, Virginia  22601)
END:VEVENT
BEGIN:VEVENT
DTSTART;TZID=America/New_York:20251022T140000
DTEND;TZID=America/New_York:20251022T150000
DTSTAMP:20260423T221644
CREATED:20250918T202533Z
LAST-MODIFIED:20250918T202533Z
UID:6660-1761141600-1761145200@godfreymillercenter.org
SUMMARY:Exercise for Balance & Strength
DESCRIPTION:A low-impact program that includes joint check/warm-up\, range of motion/stretching\, strengthening\, cardiovascular endurance\, and joint check/cool down. Led by Sonna Russell. Ms. Russell is a gifted coach and was trained through the Arthritis Foundation. (Suggested donation – $3.00)
URL:https://godfreymillercenter.org/event/exercise-for-balance-strength-159/
LOCATION:28 S Loudoun St (28 S Loudoun St\, Winchester\, Virginia  22601)
END:VEVENT
BEGIN:VEVENT
DTSTART;TZID=America/New_York:20251022T123000
DTEND;TZID=America/New_York:20251022T133000
DTSTAMP:20260423T221644
CREATED:20250918T202533Z
LAST-MODIFIED:20250918T202533Z
UID:6659-1761136200-1761139800@godfreymillercenter.org
SUMMARY:Lunch
DESCRIPTION:***RSVP required\, call The Godfrey Miller Center office at 540-667-5869 to reserve your spot.\nTickets: $10
URL:https://godfreymillercenter.org/event/lunch-211/
LOCATION:28 S Loudoun St (28 S Loudoun St\, Winchester\, Virginia  22601)
END:VEVENT
BEGIN:VEVENT
DTSTART;TZID=America/New_York:20251022T103000
DTEND;TZID=America/New_York:20251022T113000
DTSTAMP:20260423T221644
CREATED:20250918T202533Z
LAST-MODIFIED:20250918T202533Z
UID:6658-1761129000-1761132600@godfreymillercenter.org
SUMMARY:Workshop: Halloween Greeting Cards
DESCRIPTION:Join Lorraine for a custom greeting card workshop!  This workshop will guide you through making custom Halloween greeting cards.  (Suggested Donation: $6) \n***RSVP required\, call The Godfrey Miller Center office at 540-667-5869 to reserve your spot.
URL:https://godfreymillercenter.org/event/workshop-halloween-greeting-cards/
LOCATION:28 S Loudoun St\, Winchester\, VA\, United States
END:VEVENT
BEGIN:VEVENT
DTSTART;TZID=America/New_York:20251021T140000
DTEND;TZID=America/New_York:20251021T150000
DTSTAMP:20260423T221644
CREATED:20250918T202533Z
LAST-MODIFIED:20250918T202533Z
UID:6656-1761055200-1761058800@godfreymillercenter.org
SUMMARY:Strength & Conditioning
DESCRIPTION:This class is designed to increase physical strength through resistance exercise. All major muscle groups are worked from head to toe. We finish with core conditioning\, breathing\, and stretching for a complete workout. Dumbbells are used for each class\, you can bring your own or use ours! Led by Program Coordinator Anna.
URL:https://godfreymillercenter.org/event/strength-conditioning-144/
LOCATION:28 S Loudoun St (28 S Loudoun St\, Winchester\, Virginia  22601)
END:VEVENT
BEGIN:VEVENT
DTSTART;TZID=America/New_York:20251021T130000
DTEND;TZID=America/New_York:20251021T150000
DTSTAMP:20260423T221644
CREATED:20250918T202533Z
LAST-MODIFIED:20250918T202533Z
UID:6657-1761051600-1761058800@godfreymillercenter.org
SUMMARY:Art Class: Drawing
DESCRIPTION:***RSVP required\, call The Godfrey Miller Center office at 540-667-5869 to reserve your spot.   \nIn this course\, students will improve drawing skills through using a combination of mediums such as graphite\, charcoal\, pen\, and ink.  Students will have their choice of mediums to help define their styles. Taught by Artist Tracy Burk. (Suggested donation: $15 per class)
URL:https://godfreymillercenter.org/event/art-class-drawing-82/
LOCATION:28 S Loudoun St (28 S Loudoun St\, Winchester\, Virginia  22601)
END:VEVENT
BEGIN:VEVENT
DTSTART;TZID=America/New_York:20251021T100000
DTEND;TZID=America/New_York:20251021T120000
DTSTAMP:20260423T221644
CREATED:20250918T202533Z
LAST-MODIFIED:20250918T202533Z
UID:6654-1761040800-1761048000@godfreymillercenter.org
SUMMARY:Art Class: Acrylic & Watercolor Painting
DESCRIPTION:***RSVP required\, call The Godfrey Miller Center office at 540-667-5869 to reserve your spot.   \nIn this course\, students will develop painting skills\, techniques\, and aesthetic sensibilities related to artistic expression in acrylic and/or watercolor mediums. Taught by Artist Tracy Burk. (Suggested donation: $15 per class)
URL:https://godfreymillercenter.org/event/art-class-acrylic-watercolor-painting-79/
LOCATION:28 S Loudoun St (28 S Loudoun St\, Winchester\, Virginia  22601)
END:VEVENT
BEGIN:VEVENT
DTSTART;TZID=America/New_York:20251021T100000
DTEND;TZID=America/New_York:20251021T120000
DTSTAMP:20260423T221644
CREATED:20250918T202533Z
LAST-MODIFIED:20250918T202533Z
UID:6655-1761040800-1761048000@godfreymillercenter.org
SUMMARY:Samba & Hand and Foot
DESCRIPTION:All are welcome to come and play cards!
URL:https://godfreymillercenter.org/event/samba-hand-and-foot-16/
LOCATION:28 S Loudoun St (28 S Loudoun St\, Winchester\, Virginia  22601)
END:VEVENT
BEGIN:VEVENT
DTSTART;TZID=America/New_York:20251020T140000
DTEND;TZID=America/New_York:20251020T150000
DTSTAMP:20260423T221644
CREATED:20250918T202532Z
LAST-MODIFIED:20250918T202532Z
UID:6653-1760968800-1760972400@godfreymillercenter.org
SUMMARY:Exercise for Balance & Strength
DESCRIPTION:A low-impact program that includes joint check/warm-up\, range of motion/stretching\, strengthening\, cardiovascular endurance\, and joint check/cool down. Led by Sonna Russell. Ms. Russell is a gifted coach and was trained through the Arthritis Foundation. (Suggested donation – $3.00)
URL:https://godfreymillercenter.org/event/exercise-for-balance-strength-158/
LOCATION:28 S Loudoun St (28 S Loudoun St\, Winchester\, Virginia  22601)
END:VEVENT
BEGIN:VEVENT
DTSTART;TZID=America/New_York:20251020T123000
DTEND;TZID=America/New_York:20251020T133000
DTSTAMP:20260423T221644
CREATED:20250918T202532Z
LAST-MODIFIED:20250918T202532Z
UID:6652-1760963400-1760967000@godfreymillercenter.org
SUMMARY:Lunch
DESCRIPTION:***RSVP required\, call The Godfrey Miller Center office at 540-667-5869 to reserve your spot.\nTickets: $10
URL:https://godfreymillercenter.org/event/lunch-210/
LOCATION:28 S Loudoun St (28 S Loudoun St\, Winchester\, Virginia  22601)
END:VEVENT
END:VCALENDAR