BEGIN:VCALENDAR
VERSION:2.0
PRODID:-//Godfrey Miller Center - ECPv6.15.20//NONSGML v1.0//EN
CALSCALE:GREGORIAN
METHOD:PUBLISH
X-WR-CALNAME:Godfrey Miller Center
X-ORIGINAL-URL:https://godfreymillercenter.org
X-WR-CALDESC:Events for Godfrey Miller Center
REFRESH-INTERVAL;VALUE=DURATION:PT1H
X-Robots-Tag:noindex
X-PUBLISHED-TTL:PT1H
BEGIN:VTIMEZONE
TZID:America/New_York
BEGIN:DAYLIGHT
TZOFFSETFROM:-0500
TZOFFSETTO:-0400
TZNAME:EDT
DTSTART:20240310T070000
END:DAYLIGHT
BEGIN:STANDARD
TZOFFSETFROM:-0400
TZOFFSETTO:-0500
TZNAME:EST
DTSTART:20241103T060000
END:STANDARD
BEGIN:DAYLIGHT
TZOFFSETFROM:-0500
TZOFFSETTO:-0400
TZNAME:EDT
DTSTART:20250309T070000
END:DAYLIGHT
BEGIN:STANDARD
TZOFFSETFROM:-0400
TZOFFSETTO:-0500
TZNAME:EST
DTSTART:20251102T060000
END:STANDARD
BEGIN:DAYLIGHT
TZOFFSETFROM:-0500
TZOFFSETTO:-0400
TZNAME:EDT
DTSTART:20260308T070000
END:DAYLIGHT
BEGIN:STANDARD
TZOFFSETFROM:-0400
TZOFFSETTO:-0500
TZNAME:EST
DTSTART:20261101T060000
END:STANDARD
END:VTIMEZONE
BEGIN:VEVENT
DTSTART;TZID=America/New_York:20251130T160000
DTEND;TZID=America/New_York:20251130T170000
DTSTAMP:20260423T190700
CREATED:20251027T235708Z
LAST-MODIFIED:20251027T235708Z
UID:6779-1764518400-1764522000@godfreymillercenter.org
SUMMARY:Fall Concert Series: Andrew McKnight & Beyond Borders
DESCRIPTION:Award-winning singer/songwriter Andrew McKnight’s music traverses influences from Appalachia\, tasteful slide and jazzy blues\, feisty anthems\, rustic folk\, and guitar-driven rock.   Valuing the artistry of taut arrangements over flashy instrumental jams\, they have earned acclaim for their exquisite 3- and 4-part vocal  harmonies as well as the unusual and constantly changing combinations of instruments.  Join us for an evening of blues and folk. (Tickets: $15)
URL:https://godfreymillercenter.org/event/fall-concert-series-andrew-mcknight-beyond-borders/
LOCATION:26 W Boscawen St\, Winchester\, VA\, United States
END:VEVENT
BEGIN:VEVENT
DTSTART;TZID=America/New_York:20251127T100000
DTEND;TZID=America/New_York:20251127T150000
DTSTAMP:20260423T190700
CREATED:20251027T235708Z
LAST-MODIFIED:20251027T235708Z
UID:6778-1764237600-1764255600@godfreymillercenter.org
SUMMARY:Closed for Thanksgiving Holiday
DESCRIPTION:
URL:https://godfreymillercenter.org/event/closed-for-thanksgiving-holiday/
LOCATION:28 S Loudoun St\, Winchester\, VA\, United States
END:VEVENT
BEGIN:VEVENT
DTSTART;TZID=America/New_York:20251126T140000
DTEND;TZID=America/New_York:20251126T150000
DTSTAMP:20260423T190700
CREATED:20251027T235708Z
LAST-MODIFIED:20251027T235708Z
UID:6777-1764165600-1764169200@godfreymillercenter.org
SUMMARY:Exercise for Balance & Strength
DESCRIPTION:A low-impact program that includes joint check/warm-up\, range of motion/stretching\, strengthening\, cardiovascular endurance\, and joint check/cool down. Led by Sonna Russell. Ms. Russell is a gifted coach and was trained through the Arthritis Foundation. (Suggested donation – $3.00)
URL:https://godfreymillercenter.org/event/exercise-for-balance-strength-169/
LOCATION:28 S Loudoun St (28 S Loudoun St\, Winchester\, Virginia  22601)
END:VEVENT
BEGIN:VEVENT
DTSTART;TZID=America/New_York:20251126T123000
DTEND;TZID=America/New_York:20251126T133000
DTSTAMP:20260423T190700
CREATED:20251027T235707Z
LAST-MODIFIED:20251027T235707Z
UID:6776-1764160200-1764163800@godfreymillercenter.org
SUMMARY:Lunch
DESCRIPTION:***RSVP required\, call The Godfrey Miller Center office at 540-667-5869 to reserve your spot.\nTickets: $10
URL:https://godfreymillercenter.org/event/lunch-226/
LOCATION:28 S Loudoun St (28 S Loudoun St\, Winchester\, Virginia  22601)
END:VEVENT
BEGIN:VEVENT
DTSTART;TZID=America/New_York:20251126T110000
DTEND;TZID=America/New_York:20251126T120000
DTSTAMP:20260423T190700
CREATED:20251027T235707Z
LAST-MODIFIED:20251027T235707Z
UID:6775-1764154800-1764158400@godfreymillercenter.org
SUMMARY:Practical Tai Chi
DESCRIPTION:Adrian’s Practical Tai Chi classes are a blend of tai chi and qigong\, meant to get the practitioner connected into their own body. The focus is on proper body structure and grounding\, while different series of movements are performed. Attendees can expect to feel more grounded\, relaxed\, and rejuvenated after each class. Limited-mobility friendly! (Suggested Donation: $3)
URL:https://godfreymillercenter.org/event/practical-tai-chi-21/
LOCATION:28 S Loudoun St\, Winchester\, VA\, United States
END:VEVENT
BEGIN:VEVENT
DTSTART;TZID=America/New_York:20251125T130000
DTEND;TZID=America/New_York:20251125T150000
DTSTAMP:20260423T190700
CREATED:20251028T002756Z
LAST-MODIFIED:20251028T002756Z
UID:6799-1764075600-1764082800@godfreymillercenter.org
SUMMARY:Art Class: Drawing
DESCRIPTION:In this course\, students will improve drawing skills through using a combination of mediums such as graphite\, charcoal\, pen\, and ink. Students will have their choice of mediums to help define their styles. Taught by master artist Tracy Burke. (Suggested donation: $15 per class) \nRSVP Required at 540-667-5869
URL:https://godfreymillercenter.org/event/art-class-drawing-85/
LOCATION:28 S Loudoun St (28 S Loudoun St\, Winchester\, Virginia  22601)
END:VEVENT
BEGIN:VEVENT
DTSTART;TZID=America/New_York:20251125T130000
DTEND;TZID=America/New_York:20251125T143000
DTSTAMP:20260423T190700
CREATED:20251027T235707Z
LAST-MODIFIED:20251027T235707Z
UID:6774-1764075600-1764081000@godfreymillercenter.org
SUMMARY:Greens Workshop
DESCRIPTION:Join T. Shafferman for a holiday greens workshop.  This centerpiece will be perfect for Thanksgiving and all through the upcoming holiday season.  All supplies will be provided\, but please bring a pair of clippers if you have some.  (Suggested Donation: $10) \n***RSVP required\, call The Godfrey Miller Center office at 540-667-5869 to reserve your spot.
URL:https://godfreymillercenter.org/event/greens-workshop-3/
LOCATION:28 S Loudoun St\, Winchester\, VA\, United States
END:VEVENT
BEGIN:VEVENT
DTSTART;TZID=America/New_York:20251125T100000
DTEND;TZID=America/New_York:20251125T120000
DTSTAMP:20260423T190700
CREATED:20251028T002702Z
LAST-MODIFIED:20251028T002826Z
UID:6797-1764064800-1764072000@godfreymillercenter.org
SUMMARY:Art Class: Acrylic & Watercolor Painting
DESCRIPTION:In this course\, students will develop painting skills\, techniques\, and aesthetic sensibilities related to artistic expression in acrylic and/or watercolor mediums. Each week will focus on a different subject\, emphasizing color and composition\, and enabling students to expand and better define their unique style and technique. Taught by master artist Tracy Burke. (Suggested donation: $15 per class) \nRSVP Required at 540-667-5869
URL:https://godfreymillercenter.org/event/art-class-acrylic-watercolor-painting-81/
LOCATION:28 S Loudoun St (28 S Loudoun St\, Winchester\, Virginia  22601)
END:VEVENT
BEGIN:VEVENT
DTSTART;TZID=America/New_York:20251125T100000
DTEND;TZID=America/New_York:20251125T120000
DTSTAMP:20260423T190700
CREATED:20251027T235707Z
LAST-MODIFIED:20251027T235707Z
UID:6773-1764064800-1764072000@godfreymillercenter.org
SUMMARY:Samba & Hand and Foot
DESCRIPTION:All are welcome to come and play cards!
URL:https://godfreymillercenter.org/event/samba-hand-and-foot-21/
LOCATION:28 S Loudoun St (28 S Loudoun St\, Winchester\, Virginia  22601)
END:VEVENT
BEGIN:VEVENT
DTSTART;TZID=America/New_York:20251124T140000
DTEND;TZID=America/New_York:20251124T150000
DTSTAMP:20260423T190700
CREATED:20251027T235707Z
LAST-MODIFIED:20251027T235707Z
UID:6772-1763992800-1763996400@godfreymillercenter.org
SUMMARY:Exercise for Balance & Strength
DESCRIPTION:A low-impact program that includes joint check/warm-up\, range of motion/stretching\, strengthening\, cardiovascular endurance\, and joint check/cool down. Led by Sonna Russell. Ms. Russell is a gifted coach and was trained through the Arthritis Foundation. (Suggested donation – $3.00)
URL:https://godfreymillercenter.org/event/exercise-for-balance-strength-168/
LOCATION:28 S Loudoun St (28 S Loudoun St\, Winchester\, Virginia  22601)
END:VEVENT
BEGIN:VEVENT
DTSTART;TZID=America/New_York:20251124T123000
DTEND;TZID=America/New_York:20251124T133000
DTSTAMP:20260423T190700
CREATED:20251027T235707Z
LAST-MODIFIED:20251027T235707Z
UID:6771-1763987400-1763991000@godfreymillercenter.org
SUMMARY:Lunch
DESCRIPTION:***RSVP required\, call The Godfrey Miller Center office at 540-667-5869 to reserve your spot.\nTickets: $10
URL:https://godfreymillercenter.org/event/lunch-225/
LOCATION:28 S Loudoun St (28 S Loudoun St\, Winchester\, Virginia  22601)
END:VEVENT
BEGIN:VEVENT
DTSTART;TZID=America/New_York:20251124T103000
DTEND;TZID=America/New_York:20251124T113000
DTSTAMP:20260423T190700
CREATED:20251027T235707Z
LAST-MODIFIED:20251027T235707Z
UID:6770-1763980200-1763983800@godfreymillercenter.org
SUMMARY:iPhone Help Session
DESCRIPTION:Join Program Coordinator Anna for help with your smart phone.  Bring your device\, account passwords\, and any questions!
URL:https://godfreymillercenter.org/event/iphone-help-session-24/
LOCATION:28 S Loudoun St\, Winchester\, VA\, United States
END:VEVENT
BEGIN:VEVENT
DTSTART;TZID=America/New_York:20251124T100000
DTEND;TZID=America/New_York:20251124T120000
DTSTAMP:20260423T190700
CREATED:20251027T235706Z
LAST-MODIFIED:20251027T235706Z
UID:6769-1763978400-1763985600@godfreymillercenter.org
SUMMARY:Art Studio
DESCRIPTION:Art Studio is an open time for individuals to gather and work on their various art projects.  This is a social opportunity for artists of all levels to help each other and work independently. Recurs on every Monday of the month.
URL:https://godfreymillercenter.org/event/art-studio-155/
LOCATION:28 S Loudoun St (28 S Loudoun St\, Winchester\, Virginia  22601)
END:VEVENT
BEGIN:VEVENT
DTSTART;TZID=America/New_York:20251124T100000
DTEND;TZID=America/New_York:20251124T110000
DTSTAMP:20260423T190700
CREATED:20251027T235706Z
LAST-MODIFIED:20251027T235706Z
UID:6768-1763978400-1763982000@godfreymillercenter.org
SUMMARY:Jigsaw Puzzles
DESCRIPTION:
URL:https://godfreymillercenter.org/event/jigsaw-puzzles-90/
LOCATION:28 S Loudoun St (28 S Loudoun St\, Winchester\, Virginia  22601)
END:VEVENT
BEGIN:VEVENT
DTSTART;TZID=America/New_York:20251120T140000
DTEND;TZID=America/New_York:20251120T150000
DTSTAMP:20260423T190700
CREATED:20251027T235706Z
LAST-MODIFIED:20251027T235706Z
UID:6767-1763647200-1763650800@godfreymillercenter.org
SUMMARY:Strength & Conditioning
DESCRIPTION:This class is designed to increase physical strength through resistance exercise. All major muscle groups are worked from head to toe. We finish with core conditioning\, breathing\, and stretching for a complete workout. Dumbbells are used for each class\, you can bring your own or use ours! Led by Program Coordinator Anna.
URL:https://godfreymillercenter.org/event/strength-conditioning-152/
LOCATION:28 S Loudoun St (28 S Loudoun St\, Winchester\, Virginia  22601)
END:VEVENT
BEGIN:VEVENT
DTSTART;TZID=America/New_York:20251120T123000
DTEND;TZID=America/New_York:20251120T133000
DTSTAMP:20260423T190700
CREATED:20251027T235706Z
LAST-MODIFIED:20251027T235706Z
UID:6766-1763641800-1763645400@godfreymillercenter.org
SUMMARY:Lunch
DESCRIPTION:***RSVP required\, call The Godfrey Miller Center office at 540-667-5869 to reserve your spot.\nTickets: $10
URL:https://godfreymillercenter.org/event/lunch-224/
LOCATION:28 S Loudoun St (28 S Loudoun St\, Winchester\, Virginia  22601)
END:VEVENT
BEGIN:VEVENT
DTSTART;TZID=America/New_York:20251120T100000
DTEND;TZID=America/New_York:20251120T120000
DTSTAMP:20260423T190700
CREATED:20251027T235705Z
LAST-MODIFIED:20251027T235705Z
UID:6765-1763632800-1763640000@godfreymillercenter.org
SUMMARY:Mahjong
DESCRIPTION:Weekly on Thursdays at 10:00am.  All are welcome!
URL:https://godfreymillercenter.org/event/mahjong-160/
LOCATION:28 S Loudoun St\, Winchester\, VA\, United States
END:VEVENT
BEGIN:VEVENT
DTSTART;TZID=America/New_York:20251119T140000
DTEND;TZID=America/New_York:20251119T150000
DTSTAMP:20260423T190700
CREATED:20251027T235705Z
LAST-MODIFIED:20251027T235705Z
UID:6764-1763560800-1763564400@godfreymillercenter.org
SUMMARY:Exercise for Balance & Strength
DESCRIPTION:A low-impact program that includes joint check/warm-up\, range of motion/stretching\, strengthening\, cardiovascular endurance\, and joint check/cool down. Led by Sonna Russell. Ms. Russell is a gifted coach and was trained through the Arthritis Foundation. (Suggested donation – $3.00)
URL:https://godfreymillercenter.org/event/exercise-for-balance-strength-167/
LOCATION:28 S Loudoun St (28 S Loudoun St\, Winchester\, Virginia  22601)
END:VEVENT
BEGIN:VEVENT
DTSTART;TZID=America/New_York:20251119T123000
DTEND;TZID=America/New_York:20251119T133000
DTSTAMP:20260423T190700
CREATED:20251027T235705Z
LAST-MODIFIED:20251027T235705Z
UID:6763-1763555400-1763559000@godfreymillercenter.org
SUMMARY:Lunch
DESCRIPTION:***RSVP required\, call The Godfrey Miller Center office at 540-667-5869 to reserve your spot.\nTickets: $10
URL:https://godfreymillercenter.org/event/lunch-223/
LOCATION:28 S Loudoun St (28 S Loudoun St\, Winchester\, Virginia  22601)
END:VEVENT
BEGIN:VEVENT
DTSTART;TZID=America/New_York:20251119T103000
DTEND;TZID=America/New_York:20251119T113000
DTSTAMP:20260423T190700
CREATED:20251027T235705Z
LAST-MODIFIED:20251027T235705Z
UID:6762-1763548200-1763551800@godfreymillercenter.org
SUMMARY:Workshop: Holiday Greeting Cards
DESCRIPTION:Join Lorraine for a custom greeting card workshop!  This workshop will guide you through making themed greeting cards for the upcoming holiday season.  (Suggested Donation: $6) \n***RSVP required\, call The Godfrey Miller Center office at 540-667-5869 to reserve your spot.
URL:https://godfreymillercenter.org/event/workshop-holiday-greeting-cards-3/
LOCATION:28 S Loudoun St\, Winchester\, VA\, United States
END:VEVENT
BEGIN:VEVENT
DTSTART;TZID=America/New_York:20251118T140000
DTEND;TZID=America/New_York:20251118T150000
DTSTAMP:20260423T190700
CREATED:20251027T235705Z
LAST-MODIFIED:20251027T235705Z
UID:6761-1763474400-1763478000@godfreymillercenter.org
SUMMARY:Strength & Conditioning
DESCRIPTION:This class is designed to increase physical strength through resistance exercise. All major muscle groups are worked from head to toe. We finish with core conditioning\, breathing\, and stretching for a complete workout. Dumbbells are used for each class\, you can bring your own or use ours! Led by Program Coordinator Anna.
URL:https://godfreymillercenter.org/event/strength-conditioning-151/
LOCATION:28 S Loudoun St (28 S Loudoun St\, Winchester\, Virginia  22601)
END:VEVENT
BEGIN:VEVENT
DTSTART;TZID=America/New_York:20251118T100000
DTEND;TZID=America/New_York:20251118T120000
DTSTAMP:20260423T190700
CREATED:20251027T235705Z
LAST-MODIFIED:20251027T235705Z
UID:6760-1763460000-1763467200@godfreymillercenter.org
SUMMARY:Still Life Art Studio
DESCRIPTION:There will be a different still life subject set up for artists to come and paint or draw.  This is a great opportunity to practice your artistic skills with friends!  All supplies are provided\, but you are welcome to bring your own as well.  (Suggested Donation: $5) \n***RSVP required\, call The Godfrey Miller Center office at 540-667-5869 to reserve your spot.
URL:https://godfreymillercenter.org/event/still-life-art-studio-18/
LOCATION:28 S Loudoun St\, Winchester\, VA\, United States
END:VEVENT
BEGIN:VEVENT
DTSTART;TZID=America/New_York:20251118T100000
DTEND;TZID=America/New_York:20251118T120000
DTSTAMP:20260423T190700
CREATED:20251027T235704Z
LAST-MODIFIED:20251027T235704Z
UID:6759-1763460000-1763467200@godfreymillercenter.org
SUMMARY:Samba & Hand and Foot
DESCRIPTION:All are welcome to come and play cards!
URL:https://godfreymillercenter.org/event/samba-hand-and-foot-20/
LOCATION:28 S Loudoun St (28 S Loudoun St\, Winchester\, Virginia  22601)
END:VEVENT
BEGIN:VEVENT
DTSTART;TZID=America/New_York:20251117T140000
DTEND;TZID=America/New_York:20251117T150000
DTSTAMP:20260423T190700
CREATED:20251027T235704Z
LAST-MODIFIED:20251027T235704Z
UID:6758-1763388000-1763391600@godfreymillercenter.org
SUMMARY:Exercise for Balance & Strength
DESCRIPTION:A low-impact program that includes joint check/warm-up\, range of motion/stretching\, strengthening\, cardiovascular endurance\, and joint check/cool down. Led by Sonna Russell. Ms. Russell is a gifted coach and was trained through the Arthritis Foundation. (Suggested donation – $3.00)
URL:https://godfreymillercenter.org/event/exercise-for-balance-strength-166/
LOCATION:28 S Loudoun St (28 S Loudoun St\, Winchester\, Virginia  22601)
END:VEVENT
BEGIN:VEVENT
DTSTART;TZID=America/New_York:20251117T123000
DTEND;TZID=America/New_York:20251117T133000
DTSTAMP:20260423T190700
CREATED:20251027T235704Z
LAST-MODIFIED:20251027T235704Z
UID:6757-1763382600-1763386200@godfreymillercenter.org
SUMMARY:Lunch
DESCRIPTION:***RSVP required\, call The Godfrey Miller Center office at 540-667-5869 to reserve your spot.\nTickets: $10
URL:https://godfreymillercenter.org/event/lunch-222/
LOCATION:28 S Loudoun St (28 S Loudoun St\, Winchester\, Virginia  22601)
END:VEVENT
BEGIN:VEVENT
DTSTART;TZID=America/New_York:20251117T110000
DTEND;TZID=America/New_York:20251117T120000
DTSTAMP:20260423T190700
CREATED:20251027T235703Z
LAST-MODIFIED:20251027T235703Z
UID:6754-1763377200-1763380800@godfreymillercenter.org
SUMMARY:Seated Yoga
DESCRIPTION:Join yoga instructor\, Debbie Coulson\, for a seated chair yoga session.  All are welcome – including beginners! (Suggested Donation: $3)
URL:https://godfreymillercenter.org/event/seated-yoga-18/
LOCATION:28 S Loudoun St\, Winchester\, VA\, United States
END:VEVENT
BEGIN:VEVENT
DTSTART;TZID=America/New_York:20251117T100000
DTEND;TZID=America/New_York:20251117T120000
DTSTAMP:20260423T190700
CREATED:20251027T235704Z
LAST-MODIFIED:20251027T235704Z
UID:6755-1763373600-1763380800@godfreymillercenter.org
SUMMARY:Art Studio
DESCRIPTION:Art Studio is an open time for individuals to gather and work on their various art projects.  This is a social opportunity for artists of all levels to help each other and work independently. Recurs on every Monday of the month.
URL:https://godfreymillercenter.org/event/art-studio-154/
LOCATION:28 S Loudoun St (28 S Loudoun St\, Winchester\, Virginia  22601)
END:VEVENT
BEGIN:VEVENT
DTSTART;TZID=America/New_York:20251117T100000
DTEND;TZID=America/New_York:20251117T110000
DTSTAMP:20260423T190700
CREATED:20251027T235704Z
LAST-MODIFIED:20251027T235704Z
UID:6756-1763373600-1763377200@godfreymillercenter.org
SUMMARY:Jigsaw Puzzles
DESCRIPTION:
URL:https://godfreymillercenter.org/event/jigsaw-puzzles-89/
LOCATION:28 S Loudoun St (28 S Loudoun St\, Winchester\, Virginia  22601)
END:VEVENT
BEGIN:VEVENT
DTSTART;TZID=America/New_York:20251113T140000
DTEND;TZID=America/New_York:20251113T150000
DTSTAMP:20260423T190700
CREATED:20251027T235703Z
LAST-MODIFIED:20251027T235703Z
UID:6753-1763042400-1763046000@godfreymillercenter.org
SUMMARY:Strength & Conditioning
DESCRIPTION:This class is designed to increase physical strength through resistance exercise. All major muscle groups are worked from head to toe. We finish with core conditioning\, breathing\, and stretching for a complete workout. Dumbbells are used for each class\, you can bring your own or use ours! Led by Program Coordinator Anna.
URL:https://godfreymillercenter.org/event/strength-conditioning-150/
LOCATION:28 S Loudoun St (28 S Loudoun St\, Winchester\, Virginia  22601)
END:VEVENT
BEGIN:VEVENT
DTSTART;TZID=America/New_York:20251113T123000
DTEND;TZID=America/New_York:20251113T133000
DTSTAMP:20260423T190700
CREATED:20251027T235703Z
LAST-MODIFIED:20251027T235703Z
UID:6752-1763037000-1763040600@godfreymillercenter.org
SUMMARY:Lunch
DESCRIPTION:***RSVP required\, call The Godfrey Miller Center office at 540-667-5869 to reserve your spot.\nTickets: $10
URL:https://godfreymillercenter.org/event/lunch-221/
LOCATION:28 S Loudoun St (28 S Loudoun St\, Winchester\, Virginia  22601)
END:VEVENT
END:VCALENDAR