BEGIN:VCALENDAR
VERSION:2.0
PRODID:-//Godfrey Miller Center - ECPv6.15.20//NONSGML v1.0//EN
CALSCALE:GREGORIAN
METHOD:PUBLISH
X-WR-CALNAME:Godfrey Miller Center
X-ORIGINAL-URL:https://godfreymillercenter.org
X-WR-CALDESC:Events for Godfrey Miller Center
REFRESH-INTERVAL;VALUE=DURATION:PT1H
X-Robots-Tag:noindex
X-PUBLISHED-TTL:PT1H
BEGIN:VTIMEZONE
TZID:America/New_York
BEGIN:DAYLIGHT
TZOFFSETFROM:-0500
TZOFFSETTO:-0400
TZNAME:EDT
DTSTART:20240310T070000
END:DAYLIGHT
BEGIN:STANDARD
TZOFFSETFROM:-0400
TZOFFSETTO:-0500
TZNAME:EST
DTSTART:20241103T060000
END:STANDARD
BEGIN:DAYLIGHT
TZOFFSETFROM:-0500
TZOFFSETTO:-0400
TZNAME:EDT
DTSTART:20250309T070000
END:DAYLIGHT
BEGIN:STANDARD
TZOFFSETFROM:-0400
TZOFFSETTO:-0500
TZNAME:EST
DTSTART:20251102T060000
END:STANDARD
BEGIN:DAYLIGHT
TZOFFSETFROM:-0500
TZOFFSETTO:-0400
TZNAME:EDT
DTSTART:20260308T070000
END:DAYLIGHT
BEGIN:STANDARD
TZOFFSETFROM:-0400
TZOFFSETTO:-0500
TZNAME:EST
DTSTART:20261101T060000
END:STANDARD
END:VTIMEZONE
BEGIN:VEVENT
DTSTART;TZID=America/New_York:20251221T160000
DTEND;TZID=America/New_York:20251221T170000
DTSTAMP:20260423T190546
CREATED:20251126T200020Z
LAST-MODIFIED:20251126T200020Z
UID:6849-1766332800-1766336400@godfreymillercenter.org
SUMMARY:Fall Concert Series: Windsong Community Chorus
DESCRIPTION:Join us for a holiday concert featuring many familiar sounds of the season.  Windsong is a group of fun-loving energetic women from all walks of life with  one common goal of singing simply for the joy of singing!  Their repertoire consists of familiar\, popular songs that make us tap our toes and recreate a special memory.  (Freewill Offering)
URL:https://godfreymillercenter.org/event/fall-concert-series-windsong-community-chorus/
LOCATION:26 W Boscawen St\, Winchester\, VA\, United States
END:VEVENT
BEGIN:VEVENT
DTSTART;TZID=America/New_York:20251218T140000
DTEND;TZID=America/New_York:20251218T150000
DTSTAMP:20260423T190546
CREATED:20251126T200020Z
LAST-MODIFIED:20251126T200020Z
UID:6848-1766066400-1766070000@godfreymillercenter.org
SUMMARY:Strength & Conditioning
DESCRIPTION:This class is designed to increase physical strength through resistance exercise. All major muscle groups are worked from head to toe. We finish with core conditioning\, breathing\, and stretching for a complete workout. Dumbbells are used for each class\, you can bring your own or use ours! Led by Program Coordinator Anna.
URL:https://godfreymillercenter.org/event/strength-conditioning-157/
LOCATION:28 S Loudoun St (28 S Loudoun St\, Winchester\, Virginia  22601)
END:VEVENT
BEGIN:VEVENT
DTSTART;TZID=America/New_York:20251218T123000
DTEND;TZID=America/New_York:20251218T133000
DTSTAMP:20260423T190546
CREATED:20251126T200020Z
LAST-MODIFIED:20251126T200020Z
UID:6847-1766061000-1766064600@godfreymillercenter.org
SUMMARY:Lunch
DESCRIPTION:***RSVP required\, call The Godfrey Miller Center office at 540-667-5869 to reserve your spot.\nTickets: $10
URL:https://godfreymillercenter.org/event/lunch-234/
LOCATION:28 S Loudoun St (28 S Loudoun St\, Winchester\, Virginia  22601)
END:VEVENT
BEGIN:VEVENT
DTSTART;TZID=America/New_York:20251218T103000
DTEND;TZID=America/New_York:20251218T113000
DTSTAMP:20260423T190546
CREATED:20251126T200019Z
LAST-MODIFIED:20251126T200019Z
UID:6846-1766053800-1766057400@godfreymillercenter.org
SUMMARY:Holiday Bingo
DESCRIPTION:***RSVP required\, call The Godfrey Miller Center office at 540-667-5869 to reserve your spot.   \nCome have a festive good time winning some useful prizes!
URL:https://godfreymillercenter.org/event/holiday-bingo/
LOCATION:28 S Loudoun St\, Winchester\, VA\, United States
END:VEVENT
BEGIN:VEVENT
DTSTART;TZID=America/New_York:20251218T100000
DTEND;TZID=America/New_York:20251218T120000
DTSTAMP:20260423T190546
CREATED:20251126T200019Z
LAST-MODIFIED:20251126T200019Z
UID:6845-1766052000-1766059200@godfreymillercenter.org
SUMMARY:Mahjong
DESCRIPTION:Weekly on Thursdays at 10:00am.  All are welcome!
URL:https://godfreymillercenter.org/event/mahjong-162/
LOCATION:28 S Loudoun St\, Winchester\, VA\, United States
END:VEVENT
BEGIN:VEVENT
DTSTART;TZID=America/New_York:20251217T140000
DTEND;TZID=America/New_York:20251217T150000
DTSTAMP:20260423T190546
CREATED:20251126T200019Z
LAST-MODIFIED:20251126T200019Z
UID:6844-1765980000-1765983600@godfreymillercenter.org
SUMMARY:Exercise for Balance & Strength
DESCRIPTION:A low-impact program that includes joint check/warm-up\, range of motion/stretching\, strengthening\, cardiovascular endurance\, and joint check/cool down. Led by Sonna Russell. Ms. Russell is a gifted coach and was trained through the Arthritis Foundation. (Suggested donation – $3.00)
URL:https://godfreymillercenter.org/event/exercise-for-balance-strength-175/
LOCATION:28 S Loudoun St (28 S Loudoun St\, Winchester\, Virginia  22601)
END:VEVENT
BEGIN:VEVENT
DTSTART;TZID=America/New_York:20251217T123000
DTEND;TZID=America/New_York:20251217T133000
DTSTAMP:20260423T190546
CREATED:20251126T200019Z
LAST-MODIFIED:20251126T200019Z
UID:6843-1765974600-1765978200@godfreymillercenter.org
SUMMARY:Lunch
DESCRIPTION:***RSVP required\, call The Godfrey Miller Center office at 540-667-5869 to reserve your spot.\nTickets: $10
URL:https://godfreymillercenter.org/event/lunch-233/
LOCATION:28 S Loudoun St (28 S Loudoun St\, Winchester\, Virginia  22601)
END:VEVENT
BEGIN:VEVENT
DTSTART;TZID=America/New_York:20251216T140000
DTEND;TZID=America/New_York:20251216T150000
DTSTAMP:20260423T190546
CREATED:20251126T200018Z
LAST-MODIFIED:20251126T200018Z
UID:6840-1765893600-1765897200@godfreymillercenter.org
SUMMARY:Strength & Conditioning
DESCRIPTION:This class is designed to increase physical strength through resistance exercise. All major muscle groups are worked from head to toe. We finish with core conditioning\, breathing\, and stretching for a complete workout. Dumbbells are used for each class\, you can bring your own or use ours! Led by Program Coordinator Anna.
URL:https://godfreymillercenter.org/event/strength-conditioning-156/
LOCATION:28 S Loudoun St (28 S Loudoun St\, Winchester\, Virginia  22601)
END:VEVENT
BEGIN:VEVENT
DTSTART;TZID=America/New_York:20251216T130000
DTEND;TZID=America/New_York:20251216T150000
DTSTAMP:20260423T190546
CREATED:20251126T200019Z
LAST-MODIFIED:20251126T200019Z
UID:6841-1765890000-1765897200@godfreymillercenter.org
SUMMARY:Art Class: Drawing
DESCRIPTION:***RSVP required\, call The Godfrey Miller Center office at 540-667-5869 to reserve your spot.   \nIn this course\, students will improve drawing skills through using a combination of mediums such as graphite\, charcoal\, pen\, and ink.  Students will have their choice of mediums to help define their styles. Taught by Artist Tracy Burk. (Suggested donation: $15 per class)
URL:https://godfreymillercenter.org/event/art-class-drawing-87/
LOCATION:28 S Loudoun St (28 S Loudoun St\, Winchester\, Virginia  22601)
END:VEVENT
BEGIN:VEVENT
DTSTART;TZID=America/New_York:20251216T130000
DTEND;TZID=America/New_York:20251216T143000
DTSTAMP:20260423T190546
CREATED:20251126T200019Z
LAST-MODIFIED:20251126T200019Z
UID:6842-1765890000-1765895400@godfreymillercenter.org
SUMMARY:Movie Matinee: Jingle Bell Heist
DESCRIPTION:***RSVP required\, call The Godfrey Miller Center office at 540-667-5869 to reserve your spot.  \nSophia is a retail worker in London\, juggling two jobs and barely making it\, all while taking care of her sick mother. Nick is a down‑on‑his‑luck repairman and single father desperate to turn his life around. When both set their sights on the same glamorous London department store for a daring Christmas Eve heist\, they form an uneasy partnership. Holiday movie snacks and refreshments are provided.  Movie run time: 96 minutes.
URL:https://godfreymillercenter.org/event/movie-matinee-jingle-bell-heist/
LOCATION:28 S Loudoun St\, Winchester\, VA\, United States
END:VEVENT
BEGIN:VEVENT
DTSTART;TZID=America/New_York:20251216T100000
DTEND;TZID=America/New_York:20251216T120000
DTSTAMP:20260423T190546
CREATED:20251126T200018Z
LAST-MODIFIED:20251126T200018Z
UID:6838-1765879200-1765886400@godfreymillercenter.org
SUMMARY:Art Class: Acrylic & Watercolor Painting
DESCRIPTION:***RSVP required\, call The Godfrey Miller Center office at 540-667-5869 to reserve your spot.   \nIn this course\, students will develop painting skills\, techniques\, and aesthetic sensibilities related to artistic expression in acrylic and/or watercolor mediums. Taught by Artist Tracy Burk. (Suggested donation: $15 per class)
URL:https://godfreymillercenter.org/event/art-class-acrylic-watercolor-painting-83/
LOCATION:28 S Loudoun St (28 S Loudoun St\, Winchester\, Virginia  22601)
END:VEVENT
BEGIN:VEVENT
DTSTART;TZID=America/New_York:20251216T100000
DTEND;TZID=America/New_York:20251216T120000
DTSTAMP:20260423T190546
CREATED:20251126T200018Z
LAST-MODIFIED:20251126T200018Z
UID:6839-1765879200-1765886400@godfreymillercenter.org
SUMMARY:Samba & Hand and Foot
DESCRIPTION:All are welcome to come and play cards!
URL:https://godfreymillercenter.org/event/samba-hand-and-foot-24/
LOCATION:28 S Loudoun St (28 S Loudoun St\, Winchester\, Virginia  22601)
END:VEVENT
BEGIN:VEVENT
DTSTART;TZID=America/New_York:20251215T140000
DTEND;TZID=America/New_York:20251215T150000
DTSTAMP:20260423T190546
CREATED:20251126T200018Z
LAST-MODIFIED:20251126T200018Z
UID:6837-1765807200-1765810800@godfreymillercenter.org
SUMMARY:Exercise for Balance & Strength
DESCRIPTION:A low-impact program that includes joint check/warm-up\, range of motion/stretching\, strengthening\, cardiovascular endurance\, and joint check/cool down. Led by Sonna Russell. Ms. Russell is a gifted coach and was trained through the Arthritis Foundation. (Suggested donation – $3.00)
URL:https://godfreymillercenter.org/event/exercise-for-balance-strength-174/
LOCATION:28 S Loudoun St (28 S Loudoun St\, Winchester\, Virginia  22601)
END:VEVENT
BEGIN:VEVENT
DTSTART;TZID=America/New_York:20251215T123000
DTEND;TZID=America/New_York:20251215T133000
DTSTAMP:20260423T190546
CREATED:20251126T200018Z
LAST-MODIFIED:20251126T200018Z
UID:6836-1765801800-1765805400@godfreymillercenter.org
SUMMARY:Lunch
DESCRIPTION:***RSVP required\, call The Godfrey Miller Center office at 540-667-5869 to reserve your spot.\nTickets: $10
URL:https://godfreymillercenter.org/event/lunch-232/
LOCATION:28 S Loudoun St (28 S Loudoun St\, Winchester\, Virginia  22601)
END:VEVENT
BEGIN:VEVENT
DTSTART;TZID=America/New_York:20251215T110000
DTEND;TZID=America/New_York:20251215T120000
DTSTAMP:20260423T190546
CREATED:20251126T200017Z
LAST-MODIFIED:20251126T200017Z
UID:6834-1765796400-1765800000@godfreymillercenter.org
SUMMARY:Seated Yoga
DESCRIPTION:Join yoga instructor\, Debbie Coulson\, for a seated chair yoga session.  All are welcome – including beginners! (Suggested Donation: $3)
URL:https://godfreymillercenter.org/event/seated-yoga-20/
LOCATION:28 S Loudoun St\, Winchester\, VA\, United States
END:VEVENT
BEGIN:VEVENT
DTSTART;TZID=America/New_York:20251215T100000
DTEND;TZID=America/New_York:20251215T120000
DTSTAMP:20260423T190546
CREATED:20251126T200017Z
LAST-MODIFIED:20251126T200017Z
UID:6835-1765792800-1765800000@godfreymillercenter.org
SUMMARY:Art Studio
DESCRIPTION:Art Studio is an open time for individuals to gather and work on their various art projects.  This is a social opportunity for artists of all levels to help each other and work independently. Recurs on every Monday of the month.
URL:https://godfreymillercenter.org/event/art-studio-157/
LOCATION:28 S Loudoun St (28 S Loudoun St\, Winchester\, Virginia  22601)
END:VEVENT
BEGIN:VEVENT
DTSTART;TZID=America/New_York:20251215T100000
DTEND;TZID=America/New_York:20251215T110000
DTSTAMP:20260423T190546
CREATED:20251126T200017Z
LAST-MODIFIED:20251126T200017Z
UID:6833-1765792800-1765796400@godfreymillercenter.org
SUMMARY:Jigsaw Puzzles
DESCRIPTION:
URL:https://godfreymillercenter.org/event/jigsaw-puzzles-93/
LOCATION:28 S Loudoun St (28 S Loudoun St\, Winchester\, Virginia  22601)
END:VEVENT
BEGIN:VEVENT
DTSTART;TZID=America/New_York:20251211T130000
DTEND;TZID=America/New_York:20251211T140000
DTSTAMP:20260423T190546
CREATED:20251126T200017Z
LAST-MODIFIED:20251126T200017Z
UID:6832-1765458000-1765461600@godfreymillercenter.org
SUMMARY:Christmas Tea Party
DESCRIPTION:***RSVP required\, call The Godfrey Miller Center office at 540-667-5869 to reserve your spot.   (Tickets: $30)\nIt’s the most wonderful time of the year\, so join us as we celebrate the holidays with a Christmas Tea.  There will be a variety of tea flavors to try\, savory bites\, scones\, and sweet treats.
URL:https://godfreymillercenter.org/event/christmas-tea-party-3/
LOCATION:28 S Loudoun St\, Winchester\, VA\, United States
END:VEVENT
BEGIN:VEVENT
DTSTART;TZID=America/New_York:20251211T100000
DTEND;TZID=America/New_York:20251211T120000
DTSTAMP:20260423T190546
CREATED:20251126T200017Z
LAST-MODIFIED:20251126T200017Z
UID:6831-1765447200-1765454400@godfreymillercenter.org
SUMMARY:Mahjong
DESCRIPTION:Weekly on Thursdays at 10:00am.  All are welcome!
URL:https://godfreymillercenter.org/event/mahjong-161/
LOCATION:28 S Loudoun St\, Winchester\, VA\, United States
END:VEVENT
BEGIN:VEVENT
DTSTART;TZID=America/New_York:20251210T140000
DTEND;TZID=America/New_York:20251210T150000
DTSTAMP:20260423T190546
CREATED:20251126T200016Z
LAST-MODIFIED:20251126T200016Z
UID:6830-1765375200-1765378800@godfreymillercenter.org
SUMMARY:Exercise for Balance & Strength
DESCRIPTION:A low-impact program that includes joint check/warm-up\, range of motion/stretching\, strengthening\, cardiovascular endurance\, and joint check/cool down. Led by Sonna Russell. Ms. Russell is a gifted coach and was trained through the Arthritis Foundation. (Suggested donation – $3.00)
URL:https://godfreymillercenter.org/event/exercise-for-balance-strength-173/
LOCATION:28 S Loudoun St (28 S Loudoun St\, Winchester\, Virginia  22601)
END:VEVENT
BEGIN:VEVENT
DTSTART;TZID=America/New_York:20251210T123000
DTEND;TZID=America/New_York:20251210T133000
DTSTAMP:20260423T190546
CREATED:20251126T200016Z
LAST-MODIFIED:20251126T200016Z
UID:6829-1765369800-1765373400@godfreymillercenter.org
SUMMARY:Lunch
DESCRIPTION:***RSVP required\, call The Godfrey Miller Center office at 540-667-5869 to reserve your spot.\nTickets: $10
URL:https://godfreymillercenter.org/event/lunch-231/
LOCATION:28 S Loudoun St (28 S Loudoun St\, Winchester\, Virginia  22601)
END:VEVENT
BEGIN:VEVENT
DTSTART;TZID=America/New_York:20251210T110000
DTEND;TZID=America/New_York:20251210T120000
DTSTAMP:20260423T190546
CREATED:20251126T200016Z
LAST-MODIFIED:20251126T200016Z
UID:6828-1765364400-1765368000@godfreymillercenter.org
SUMMARY:Practical Tai Chi
DESCRIPTION:Adrian’s Practical Tai Chi classes are a blend of tai chi and qigong\, meant to get the practitioner connected into their own body. The focus is on proper body structure and grounding\, while different series of movements are performed. Attendees can expect to feel more grounded\, relaxed\, and rejuvenated after each class. Limited-mobility friendly! (Suggested Donation: $3)
URL:https://godfreymillercenter.org/event/practical-tai-chi-22/
LOCATION:28 S Loudoun St\, Winchester\, VA\, United States
END:VEVENT
BEGIN:VEVENT
DTSTART;TZID=America/New_York:20251209T140000
DTEND;TZID=America/New_York:20251209T150000
DTSTAMP:20260423T190546
CREATED:20251126T200016Z
LAST-MODIFIED:20251126T200016Z
UID:6827-1765288800-1765292400@godfreymillercenter.org
SUMMARY:Strength & Conditioning
DESCRIPTION:This class is designed to increase physical strength through resistance exercise. All major muscle groups are worked from head to toe. We finish with core conditioning\, breathing\, and stretching for a complete workout. Dumbbells are used for each class\, you can bring your own or use ours! Led by Program Coordinator Anna.
URL:https://godfreymillercenter.org/event/strength-conditioning-155/
LOCATION:28 S Loudoun St (28 S Loudoun St\, Winchester\, Virginia  22601)
END:VEVENT
BEGIN:VEVENT
DTSTART;TZID=America/New_York:20251209T130000
DTEND;TZID=America/New_York:20251209T150000
DTSTAMP:20260423T190546
CREATED:20251126T200016Z
LAST-MODIFIED:20251126T200016Z
UID:6826-1765285200-1765292400@godfreymillercenter.org
SUMMARY:Art Class: Drawing
DESCRIPTION:***RSVP required\, call The Godfrey Miller Center office at 540-667-5869 to reserve your spot.   \nIn this course\, students will improve drawing skills through using a combination of mediums such as graphite\, charcoal\, pen\, and ink.  Students will have their choice of mediums to help define their styles. Taught by Artist Tracy Burk. (Suggested donation: $15 per class)
URL:https://godfreymillercenter.org/event/art-class-drawing-86/
LOCATION:28 S Loudoun St (28 S Loudoun St\, Winchester\, Virginia  22601)
END:VEVENT
BEGIN:VEVENT
DTSTART;TZID=America/New_York:20251209T100000
DTEND;TZID=America/New_York:20251209T120000
DTSTAMP:20260423T190546
CREATED:20251126T200016Z
LAST-MODIFIED:20251126T200016Z
UID:6825-1765274400-1765281600@godfreymillercenter.org
SUMMARY:Samba & Hand and Foot
DESCRIPTION:All are welcome to come and play cards!
URL:https://godfreymillercenter.org/event/samba-hand-and-foot-23/
LOCATION:28 S Loudoun St (28 S Loudoun St\, Winchester\, Virginia  22601)
END:VEVENT
BEGIN:VEVENT
DTSTART;TZID=America/New_York:20251209T100000
DTEND;TZID=America/New_York:20251209T120000
DTSTAMP:20260423T190546
CREATED:20251126T200015Z
LAST-MODIFIED:20251126T200015Z
UID:6824-1765274400-1765281600@godfreymillercenter.org
SUMMARY:Art Class: Acrylic & Watercolor Painting
DESCRIPTION:***RSVP required\, call The Godfrey Miller Center office at 540-667-5869 to reserve your spot.   \nIn this course\, students will develop painting skills\, techniques\, and aesthetic sensibilities related to artistic expression in acrylic and/or watercolor mediums. Taught by Artist Tracy Burk. (Suggested donation: $15 per class)
URL:https://godfreymillercenter.org/event/art-class-acrylic-watercolor-painting-82/
LOCATION:28 S Loudoun St (28 S Loudoun St\, Winchester\, Virginia  22601)
END:VEVENT
BEGIN:VEVENT
DTSTART;TZID=America/New_York:20251208T140000
DTEND;TZID=America/New_York:20251208T150000
DTSTAMP:20260423T190546
CREATED:20251126T200015Z
LAST-MODIFIED:20251126T200015Z
UID:6823-1765202400-1765206000@godfreymillercenter.org
SUMMARY:Exercise for Balance & Strength
DESCRIPTION:A low-impact program that includes joint check/warm-up\, range of motion/stretching\, strengthening\, cardiovascular endurance\, and joint check/cool down. Led by Sonna Russell. Ms. Russell is a gifted coach and was trained through the Arthritis Foundation. (Suggested donation – $3.00)
URL:https://godfreymillercenter.org/event/exercise-for-balance-strength-172/
LOCATION:28 S Loudoun St (28 S Loudoun St\, Winchester\, Virginia  22601)
END:VEVENT
BEGIN:VEVENT
DTSTART;TZID=America/New_York:20251208T123000
DTEND;TZID=America/New_York:20251208T133000
DTSTAMP:20260423T190546
CREATED:20251126T200015Z
LAST-MODIFIED:20251126T200015Z
UID:6822-1765197000-1765200600@godfreymillercenter.org
SUMMARY:Lunch
DESCRIPTION:***RSVP required\, call The Godfrey Miller Center office at 540-667-5869 to reserve your spot.\nTickets: $10
URL:https://godfreymillercenter.org/event/lunch-230/
LOCATION:28 S Loudoun St (28 S Loudoun St\, Winchester\, Virginia  22601)
END:VEVENT
BEGIN:VEVENT
DTSTART;TZID=America/New_York:20251208T103000
DTEND;TZID=America/New_York:20251208T113000
DTSTAMP:20260423T190546
CREATED:20251126T200014Z
LAST-MODIFIED:20251126T200014Z
UID:6820-1765189800-1765193400@godfreymillercenter.org
SUMMARY:iPhone Help Session
DESCRIPTION:Join Program Coordinator Anna for help with your smart phone.  Bring your device\, account passwords\, and any questions!
URL:https://godfreymillercenter.org/event/iphone-help-session-25/
LOCATION:28 S Loudoun St\, Winchester\, VA\, United States
END:VEVENT
BEGIN:VEVENT
DTSTART;TZID=America/New_York:20251208T100000
DTEND;TZID=America/New_York:20251208T120000
DTSTAMP:20260423T190546
CREATED:20251126T200015Z
LAST-MODIFIED:20251126T200015Z
UID:6821-1765188000-1765195200@godfreymillercenter.org
SUMMARY:Art Studio
DESCRIPTION:Art Studio is an open time for individuals to gather and work on their various art projects.  This is a social opportunity for artists of all levels to help each other and work independently. Recurs on every Monday of the month.
URL:https://godfreymillercenter.org/event/art-studio-156/
LOCATION:28 S Loudoun St (28 S Loudoun St\, Winchester\, Virginia  22601)
END:VEVENT
END:VCALENDAR