BEGIN:VCALENDAR
VERSION:2.0
PRODID:-//Godfrey Miller Center - ECPv6.15.20//NONSGML v1.0//EN
CALSCALE:GREGORIAN
METHOD:PUBLISH
X-WR-CALNAME:Godfrey Miller Center
X-ORIGINAL-URL:https://godfreymillercenter.org
X-WR-CALDESC:Events for Godfrey Miller Center
REFRESH-INTERVAL;VALUE=DURATION:PT1H
X-Robots-Tag:noindex
X-PUBLISHED-TTL:PT1H
BEGIN:VTIMEZONE
TZID:America/New_York
BEGIN:DAYLIGHT
TZOFFSETFROM:-0500
TZOFFSETTO:-0400
TZNAME:EDT
DTSTART:20230312T070000
END:DAYLIGHT
BEGIN:STANDARD
TZOFFSETFROM:-0400
TZOFFSETTO:-0500
TZNAME:EST
DTSTART:20231105T060000
END:STANDARD
BEGIN:DAYLIGHT
TZOFFSETFROM:-0500
TZOFFSETTO:-0400
TZNAME:EDT
DTSTART:20240310T070000
END:DAYLIGHT
BEGIN:STANDARD
TZOFFSETFROM:-0400
TZOFFSETTO:-0500
TZNAME:EST
DTSTART:20241103T060000
END:STANDARD
BEGIN:DAYLIGHT
TZOFFSETFROM:-0500
TZOFFSETTO:-0400
TZNAME:EDT
DTSTART:20250309T070000
END:DAYLIGHT
BEGIN:STANDARD
TZOFFSETFROM:-0400
TZOFFSETTO:-0500
TZNAME:EST
DTSTART:20251102T060000
END:STANDARD
END:VTIMEZONE
BEGIN:VEVENT
DTSTART;TZID=America/New_York:20240212T090000
DTEND;TZID=America/New_York:20240212T100000
DTSTAMP:20260425T100819
CREATED:20240123T170445Z
LAST-MODIFIED:20240123T170445Z
UID:4937-1707728400-1707732000@godfreymillercenter.org
SUMMARY:Walking Club
DESCRIPTION:
URL:https://godfreymillercenter.org/event/walking-club-62/
LOCATION:Courtyard
END:VEVENT
BEGIN:VEVENT
DTSTART;TZID=America/New_York:20240212T100000
DTEND;TZID=America/New_York:20240212T110000
DTSTAMP:20260425T100819
CREATED:20240123T170444Z
LAST-MODIFIED:20240123T170444Z
UID:4935-1707732000-1707735600@godfreymillercenter.org
SUMMARY:Jigsaw Puzzles
DESCRIPTION:
URL:https://godfreymillercenter.org/event/jigsaw-puzzles-26/
LOCATION:Front Sitting Room/Puzzle Room
END:VEVENT
BEGIN:VEVENT
DTSTART;TZID=America/New_York:20240212T100000
DTEND;TZID=America/New_York:20240212T120000
DTSTAMP:20260425T100819
CREATED:20240123T170444Z
LAST-MODIFIED:20240123T170444Z
UID:4936-1707732000-1707739200@godfreymillercenter.org
SUMMARY:Art Studio
DESCRIPTION:Art Studio is an open time for individuals to gather and work on their various art projects.  This is a social opportunity for artists of all levels to help each other and work independently. Recurs on every Monday of the month.
URL:https://godfreymillercenter.org/event/art-studio-89/
LOCATION:Pavilion
END:VEVENT
BEGIN:VEVENT
DTSTART;TZID=America/New_York:20240212T123000
DTEND;TZID=America/New_York:20240212T133000
DTSTAMP:20260425T100819
CREATED:20240123T170445Z
LAST-MODIFIED:20240123T170445Z
UID:4938-1707741000-1707744600@godfreymillercenter.org
SUMMARY:Mardi Gras Lunch
DESCRIPTION:***RSVP required\, call The Godfrey Miller Center office at 540-667-5869 to reserve your spot.\nTickets: $9.00 \nJoin us for a festive Mardi Gras lunch of chicken and andouille gumbo\, cornbread\, rice\, and dessert.
URL:https://godfreymillercenter.org/event/mardi-gras-lunch-2/
LOCATION:Pavilion
END:VEVENT
BEGIN:VEVENT
DTSTART;TZID=America/New_York:20240212T140000
DTEND;TZID=America/New_York:20240212T150000
DTSTAMP:20260425T100819
CREATED:20240123T170445Z
LAST-MODIFIED:20240123T170445Z
UID:4939-1707746400-1707750000@godfreymillercenter.org
SUMMARY:Exercise for Balance & Strength
DESCRIPTION:A low-impact program that includes joint check/warm-up\, range of motion/stretching\, strengthening\, cardiovascular endurance\, and joint check/cool down. Led by Sonna Russell. Ms. Russell is a gifted coach and was trained through the Arthritis Foundation. (Suggested donation – $3.00)
URL:https://godfreymillercenter.org/event/exercise-for-balance-strength-9/
LOCATION:Pavilion
END:VEVENT
BEGIN:VEVENT
DTSTART;TZID=America/New_York:20240213T100000
DTEND;TZID=America/New_York:20240213T120000
DTSTAMP:20260425T100819
CREATED:20240123T170445Z
LAST-MODIFIED:20240123T170445Z
UID:4940-1707818400-1707825600@godfreymillercenter.org
SUMMARY:Canasta
DESCRIPTION:All are welcome to come and play Canasta!
URL:https://godfreymillercenter.org/event/canasta-95/
LOCATION:Parlor
END:VEVENT
BEGIN:VEVENT
DTSTART;TZID=America/New_York:20240213T100000
DTEND;TZID=America/New_York:20240213T120000
DTSTAMP:20260425T100819
CREATED:20240123T170445Z
LAST-MODIFIED:20240123T170445Z
UID:4941-1707818400-1707825600@godfreymillercenter.org
SUMMARY:Art Class: Acrylic & Watercolor Painting
DESCRIPTION:***RSVP required\, call The Godfrey Miller Center office at 540-667-5869 to reserve your spot.   \nIn this course\, students will develop painting skills\, techniques\, and aesthetic sensibilities related to artistic expression in acrylic and/or watercolor mediums. Each week will focus on a different subject\, emphasizing color and composition\, and enabling students to expand and better define their unique style and technique. Taught by master artist Kate Williams. (Suggested donation: $15 per class)
URL:https://godfreymillercenter.org/event/art-class-acrylic-watercolor-painting-32/
LOCATION:Pavilion
END:VEVENT
BEGIN:VEVENT
DTSTART;TZID=America/New_York:20240213T130000
DTEND;TZID=America/New_York:20240213T150000
DTSTAMP:20260425T100819
CREATED:20240123T170446Z
LAST-MODIFIED:20240123T170446Z
UID:4942-1707829200-1707836400@godfreymillercenter.org
SUMMARY:Art Class: Drawing
DESCRIPTION:***RSVP required\, call The Godfrey Miller Center office at 540-667-5869 to reserve your spot.   \nIn this course\, students will improve drawing skills through using a combination of mediums such as graphite\, charcoal\, pen\, and ink.  Students will have their choice of mediums to help define their styles. Taught by master artist Kate Williams. (Suggested donation: $15 per class)
URL:https://godfreymillercenter.org/event/art-class-drawing-32/
LOCATION:Parlor
END:VEVENT
BEGIN:VEVENT
DTSTART;TZID=America/New_York:20240213T130000
DTEND;TZID=America/New_York:20240213T150000
DTSTAMP:20260425T100819
CREATED:20240123T170446Z
LAST-MODIFIED:20240123T170446Z
UID:4943-1707829200-1707836400@godfreymillercenter.org
SUMMARY:Movie Matinee: The Help
DESCRIPTION:Set in Mississippi during the 1960s\, Skeeter is a southern girl who returns from college determined to become a writer\, but turns her friends’ lives upside down when she interviews the black women who have taken care of all the prominent southern families. Aibileen\, Skeeter’s best friend’s housekeeper\, is the first to open up and share her peace.  Throughout this story\, unlikely friendships are made.  Movie snacks will be provided.  Movie run time: 2 hours and 26 minutes.
URL:https://godfreymillercenter.org/event/movie-matinee-the-help/
LOCATION:Pavilion
END:VEVENT
BEGIN:VEVENT
DTSTART;TZID=America/New_York:20240214T123000
DTEND;TZID=America/New_York:20240214T133000
DTSTAMP:20260425T100819
CREATED:20240123T170447Z
LAST-MODIFIED:20240123T170657Z
UID:4945-1707913800-1707917400@godfreymillercenter.org
SUMMARY:Lunch
DESCRIPTION:***RSVP required\, call The Godfrey Miller Center office at 540-667-5869 to reserve your spot.\nTickets: $9.00 \n*	February 7: Lasagna\, Garlic Bread\, Dessert\n*	February 14: Pasta Fagioli\, Garlic Bread\, Dessert\n*	February 21: Chicken and Broccoli Divan\, Rice\, Dessert\n*	February 28: Spaghetti\, Ceasar Salad\, Dessert
URL:https://godfreymillercenter.org/event/4945/
LOCATION:Pavilion
END:VEVENT
BEGIN:VEVENT
DTSTART;TZID=America/New_York:20240214T130000
DTEND;TZID=America/New_York:20240214T134500
DTSTAMP:20260425T100819
CREATED:20240123T170447Z
LAST-MODIFIED:20240206T151522Z
UID:4944-1707915600-1707918300@godfreymillercenter.org
SUMMARY:Music From the Heart by Rachel Short
DESCRIPTION:Rachel Short\, with years of experience performing and teaching music\, will share “Music From the Heart.” The concert features some of her favorite classic Broadway and Jazz Standards: songs about seeking love\, being in love\, a love gone wrong\, and the moon. She will be joined by pianist Connor Crotzer Scartascini. All are welcome.
URL:https://godfreymillercenter.org/event/afternoon-concert-by-rachel-short/
LOCATION:Pavilion
END:VEVENT
BEGIN:VEVENT
DTSTART;TZID=America/New_York:20240214T140000
DTEND;TZID=America/New_York:20240214T150000
DTSTAMP:20260425T100819
CREATED:20240123T170447Z
LAST-MODIFIED:20240123T170447Z
UID:4946-1707919200-1707922800@godfreymillercenter.org
SUMMARY:Exercise for Balance & Strength
DESCRIPTION:A low-impact program that includes joint check/warm-up\, range of motion/stretching\, strengthening\, cardiovascular endurance\, and joint check/cool down. Led by Sonna Russell. Ms. Russell is a gifted coach and was trained through the Arthritis Foundation. (Suggested donation – $3.00)
URL:https://godfreymillercenter.org/event/exercise-for-balance-strength-10/
LOCATION:Pavilion
END:VEVENT
BEGIN:VEVENT
DTSTART;TZID=America/New_York:20240215T100000
DTEND;TZID=America/New_York:20240215T120000
DTSTAMP:20260425T100819
CREATED:20240123T170448Z
LAST-MODIFIED:20240123T170448Z
UID:4947-1707991200-1707998400@godfreymillercenter.org
SUMMARY:Mahjong
DESCRIPTION:All are welcome to come and play Mahjong!
URL:https://godfreymillercenter.org/event/mahjong-89/
LOCATION:Parlor
END:VEVENT
BEGIN:VEVENT
DTSTART;TZID=America/New_York:20240215T123000
DTEND;TZID=America/New_York:20240215T133000
DTSTAMP:20260425T100819
CREATED:20240123T170448Z
LAST-MODIFIED:20240123T170651Z
UID:4948-1708000200-1708003800@godfreymillercenter.org
SUMMARY:Lunch
DESCRIPTION:***RSVP required\, call The Godfrey Miller Center office at 540-667-5869 to reserve your spot.\nTickets: $9.00 \n*	February 1: Salisbury Steak\, Roasted Cabbage\, Dessert\n*	February 15: Roast Pork\, Mac & Cheese\, Broccoli\, Dessert\n*	February 22: Bratwurst with sauteed onions and peppers\, German Potato Salad\, Dessert\n*	February 29: Chicken Noodle Soup\, Grilled Cheese \, Dessert
URL:https://godfreymillercenter.org/event/4948/
LOCATION:Pavilion
END:VEVENT
BEGIN:VEVENT
DTSTART;TZID=America/New_York:20240215T140000
DTEND;TZID=America/New_York:20240215T150000
DTSTAMP:20260425T100819
CREATED:20240123T170448Z
LAST-MODIFIED:20240123T170448Z
UID:4949-1708005600-1708009200@godfreymillercenter.org
SUMMARY:Strength & Conditioning
DESCRIPTION:This class is designed to increase physical strength through resistance exercise. All major muscle groups are worked from head to toe. We finish with core conditioning\, breathing\, and stretching for a complete workout. Dumbbells are used for each class\, you can bring your own or use ours! Led by Program Coordinator Anna.
URL:https://godfreymillercenter.org/event/strength-conditioning-9/
LOCATION:Pavilion
END:VEVENT
BEGIN:VEVENT
DTSTART;TZID=America/New_York:20240219T090000
DTEND;TZID=America/New_York:20240219T100000
DTSTAMP:20260425T100819
CREATED:20240123T170449Z
LAST-MODIFIED:20240123T170449Z
UID:4952-1708333200-1708336800@godfreymillercenter.org
SUMMARY:Walking Club
DESCRIPTION:
URL:https://godfreymillercenter.org/event/walking-club-63/
LOCATION:Courtyard
END:VEVENT
BEGIN:VEVENT
DTSTART;TZID=America/New_York:20240219T100000
DTEND;TZID=America/New_York:20240219T110000
DTSTAMP:20260425T100819
CREATED:20240123T170448Z
LAST-MODIFIED:20240123T170448Z
UID:4951-1708336800-1708340400@godfreymillercenter.org
SUMMARY:Jigsaw Puzzles
DESCRIPTION:
URL:https://godfreymillercenter.org/event/jigsaw-puzzles-27/
LOCATION:Front Sitting Room/Puzzle Room
END:VEVENT
BEGIN:VEVENT
DTSTART;TZID=America/New_York:20240219T100000
DTEND;TZID=America/New_York:20240219T120000
DTSTAMP:20260425T100819
CREATED:20240123T170448Z
LAST-MODIFIED:20240123T170448Z
UID:4950-1708336800-1708344000@godfreymillercenter.org
SUMMARY:Art Studio
DESCRIPTION:Art Studio is an open time for individuals to gather and work on their various art projects.  This is a social opportunity for artists of all levels to help each other and work independently. Recurs on every Monday of the month.
URL:https://godfreymillercenter.org/event/art-studio-90/
LOCATION:Pavilion
END:VEVENT
BEGIN:VEVENT
DTSTART;TZID=America/New_York:20240219T123000
DTEND;TZID=America/New_York:20240219T133000
DTSTAMP:20260425T100819
CREATED:20240123T170449Z
LAST-MODIFIED:20240123T170645Z
UID:4953-1708345800-1708349400@godfreymillercenter.org
SUMMARY:Lunch
DESCRIPTION:***RSVP required\, call The Godfrey Miller Center office at 540-667-5869 to reserve your spot.\nTickets: $9.00
URL:https://godfreymillercenter.org/event/4953/
LOCATION:Pavilion
END:VEVENT
BEGIN:VEVENT
DTSTART;TZID=America/New_York:20240219T140000
DTEND;TZID=America/New_York:20240219T150000
DTSTAMP:20260425T100819
CREATED:20240123T170449Z
LAST-MODIFIED:20240123T170449Z
UID:4954-1708351200-1708354800@godfreymillercenter.org
SUMMARY:Exercise for Balance & Strength
DESCRIPTION:A low-impact program that includes joint check/warm-up\, range of motion/stretching\, strengthening\, cardiovascular endurance\, and joint check/cool down. Led by Sonna Russell. Ms. Russell is a gifted coach and was trained through the Arthritis Foundation. (Suggested donation – $3.00)
URL:https://godfreymillercenter.org/event/exercise-for-balance-strength-11/
LOCATION:Pavilion
END:VEVENT
BEGIN:VEVENT
DTSTART;TZID=America/New_York:20240220T100000
DTEND;TZID=America/New_York:20240220T120000
DTSTAMP:20260425T100819
CREATED:20240123T170449Z
LAST-MODIFIED:20240123T170449Z
UID:4955-1708423200-1708430400@godfreymillercenter.org
SUMMARY:Art Class: Acrylic & Watercolor Painting
DESCRIPTION:***RSVP required\, call The Godfrey Miller Center office at 540-667-5869 to reserve your spot.   \nIn this course\, students will develop painting skills\, techniques\, and aesthetic sensibilities related to artistic expression in acrylic and/or watercolor mediums. Each week will focus on a different subject\, emphasizing color and composition\, and enabling students to expand and better define their unique style and technique. Taught by master artist Kate Williams. (Suggested donation: $15 per class)
URL:https://godfreymillercenter.org/event/art-class-acrylic-watercolor-painting-33/
LOCATION:Pavilion
END:VEVENT
BEGIN:VEVENT
DTSTART;TZID=America/New_York:20240220T100000
DTEND;TZID=America/New_York:20240220T120000
DTSTAMP:20260425T100819
CREATED:20240123T170449Z
LAST-MODIFIED:20240123T170449Z
UID:4956-1708423200-1708430400@godfreymillercenter.org
SUMMARY:Canasta
DESCRIPTION:All are welcome to come and play Canasta!
URL:https://godfreymillercenter.org/event/canasta-96/
LOCATION:Parlor
END:VEVENT
BEGIN:VEVENT
DTSTART;TZID=America/New_York:20240220T130000
DTEND;TZID=America/New_York:20240220T150000
DTSTAMP:20260425T100819
CREATED:20240123T170450Z
LAST-MODIFIED:20240123T170450Z
UID:4957-1708434000-1708441200@godfreymillercenter.org
SUMMARY:Art Class: Drawing
DESCRIPTION:***RSVP required\, call The Godfrey Miller Center office at 540-667-5869 to reserve your spot.   \nIn this course\, students will improve drawing skills through using a combination of mediums such as graphite\, charcoal\, pen\, and ink.  Students will have their choice of mediums to help define their styles. Taught by master artist Kate Williams. (Suggested donation: $15 per class)
URL:https://godfreymillercenter.org/event/art-class-drawing-33/
LOCATION:Parlor
END:VEVENT
BEGIN:VEVENT
DTSTART;TZID=America/New_York:20240220T140000
DTEND;TZID=America/New_York:20240220T150000
DTSTAMP:20260425T100819
CREATED:20240123T170450Z
LAST-MODIFIED:20240123T170450Z
UID:4958-1708437600-1708441200@godfreymillercenter.org
SUMMARY:Strength & Conditioning
DESCRIPTION:This class is designed to increase physical strength through resistance exercise. All major muscle groups are worked from head to toe. We finish with core conditioning\, breathing\, and stretching for a complete workout. Dumbbells are used for each class\, you can bring your own or use ours! Led by Program Coordinator Anna.
URL:https://godfreymillercenter.org/event/strength-conditioning-10/
LOCATION:Pavilion
END:VEVENT
BEGIN:VEVENT
DTSTART;TZID=America/New_York:20240221T103000
DTEND;TZID=America/New_York:20240221T113000
DTSTAMP:20260425T100819
CREATED:20240123T170450Z
LAST-MODIFIED:20240123T170450Z
UID:4959-1708511400-1708515000@godfreymillercenter.org
SUMMARY:Workshop: Green Greeting Cards
DESCRIPTION:***RSVP required\, call The Godfrey Miller Center office at 540-667-5869 to reserve your spot. \nJoin Lorraine for a fabulous greeting card workshop!  This workshop will have a green focus\, perfect for Spring and St Patrick’s Day.  (Suggested Donation: $5)
URL:https://godfreymillercenter.org/event/workshop-green-greeting-cards/
LOCATION:Parlor
END:VEVENT
BEGIN:VEVENT
DTSTART;TZID=America/New_York:20240221T123000
DTEND;TZID=America/New_York:20240221T133000
DTSTAMP:20260425T100819
CREATED:20240123T170450Z
LAST-MODIFIED:20240123T170640Z
UID:4960-1708518600-1708522200@godfreymillercenter.org
SUMMARY:Lunch
DESCRIPTION:***RSVP required\, call The Godfrey Miller Center office at 540-667-5869 to reserve your spot.\nTickets: $9.00
URL:https://godfreymillercenter.org/event/4960/
LOCATION:Pavilion
END:VEVENT
BEGIN:VEVENT
DTSTART;TZID=America/New_York:20240221T140000
DTEND;TZID=America/New_York:20240221T150000
DTSTAMP:20260425T100819
CREATED:20240123T170451Z
LAST-MODIFIED:20240123T170451Z
UID:4961-1708524000-1708527600@godfreymillercenter.org
SUMMARY:Exercise for Balance & Strength
DESCRIPTION:A low-impact program that includes joint check/warm-up\, range of motion/stretching\, strengthening\, cardiovascular endurance\, and joint check/cool down. Led by Sonna Russell. Ms. Russell is a gifted coach and was trained through the Arthritis Foundation. (Suggested donation – $3.00)
URL:https://godfreymillercenter.org/event/exercise-for-balance-strength-12/
LOCATION:Pavilion
END:VEVENT
BEGIN:VEVENT
DTSTART;TZID=America/New_York:20240222T100000
DTEND;TZID=America/New_York:20240222T120000
DTSTAMP:20260425T100819
CREATED:20240123T170451Z
LAST-MODIFIED:20240123T170451Z
UID:4962-1708596000-1708603200@godfreymillercenter.org
SUMMARY:Mahjong
DESCRIPTION:All are welcome to come and play Mahjong!
URL:https://godfreymillercenter.org/event/mahjong-90/
LOCATION:Parlor
END:VEVENT
BEGIN:VEVENT
DTSTART;TZID=America/New_York:20240222T123000
DTEND;TZID=America/New_York:20240222T133000
DTSTAMP:20260425T100819
CREATED:20240123T170451Z
LAST-MODIFIED:20240123T170631Z
UID:4963-1708605000-1708608600@godfreymillercenter.org
SUMMARY:Lunch
DESCRIPTION:***RSVP required\, call The Godfrey Miller Center office at 540-667-5869 to reserve your spot.\nTickets: $9.00 \n*	February 1: Salisbury Steak\, Roasted Cabbage\, Dessert\n*	February 15: Roast Pork\, Mac & Cheese\, Broccoli\, Dessert\n*	February 22: Bratwurst with sauteed onions and peppers\, German Potato Salad\, Dessert\n*	February 29: Chicken Noodle Soup\, Grilled Cheese \, Dessert
URL:https://godfreymillercenter.org/event/4963/
LOCATION:Pavilion
END:VEVENT
BEGIN:VEVENT
DTSTART;TZID=America/New_York:20240222T140000
DTEND;TZID=America/New_York:20240222T150000
DTSTAMP:20260425T100819
CREATED:20240123T170451Z
LAST-MODIFIED:20240123T170451Z
UID:4965-1708610400-1708614000@godfreymillercenter.org
SUMMARY:Strength & Conditioning
DESCRIPTION:This class is designed to increase physical strength through resistance exercise. All major muscle groups are worked from head to toe. We finish with core conditioning\, breathing\, and stretching for a complete workout. Dumbbells are used for each class\, you can bring your own or use ours! Led by Program Coordinator Anna.
URL:https://godfreymillercenter.org/event/strength-conditioning-11/
LOCATION:Pavilion
END:VEVENT
END:VCALENDAR