BEGIN:VCALENDAR
VERSION:2.0
PRODID:-//Godfrey Miller Center - ECPv6.15.20//NONSGML v1.0//EN
CALSCALE:GREGORIAN
METHOD:PUBLISH
X-ORIGINAL-URL:https://godfreymillercenter.org
X-WR-CALDESC:Events for Godfrey Miller Center
REFRESH-INTERVAL;VALUE=DURATION:PT1H
X-Robots-Tag:noindex
X-PUBLISHED-TTL:PT1H
BEGIN:VTIMEZONE
TZID:America/New_York
BEGIN:DAYLIGHT
TZOFFSETFROM:-0500
TZOFFSETTO:-0400
TZNAME:EDT
DTSTART:20220313T070000
END:DAYLIGHT
BEGIN:STANDARD
TZOFFSETFROM:-0400
TZOFFSETTO:-0500
TZNAME:EST
DTSTART:20221106T060000
END:STANDARD
BEGIN:DAYLIGHT
TZOFFSETFROM:-0500
TZOFFSETTO:-0400
TZNAME:EDT
DTSTART:20230312T070000
END:DAYLIGHT
BEGIN:STANDARD
TZOFFSETFROM:-0400
TZOFFSETTO:-0500
TZNAME:EST
DTSTART:20231105T060000
END:STANDARD
BEGIN:DAYLIGHT
TZOFFSETFROM:-0500
TZOFFSETTO:-0400
TZNAME:EDT
DTSTART:20240310T070000
END:DAYLIGHT
BEGIN:STANDARD
TZOFFSETFROM:-0400
TZOFFSETTO:-0500
TZNAME:EST
DTSTART:20241103T060000
END:STANDARD
END:VTIMEZONE
BEGIN:VEVENT
DTSTART;TZID=America/New_York:20230607T140000
DTEND;TZID=America/New_York:20230607T150000
DTSTAMP:20260425T233719
CREATED:20230525T172210Z
LAST-MODIFIED:20230525T172210Z
UID:4335-1686146400-1686150000@godfreymillercenter.org
SUMMARY:Exercise for Balance and Strength
DESCRIPTION:A low-impact program that includes joint check/warm-up\, range of motion/stretching\, strengthening\, cardiovascular endurance\, and joint check/cool down. Led by Sonna Russell. Ms. Russell is a gifted coach and was trained through the Arthritis Foundation. (Suggested donation – $3.00)
URL:https://godfreymillercenter.org/event/exercise-for-balance-and-strength-134/
LOCATION:Pavilion
END:VEVENT
BEGIN:VEVENT
DTSTART;TZID=America/New_York:20230608T100000
DTEND;TZID=America/New_York:20230608T120000
DTSTAMP:20260425T233719
CREATED:20230525T172210Z
LAST-MODIFIED:20230525T172210Z
UID:4336-1686218400-1686225600@godfreymillercenter.org
SUMMARY:Mahjong
DESCRIPTION:
URL:https://godfreymillercenter.org/event/mahjong-63/
LOCATION:Parlor
END:VEVENT
BEGIN:VEVENT
DTSTART;TZID=America/New_York:20230608T110000
DTEND;TZID=America/New_York:20230608T120000
DTSTAMP:20260425T233719
CREATED:20230525T172211Z
LAST-MODIFIED:20230525T172211Z
UID:4337-1686222000-1686225600@godfreymillercenter.org
SUMMARY:Computer Class: All About Microsoft Word
DESCRIPTION:This class will cover the basics of Microsoft Word and how to best use this program.  We will have computers available\, but you are welcome to bring your own device and any questions you may have! Taught by Jill LeTourneau.  \n***RSVP required\, call The Godfrey Miller Center office at 540-667-5869 to reserve your spot.
URL:https://godfreymillercenter.org/event/computer-class-all-about-microsoft-word-2/
LOCATION:Computer Lab
END:VEVENT
BEGIN:VEVENT
DTSTART;TZID=America/New_York:20230612T080000
DTEND;TZID=America/New_York:20230612T083000
DTSTAMP:20260425T233719
CREATED:20230525T172211Z
LAST-MODIFIED:20230525T172211Z
UID:4338-1686556800-1686558600@godfreymillercenter.org
SUMMARY:Walking Club
DESCRIPTION:Meet in the courtyard of Godfrey Miller Center to walk and socialize around downtown Winchester.
URL:https://godfreymillercenter.org/event/walking-club-38/
END:VEVENT
BEGIN:VEVENT
DTSTART;TZID=America/New_York:20230612T100000
DTEND;TZID=America/New_York:20230612T110000
DTSTAMP:20260425T233719
CREATED:20230525T172211Z
LAST-MODIFIED:20230525T172211Z
UID:4342-1686564000-1686567600@godfreymillercenter.org
SUMMARY:Smart Phone Help Session
DESCRIPTION:Join Program Coordinator Anna for help with a tablet\, iPad\, smart phone\, or computer.  Bring your device\, account passwords\, and any questions!
URL:https://godfreymillercenter.org/event/smart-phone-help-session/
END:VEVENT
BEGIN:VEVENT
DTSTART;TZID=America/New_York:20230612T100000
DTEND;TZID=America/New_York:20230612T120000
DTSTAMP:20260425T233719
CREATED:20230525T172211Z
LAST-MODIFIED:20230525T172211Z
UID:4339-1686564000-1686571200@godfreymillercenter.org
SUMMARY:Samba
DESCRIPTION:Samba is a card game variation of Canasta.  All are invited to come\, learn and play!
URL:https://godfreymillercenter.org/event/samba-30/
LOCATION:Parlor
END:VEVENT
BEGIN:VEVENT
DTSTART;TZID=America/New_York:20230612T100000
DTEND;TZID=America/New_York:20230612T120000
DTSTAMP:20260425T233719
CREATED:20230525T172211Z
LAST-MODIFIED:20230525T172211Z
UID:4340-1686564000-1686571200@godfreymillercenter.org
SUMMARY:Art Studio
DESCRIPTION:Art Studio is an open time for individuals to gather and work on their various art projects.  This is a social opportunity for artists of all levels to help each other and work independently. Recurs on every Monday of the month.
URL:https://godfreymillercenter.org/event/art-studio-65/
LOCATION:Pavilion
END:VEVENT
BEGIN:VEVENT
DTSTART;TZID=America/New_York:20230612T100000
DTEND;TZID=America/New_York:20230612T120000
DTSTAMP:20260425T233719
CREATED:20230525T172211Z
LAST-MODIFIED:20230525T172211Z
UID:4341-1686564000-1686571200@godfreymillercenter.org
SUMMARY:Jigsaw Puzzles
DESCRIPTION:Escape the heat with and enjoy the air conditioning while working on a jigsaw puzzle with others.  Fresh coffee provided!
URL:https://godfreymillercenter.org/event/jigsaw-puzzles-2/
END:VEVENT
BEGIN:VEVENT
DTSTART;TZID=America/New_York:20230612T123000
DTEND;TZID=America/New_York:20230612T133000
DTSTAMP:20260425T233719
CREATED:20230525T172211Z
LAST-MODIFIED:20230525T172417Z
UID:4343-1686573000-1686576600@godfreymillercenter.org
SUMMARY:Lunch
DESCRIPTION:***RSVP Required by the preceding Thursday.  Tickets are $8.50 and available in the Godfrey Miller Center office. \nMenu: Burger\, Fries\, Pickle Spear\, and Dessert
URL:https://godfreymillercenter.org/event/4343/
LOCATION:Pavilion
END:VEVENT
BEGIN:VEVENT
DTSTART;TZID=America/New_York:20230612T140000
DTEND;TZID=America/New_York:20230612T150000
DTSTAMP:20260425T233719
CREATED:20230525T172212Z
LAST-MODIFIED:20230525T172212Z
UID:4344-1686578400-1686582000@godfreymillercenter.org
SUMMARY:Exercise for Balance and Strength
DESCRIPTION:A low-impact program that includes joint check/warm-up\, range of motion/stretching\, strengthening\, cardiovascular endurance\, and joint check/cool down. Led by Sonna Russell. Ms. Russell is a gifted coach and was trained through the Arthritis Foundation. (Suggested donation – $3.00)
URL:https://godfreymillercenter.org/event/exercise-for-balance-and-strength-135/
LOCATION:Pavilion
END:VEVENT
BEGIN:VEVENT
DTSTART;TZID=America/New_York:20230613T100000
DTEND;TZID=America/New_York:20230613T120000
DTSTAMP:20260425T233719
CREATED:20230525T172212Z
LAST-MODIFIED:20230525T172212Z
UID:4345-1686650400-1686657600@godfreymillercenter.org
SUMMARY:Canasta
DESCRIPTION:
URL:https://godfreymillercenter.org/event/canasta-70/
LOCATION:Parlor
END:VEVENT
BEGIN:VEVENT
DTSTART;TZID=America/New_York:20230613T140000
DTEND;TZID=America/New_York:20230613T150000
DTSTAMP:20260425T233719
CREATED:20230525T172212Z
LAST-MODIFIED:20230525T172212Z
UID:4346-1686664800-1686668400@godfreymillercenter.org
SUMMARY:Strength and Conditioning Class
DESCRIPTION:This class is designed to increase physical strength through resistance exercise. All major muscle groups are worked from head to toe. We finish with core conditioning\, breathing\, and stretching for a complete workout. Dumbbells are used for each class\, you can bring your own or use ours! Led by Program Coordinator Anna.
URL:https://godfreymillercenter.org/event/strength-and-conditioning-class-72/
LOCATION:Pavilion
END:VEVENT
BEGIN:VEVENT
DTSTART;TZID=America/New_York:20230614T100000
DTEND;TZID=America/New_York:20230614T120000
DTSTAMP:20260425T233719
CREATED:20230525T172212Z
LAST-MODIFIED:20230525T172212Z
UID:4347-1686736800-1686744000@godfreymillercenter.org
SUMMARY:Pinochle
DESCRIPTION:
URL:https://godfreymillercenter.org/event/pinochle-59/
LOCATION:Parlor or Dining Room
END:VEVENT
BEGIN:VEVENT
DTSTART;TZID=America/New_York:20230614T123000
DTEND;TZID=America/New_York:20230614T133000
DTSTAMP:20260425T233719
CREATED:20230525T172212Z
LAST-MODIFIED:20230525T172352Z
UID:4348-1686745800-1686749400@godfreymillercenter.org
SUMMARY:Lunch
DESCRIPTION:***RSVP Required by the preceding Monday.  Tickets are $8.50 and available in the Godfrey Miller Center office. \nMenu:
URL:https://godfreymillercenter.org/event/4348/
LOCATION:Pavilion
END:VEVENT
BEGIN:VEVENT
DTSTART;TZID=America/New_York:20230614T140000
DTEND;TZID=America/New_York:20230614T150000
DTSTAMP:20260425T233719
CREATED:20230525T172215Z
LAST-MODIFIED:20230525T172215Z
UID:4349-1686751200-1686754800@godfreymillercenter.org
SUMMARY:Exercise for Balance and Strength
DESCRIPTION:A low-impact program that includes joint check/warm-up\, range of motion/stretching\, strengthening\, cardiovascular endurance\, and joint check/cool down. Led by Sonna Russell. Ms. Russell is a gifted coach and was trained through the Arthritis Foundation. (Suggested donation – $3.00)
URL:https://godfreymillercenter.org/event/exercise-for-balance-and-strength-136/
LOCATION:Pavilion
END:VEVENT
BEGIN:VEVENT
DTSTART;TZID=America/New_York:20230615T100000
DTEND;TZID=America/New_York:20230615T120000
DTSTAMP:20260425T233719
CREATED:20230525T172216Z
LAST-MODIFIED:20230525T172216Z
UID:4351-1686823200-1686830400@godfreymillercenter.org
SUMMARY:Mahjong
DESCRIPTION:
URL:https://godfreymillercenter.org/event/mahjong-64/
LOCATION:Parlor
END:VEVENT
BEGIN:VEVENT
DTSTART;TZID=America/New_York:20230615T110000
DTEND;TZID=America/New_York:20230615T120000
DTSTAMP:20260425T233719
CREATED:20230525T172216Z
LAST-MODIFIED:20230525T172216Z
UID:4350-1686826800-1686830400@godfreymillercenter.org
SUMMARY:Champagne Brunch
DESCRIPTION:This is a brunch you won’t want to miss.  The menu will be filled with sweet and savory delights along with Champagne or Sparkling Apple Cider Mimosas\, Bloody Mary’s\, and Peach Bellini’s.  \nTickets: $15 \n***RSVP required\, call The Godfrey Miller Center office at 540-667-5869 to reserve your spot.
URL:https://godfreymillercenter.org/event/champagne-brunch/
END:VEVENT
BEGIN:VEVENT
DTSTART;TZID=America/New_York:20230615T110000
DTEND;TZID=America/New_York:20230615T120000
DTSTAMP:20260425T233719
CREATED:20230525T172216Z
LAST-MODIFIED:20230525T172216Z
UID:4352-1686826800-1686830400@godfreymillercenter.org
SUMMARY:Computer Class: All About Microsoft Word
DESCRIPTION:This class will cover the basics of Microsoft Word and how to best use this program.  We will have computers available\, but you are welcome to bring your own device and any questions you may have! Taught by Jill LeTourneau.  \n***RSVP required\, call The Godfrey Miller Center office at 540-667-5869 to reserve your spot.
URL:https://godfreymillercenter.org/event/computer-class-all-about-microsoft-word-3/
LOCATION:Computer Lab
END:VEVENT
BEGIN:VEVENT
DTSTART;TZID=America/New_York:20230615T140000
DTEND;TZID=America/New_York:20230615T150000
DTSTAMP:20260425T233719
CREATED:20230525T172216Z
LAST-MODIFIED:20230525T172216Z
UID:4353-1686837600-1686841200@godfreymillercenter.org
SUMMARY:Strength and Conditioning Class
DESCRIPTION:This class is designed to increase physical strength through resistance exercise. All major muscle groups are worked from head to toe. We finish with core conditioning\, breathing\, and stretching for a complete workout. Dumbbells are used for each class\, you can bring your own or use ours! Led by Program Coordinator Anna.
URL:https://godfreymillercenter.org/event/strength-and-conditioning-class-73/
LOCATION:Pavilion
END:VEVENT
BEGIN:VEVENT
DTSTART;TZID=America/New_York:20230619T080000
DTEND;TZID=America/New_York:20230619T083000
DTSTAMP:20260425T233719
CREATED:20230525T172216Z
LAST-MODIFIED:20230525T172216Z
UID:4354-1687161600-1687163400@godfreymillercenter.org
SUMMARY:Walking Club
DESCRIPTION:Meet in the courtyard of Godfrey Miller Center to walk and socialize around downtown Winchester.
URL:https://godfreymillercenter.org/event/walking-club-39/
END:VEVENT
BEGIN:VEVENT
DTSTART;TZID=America/New_York:20230619T100000
DTEND;TZID=America/New_York:20230619T120000
DTSTAMP:20260425T233719
CREATED:20230525T172216Z
LAST-MODIFIED:20230525T172216Z
UID:4355-1687168800-1687176000@godfreymillercenter.org
SUMMARY:Samba
DESCRIPTION:Samba is a card game variation of Canasta.  All are invited to come\, learn and play!
URL:https://godfreymillercenter.org/event/samba-31/
LOCATION:Parlor
END:VEVENT
BEGIN:VEVENT
DTSTART;TZID=America/New_York:20230619T100000
DTEND;TZID=America/New_York:20230619T120000
DTSTAMP:20260425T233719
CREATED:20230525T172217Z
LAST-MODIFIED:20230525T172217Z
UID:4356-1687168800-1687176000@godfreymillercenter.org
SUMMARY:Art Studio
DESCRIPTION:Art Studio is an open time for individuals to gather and work on their various art projects.  This is a social opportunity for artists of all levels to help each other and work independently. Recurs on every Monday of the month.
URL:https://godfreymillercenter.org/event/art-studio-66/
LOCATION:Pavilion
END:VEVENT
BEGIN:VEVENT
DTSTART;TZID=America/New_York:20230619T100000
DTEND;TZID=America/New_York:20230619T120000
DTSTAMP:20260425T233719
CREATED:20230525T172217Z
LAST-MODIFIED:20230525T172217Z
UID:4357-1687168800-1687176000@godfreymillercenter.org
SUMMARY:Jigsaw Puzzles
DESCRIPTION:Escape the heat with and enjoy the air conditioning while working on a jigsaw puzzle with others.  Fresh coffee provided!
URL:https://godfreymillercenter.org/event/jigsaw-puzzles-3/
END:VEVENT
BEGIN:VEVENT
DTSTART;TZID=America/New_York:20230619T123000
DTEND;TZID=America/New_York:20230619T133000
DTSTAMP:20260425T233719
CREATED:20230525T172217Z
LAST-MODIFIED:20230525T172401Z
UID:4358-1687177800-1687181400@godfreymillercenter.org
SUMMARY:Lunch
DESCRIPTION:***RSVP Required by the preceding Thursday. Tickets are $8.50 and available in the Godfrey Miller Center office. \nMenu: Chili Loaded Bake Potatoes\, Summer Salad\, Bread\, and Dessert
URL:https://godfreymillercenter.org/event/4358/
LOCATION:Pavilion
END:VEVENT
BEGIN:VEVENT
DTSTART;TZID=America/New_York:20230619T140000
DTEND;TZID=America/New_York:20230619T150000
DTSTAMP:20260425T233719
CREATED:20230525T172217Z
LAST-MODIFIED:20230525T172217Z
UID:4359-1687183200-1687186800@godfreymillercenter.org
SUMMARY:Exercise for Balance and Strength
DESCRIPTION:A low-impact program that includes joint check/warm-up\, range of motion/stretching\, strengthening\, cardiovascular endurance\, and joint check/cool down. Led by Sonna Russell. Ms. Russell is a gifted coach and was trained through the Arthritis Foundation. (Suggested donation – $3.00)
URL:https://godfreymillercenter.org/event/exercise-for-balance-and-strength-137/
LOCATION:Pavilion
END:VEVENT
BEGIN:VEVENT
DTSTART;TZID=America/New_York:20230620T100000
DTEND;TZID=America/New_York:20230620T120000
DTSTAMP:20260425T233719
CREATED:20230525T172217Z
LAST-MODIFIED:20230525T172217Z
UID:4360-1687255200-1687262400@godfreymillercenter.org
SUMMARY:Canasta
DESCRIPTION:
URL:https://godfreymillercenter.org/event/canasta-71/
LOCATION:Parlor
END:VEVENT
BEGIN:VEVENT
DTSTART;TZID=America/New_York:20230620T100000
DTEND;TZID=America/New_York:20230620T120000
DTSTAMP:20260425T233719
CREATED:20230525T172217Z
LAST-MODIFIED:20230525T172217Z
UID:4361-1687255200-1687262400@godfreymillercenter.org
SUMMARY:Art Class: Acrylic & Watercolor Painting
DESCRIPTION:In this course\, students will develop painting skills\, techniques\, and aesthetic sensibilities related to artistic expression in acrylic and/or watercolor mediums. Each week will focus on a different subject\, emphasizing color and composition\, and enabling students to expand and better define their unique style and technique. Taught by Kate Williams. (Suggested donation – $15 per class)  \n***RSVP required\, call The Godfrey Miller Center office at 540-667-5869 to reserve your spot.
URL:https://godfreymillercenter.org/event/art-class-acrylic-watercolor-painting-11/
END:VEVENT
BEGIN:VEVENT
DTSTART;TZID=America/New_York:20230620T130000
DTEND;TZID=America/New_York:20230620T150000
DTSTAMP:20260425T233719
CREATED:20230525T172217Z
LAST-MODIFIED:20230525T172217Z
UID:4362-1687266000-1687273200@godfreymillercenter.org
SUMMARY:Art Class: Drawing
DESCRIPTION:In this course\, students will improve drawing skills by capturing scenes of Winchester.  Through a combination of landscapes\, buildings\, and people we will explore different drawing techniques such as graphite\, charcoal\, and pen and ink.  Students will have their choice of mediums to help define their styles. Taught by master artist Kate Williams. (Suggested donation – $15 per class)  \n***RSVP required\, call The Godfrey Miller Center office at 540-667-5869 to reserve your spot.
URL:https://godfreymillercenter.org/event/art-class-drawing-11/
END:VEVENT
BEGIN:VEVENT
DTSTART;TZID=America/New_York:20230621T100000
DTEND;TZID=America/New_York:20230621T120000
DTSTAMP:20260425T233719
CREATED:20230525T172218Z
LAST-MODIFIED:20230525T172218Z
UID:4364-1687341600-1687348800@godfreymillercenter.org
SUMMARY:Pinochle
DESCRIPTION:
URL:https://godfreymillercenter.org/event/pinochle-60/
LOCATION:Parlor or Dining Room
END:VEVENT
BEGIN:VEVENT
DTSTART;TZID=America/New_York:20230621T103000
DTEND;TZID=America/New_York:20230621T113000
DTSTAMP:20260425T233719
CREATED:20230525T172217Z
LAST-MODIFIED:20230525T172217Z
UID:4363-1687343400-1687347000@godfreymillercenter.org
SUMMARY:Workshop: Summer Fun Greeting Cards
DESCRIPTION:Come make one of a kind greeting cards in this workshop.  All supplies provided. (Suggested Donation: $3) \n***RSVP required\, call The Godfrey Miller Center office at 540-667-5869 to reserve your spot.
URL:https://godfreymillercenter.org/event/workshop-summer-fun-greeting-cards/
LOCATION:Parlor
END:VEVENT
END:VCALENDAR