BEGIN:VCALENDAR
VERSION:2.0
PRODID:-//Godfrey Miller Center - ECPv6.15.20//NONSGML v1.0//EN
CALSCALE:GREGORIAN
METHOD:PUBLISH
X-ORIGINAL-URL:https://godfreymillercenter.org
X-WR-CALDESC:Events for Godfrey Miller Center
REFRESH-INTERVAL;VALUE=DURATION:PT1H
X-Robots-Tag:noindex
X-PUBLISHED-TTL:PT1H
BEGIN:VTIMEZONE
TZID:America/New_York
BEGIN:DAYLIGHT
TZOFFSETFROM:-0500
TZOFFSETTO:-0400
TZNAME:EDT
DTSTART:20220313T070000
END:DAYLIGHT
BEGIN:STANDARD
TZOFFSETFROM:-0400
TZOFFSETTO:-0500
TZNAME:EST
DTSTART:20221106T060000
END:STANDARD
BEGIN:DAYLIGHT
TZOFFSETFROM:-0500
TZOFFSETTO:-0400
TZNAME:EDT
DTSTART:20230312T070000
END:DAYLIGHT
BEGIN:STANDARD
TZOFFSETFROM:-0400
TZOFFSETTO:-0500
TZNAME:EST
DTSTART:20231105T060000
END:STANDARD
BEGIN:DAYLIGHT
TZOFFSETFROM:-0500
TZOFFSETTO:-0400
TZNAME:EDT
DTSTART:20240310T070000
END:DAYLIGHT
BEGIN:STANDARD
TZOFFSETFROM:-0400
TZOFFSETTO:-0500
TZNAME:EST
DTSTART:20241103T060000
END:STANDARD
END:VTIMEZONE
BEGIN:VEVENT
DTSTART;TZID=America/New_York:20230710T080000
DTEND;TZID=America/New_York:20230710T083000
DTSTAMP:20260425T233719
CREATED:20230628T183609Z
LAST-MODIFIED:20230628T183609Z
UID:4402-1688976000-1688977800@godfreymillercenter.org
SUMMARY:Walking Club
DESCRIPTION:Meet in the courtyard of Godfrey Miller Center to walk and socialize around downtown Winchester.
URL:https://godfreymillercenter.org/event/walking-club-41/
END:VEVENT
BEGIN:VEVENT
DTSTART;TZID=America/New_York:20230710T100000
DTEND;TZID=America/New_York:20230710T120000
DTSTAMP:20260425T233719
CREATED:20230628T183609Z
LAST-MODIFIED:20230628T183609Z
UID:4403-1688983200-1688990400@godfreymillercenter.org
SUMMARY:Samba
DESCRIPTION:Samba is a card game variation of Canasta.  All are invited to come\, learn and play!
URL:https://godfreymillercenter.org/event/samba-33/
LOCATION:Parlor
END:VEVENT
BEGIN:VEVENT
DTSTART;TZID=America/New_York:20230710T100000
DTEND;TZID=America/New_York:20230710T120000
DTSTAMP:20260425T233719
CREATED:20230628T183609Z
LAST-MODIFIED:20230628T183609Z
UID:4404-1688983200-1688990400@godfreymillercenter.org
SUMMARY:Art Studio
DESCRIPTION:Art Studio is an open time for individuals to gather and work on their various art projects.  This is a social opportunity for artists of all levels to help each other and work independently. Recurs on every Monday of the month.
URL:https://godfreymillercenter.org/event/art-studio-68/
LOCATION:Pavilion
END:VEVENT
BEGIN:VEVENT
DTSTART;TZID=America/New_York:20230710T100000
DTEND;TZID=America/New_York:20230710T120000
DTSTAMP:20260425T233719
CREATED:20230628T183610Z
LAST-MODIFIED:20230628T183610Z
UID:4405-1688983200-1688990400@godfreymillercenter.org
SUMMARY:Jigsaw Puzzles
DESCRIPTION:Escape the heat with and enjoy the air conditioning while working on a jigsaw puzzle with others.  Fresh coffee provided!
URL:https://godfreymillercenter.org/event/jigsaw-puzzles-5/
END:VEVENT
BEGIN:VEVENT
DTSTART;TZID=America/New_York:20230710T123000
DTEND;TZID=America/New_York:20230710T133000
DTSTAMP:20260425T233719
CREATED:20230628T183610Z
LAST-MODIFIED:20230628T183834Z
UID:4406-1688992200-1688995800@godfreymillercenter.org
SUMMARY:Lunch
DESCRIPTION:***RSVP Required by the preceding Thursday. Tickets are $8.50 and available in the Godfrey Miller Center office. \nMenu: Chicken Alfredo\, Caprese Salad\, and Dessert
URL:https://godfreymillercenter.org/event/4406/
LOCATION:Pavilion
END:VEVENT
BEGIN:VEVENT
DTSTART;TZID=America/New_York:20230710T140000
DTEND;TZID=America/New_York:20230710T150000
DTSTAMP:20260425T233719
CREATED:20230628T183610Z
LAST-MODIFIED:20230628T183610Z
UID:4407-1688997600-1689001200@godfreymillercenter.org
SUMMARY:Exercise for Balance and Strength
DESCRIPTION:A low-impact program that includes joint check/warm-up\, range of motion/stretching\, strengthening\, cardiovascular endurance\, and joint check/cool down. Led by Sonna Russell. Ms. Russell is a gifted coach and was trained through the Arthritis Foundation. (Suggested donation – $3.00)
URL:https://godfreymillercenter.org/event/exercise-for-balance-and-strength-142/
LOCATION:Pavilion
END:VEVENT
BEGIN:VEVENT
DTSTART;TZID=America/New_York:20230711T140000
DTEND;TZID=America/New_York:20230711T150000
DTSTAMP:20260425T233719
CREATED:20230628T183610Z
LAST-MODIFIED:20230628T183610Z
UID:4408-1689084000-1689087600@godfreymillercenter.org
SUMMARY:Strength and Conditioning Class
DESCRIPTION:This class is designed to increase physical strength through resistance exercise. All major muscle groups are worked from head to toe. We finish with core conditioning\, breathing\, and stretching for a complete workout. Dumbbells are used for each class\, you can bring your own or use ours! Led by Program Coordinator Anna.
URL:https://godfreymillercenter.org/event/strength-and-conditioning-class-76/
LOCATION:Pavilion
END:VEVENT
BEGIN:VEVENT
DTSTART;TZID=America/New_York:20230712T100000
DTEND;TZID=America/New_York:20230712T120000
DTSTAMP:20260425T233719
CREATED:20230628T183611Z
LAST-MODIFIED:20230628T183611Z
UID:4409-1689156000-1689163200@godfreymillercenter.org
SUMMARY:Pinochle
DESCRIPTION:
URL:https://godfreymillercenter.org/event/pinochle-62/
LOCATION:Parlor or Dining Room
END:VEVENT
BEGIN:VEVENT
DTSTART;TZID=America/New_York:20230712T123000
DTEND;TZID=America/New_York:20230712T133000
DTSTAMP:20260425T233719
CREATED:20230628T183611Z
LAST-MODIFIED:20230628T183828Z
UID:4410-1689165000-1689168600@godfreymillercenter.org
SUMMARY:Lunch
DESCRIPTION:***RSVP Required by the preceding Monday. Tickets are $8.50 and available in the Godfrey Miller Center office. \nMenu: Thai Noodles with Pork\, Roasted Veggies\, and Dessert
URL:https://godfreymillercenter.org/event/4410/
LOCATION:Pavilion
END:VEVENT
BEGIN:VEVENT
DTSTART;TZID=America/New_York:20230712T140000
DTEND;TZID=America/New_York:20230712T150000
DTSTAMP:20260425T233719
CREATED:20230628T183611Z
LAST-MODIFIED:20230628T183611Z
UID:4411-1689170400-1689174000@godfreymillercenter.org
SUMMARY:Exercise for Balance and Strength
DESCRIPTION:A low-impact program that includes joint check/warm-up\, range of motion/stretching\, strengthening\, cardiovascular endurance\, and joint check/cool down. Led by Sonna Russell. Ms. Russell is a gifted coach and was trained through the Arthritis Foundation. (Suggested donation – $3.00)
URL:https://godfreymillercenter.org/event/exercise-for-balance-and-strength-143/
LOCATION:Pavilion
END:VEVENT
BEGIN:VEVENT
DTSTART;TZID=America/New_York:20230713T100000
DTEND;TZID=America/New_York:20230713T120000
DTSTAMP:20260425T233719
CREATED:20230628T183611Z
LAST-MODIFIED:20230628T183611Z
UID:4412-1689242400-1689249600@godfreymillercenter.org
SUMMARY:Mahjong
DESCRIPTION:
URL:https://godfreymillercenter.org/event/mahjong-67/
LOCATION:Parlor
END:VEVENT
BEGIN:VEVENT
DTSTART;TZID=America/New_York:20230713T140000
DTEND;TZID=America/New_York:20230713T150000
DTSTAMP:20260425T233719
CREATED:20230628T183611Z
LAST-MODIFIED:20230628T183611Z
UID:4413-1689256800-1689260400@godfreymillercenter.org
SUMMARY:Strength and Conditioning Class
DESCRIPTION:This class is designed to increase physical strength through resistance exercise. All major muscle groups are worked from head to toe. We finish with core conditioning\, breathing\, and stretching for a complete workout. Dumbbells are used for each class\, you can bring your own or use ours! Led by Program Coordinator Anna.
URL:https://godfreymillercenter.org/event/strength-and-conditioning-class-77/
LOCATION:Pavilion
END:VEVENT
BEGIN:VEVENT
DTSTART;TZID=America/New_York:20230717T080000
DTEND;TZID=America/New_York:20230717T083000
DTSTAMP:20260425T233719
CREATED:20230628T183612Z
LAST-MODIFIED:20230628T183612Z
UID:4414-1689580800-1689582600@godfreymillercenter.org
SUMMARY:Walking Club
DESCRIPTION:Meet in the courtyard of Godfrey Miller Center to walk and socialize around downtown Winchester.
URL:https://godfreymillercenter.org/event/walking-club-42/
END:VEVENT
BEGIN:VEVENT
DTSTART;TZID=America/New_York:20230717T100000
DTEND;TZID=America/New_York:20230717T120000
DTSTAMP:20260425T233719
CREATED:20230628T183612Z
LAST-MODIFIED:20230628T183612Z
UID:4415-1689588000-1689595200@godfreymillercenter.org
SUMMARY:Art Studio
DESCRIPTION:Art Studio is an open time for individuals to gather and work on their various art projects.  This is a social opportunity for artists of all levels to help each other and work independently. Recurs on every Monday of the month.
URL:https://godfreymillercenter.org/event/art-studio-69/
LOCATION:Pavilion
END:VEVENT
BEGIN:VEVENT
DTSTART;TZID=America/New_York:20230717T100000
DTEND;TZID=America/New_York:20230717T120000
DTSTAMP:20260425T233719
CREATED:20230628T183612Z
LAST-MODIFIED:20230628T183612Z
UID:4417-1689588000-1689595200@godfreymillercenter.org
SUMMARY:Jigsaw Puzzles
DESCRIPTION:Escape the heat with and enjoy the air conditioning while working on a jigsaw puzzle with others.  Fresh coffee provided!
URL:https://godfreymillercenter.org/event/jigsaw-puzzles-6/
END:VEVENT
BEGIN:VEVENT
DTSTART;TZID=America/New_York:20230717T100000
DTEND;TZID=America/New_York:20230717T120000
DTSTAMP:20260425T233719
CREATED:20230628T183612Z
LAST-MODIFIED:20230628T183612Z
UID:4418-1689588000-1689595200@godfreymillercenter.org
SUMMARY:Samba
DESCRIPTION:Samba is a card game variation of Canasta.  All are invited to come\, learn and play!
URL:https://godfreymillercenter.org/event/samba-34/
LOCATION:Parlor
END:VEVENT
BEGIN:VEVENT
DTSTART;TZID=America/New_York:20230717T103000
DTEND;TZID=America/New_York:20230717T113000
DTSTAMP:20260425T233719
CREATED:20230628T183612Z
LAST-MODIFIED:20230628T183612Z
UID:4416-1689589800-1689593400@godfreymillercenter.org
SUMMARY:Smart Phone Help Session
DESCRIPTION:Join Program Coordinator Anna for help with your smart phone.  Bring your device\, account passwords\, and any questions!
URL:https://godfreymillercenter.org/event/smart-phone-help-session-3/
END:VEVENT
BEGIN:VEVENT
DTSTART;TZID=America/New_York:20230717T123000
DTEND;TZID=America/New_York:20230717T133000
DTSTAMP:20260425T233719
CREATED:20230628T183612Z
LAST-MODIFIED:20230628T183803Z
UID:4419-1689597000-1689600600@godfreymillercenter.org
SUMMARY:Lunch
DESCRIPTION:***RSVP Required by the preceding Thursday. Tickets are $8.50 and available in the Godfrey Miller Center office. \nMenu: Chipotle Chicken Wraps\, Mexican Beans\, and Dessert
URL:https://godfreymillercenter.org/event/4419/
LOCATION:Pavilion
END:VEVENT
BEGIN:VEVENT
DTSTART;TZID=America/New_York:20230717T140000
DTEND;TZID=America/New_York:20230717T150000
DTSTAMP:20260425T233719
CREATED:20230628T183612Z
LAST-MODIFIED:20230628T183612Z
UID:4420-1689602400-1689606000@godfreymillercenter.org
SUMMARY:Exercise for Balance and Strength
DESCRIPTION:A low-impact program that includes joint check/warm-up\, range of motion/stretching\, strengthening\, cardiovascular endurance\, and joint check/cool down. Led by Sonna Russell. Ms. Russell is a gifted coach and was trained through the Arthritis Foundation. (Suggested donation – $3.00)
URL:https://godfreymillercenter.org/event/exercise-for-balance-and-strength-144/
LOCATION:Pavilion
END:VEVENT
BEGIN:VEVENT
DTSTART;TZID=America/New_York:20230718T100000
DTEND;TZID=America/New_York:20230718T120000
DTSTAMP:20260425T233719
CREATED:20230628T183612Z
LAST-MODIFIED:20230628T183612Z
UID:4421-1689674400-1689681600@godfreymillercenter.org
SUMMARY:Canasta
DESCRIPTION:
URL:https://godfreymillercenter.org/event/canasta-73/
LOCATION:Parlor
END:VEVENT
BEGIN:VEVENT
DTSTART;TZID=America/New_York:20230718T100000
DTEND;TZID=America/New_York:20230718T120000
DTSTAMP:20260425T233719
CREATED:20230628T183612Z
LAST-MODIFIED:20230628T183612Z
UID:4422-1689674400-1689681600@godfreymillercenter.org
SUMMARY:Art Class: Acrylic & Watercolor Painting
DESCRIPTION:In this course\, students will develop painting skills\, techniques\, and aesthetic sensibilities related to artistic expression in acrylic and/or watercolor mediums. Each week will focus on a different subject\, emphasizing color and composition\, and enabling students to expand and better define their unique style and technique. Taught by Kate Williams. (Suggested donation – $15 per class)  \n***RSVP required\, call The Godfrey Miller Center office at 540-667-5869 to reserve your spot.
URL:https://godfreymillercenter.org/event/art-class-acrylic-watercolor-painting-13/
END:VEVENT
BEGIN:VEVENT
DTSTART;TZID=America/New_York:20230718T130000
DTEND;TZID=America/New_York:20230718T150000
DTSTAMP:20260425T233719
CREATED:20230628T183613Z
LAST-MODIFIED:20230628T183613Z
UID:4423-1689685200-1689692400@godfreymillercenter.org
SUMMARY:Art Class: Drawing
DESCRIPTION:In this course\, students will improve drawing skills by capturing scenes of Winchester.  Through a combination of landscapes\, buildings\, and people we will explore different drawing techniques such as graphite\, charcoal\, and pen and ink.  Students will have their choice of mediums to help define their styles. Taught by master artist Kate Williams. (Suggested donation – $15 per class)  \n***RSVP required\, call The Godfrey Miller Center office at 540-667-5869 to reserve your spot.
URL:https://godfreymillercenter.org/event/art-class-drawing-13/
END:VEVENT
BEGIN:VEVENT
DTSTART;TZID=America/New_York:20230718T140000
DTEND;TZID=America/New_York:20230718T150000
DTSTAMP:20260425T233719
CREATED:20230628T183613Z
LAST-MODIFIED:20230628T183613Z
UID:4424-1689688800-1689692400@godfreymillercenter.org
SUMMARY:Strength and Conditioning Class
DESCRIPTION:This class is designed to increase physical strength through resistance exercise. All major muscle groups are worked from head to toe. We finish with core conditioning\, breathing\, and stretching for a complete workout. Dumbbells are used for each class\, you can bring your own or use ours! Led by Program Coordinator Anna.
URL:https://godfreymillercenter.org/event/strength-and-conditioning-class-78/
LOCATION:Pavilion
END:VEVENT
BEGIN:VEVENT
DTSTART;TZID=America/New_York:20230719T100000
DTEND;TZID=America/New_York:20230719T120000
DTSTAMP:20260425T233719
CREATED:20230628T183613Z
LAST-MODIFIED:20230628T183613Z
UID:4425-1689760800-1689768000@godfreymillercenter.org
SUMMARY:Pinochle
DESCRIPTION:
URL:https://godfreymillercenter.org/event/pinochle-63/
LOCATION:Parlor or Dining Room
END:VEVENT
BEGIN:VEVENT
DTSTART;TZID=America/New_York:20230719T123000
DTEND;TZID=America/New_York:20230719T133000
DTSTAMP:20260425T233719
CREATED:20230628T183613Z
LAST-MODIFIED:20230628T183755Z
UID:4426-1689769800-1689773400@godfreymillercenter.org
SUMMARY:Lunch
DESCRIPTION:***RSVP Required by the preceding Monday. Tickets are $8.50 and available in the Godfrey Miller Center office. \nMenu: Meatloaf\, Mashed Potatoes\, Broccoli\, and Dessert
URL:https://godfreymillercenter.org/event/4426/
LOCATION:Pavilion
END:VEVENT
BEGIN:VEVENT
DTSTART;TZID=America/New_York:20230719T140000
DTEND;TZID=America/New_York:20230719T150000
DTSTAMP:20260425T233719
CREATED:20230628T183613Z
LAST-MODIFIED:20230628T183613Z
UID:4427-1689775200-1689778800@godfreymillercenter.org
SUMMARY:Exercise for Balance and Strength
DESCRIPTION:A low-impact program that includes joint check/warm-up\, range of motion/stretching\, strengthening\, cardiovascular endurance\, and joint check/cool down. Led by Sonna Russell. Ms. Russell is a gifted coach and was trained through the Arthritis Foundation. (Suggested donation – $3.00)
URL:https://godfreymillercenter.org/event/exercise-for-balance-and-strength-145/
LOCATION:Pavilion
END:VEVENT
BEGIN:VEVENT
DTSTART;TZID=America/New_York:20230720T100000
DTEND;TZID=America/New_York:20230720T120000
DTSTAMP:20260425T233719
CREATED:20230628T183613Z
LAST-MODIFIED:20230628T183613Z
UID:4428-1689847200-1689854400@godfreymillercenter.org
SUMMARY:Mahjong
DESCRIPTION:
URL:https://godfreymillercenter.org/event/mahjong-68/
LOCATION:Parlor
END:VEVENT
BEGIN:VEVENT
DTSTART;TZID=America/New_York:20230720T140000
DTEND;TZID=America/New_York:20230720T150000
DTSTAMP:20260425T233719
CREATED:20230628T183613Z
LAST-MODIFIED:20230628T183613Z
UID:4429-1689861600-1689865200@godfreymillercenter.org
SUMMARY:Strength and Conditioning Class
DESCRIPTION:This class is designed to increase physical strength through resistance exercise. All major muscle groups are worked from head to toe. We finish with core conditioning\, breathing\, and stretching for a complete workout. Dumbbells are used for each class\, you can bring your own or use ours! Led by Program Coordinator Anna.
URL:https://godfreymillercenter.org/event/strength-and-conditioning-class-79/
LOCATION:Pavilion
END:VEVENT
BEGIN:VEVENT
DTSTART;TZID=America/New_York:20230724T080000
DTEND;TZID=America/New_York:20230724T083000
DTSTAMP:20260425T233719
CREATED:20230628T183614Z
LAST-MODIFIED:20230628T183614Z
UID:4430-1690185600-1690187400@godfreymillercenter.org
SUMMARY:Walking Club
DESCRIPTION:Meet in the courtyard of Godfrey Miller Center to walk and socialize around downtown Winchester.
URL:https://godfreymillercenter.org/event/walking-club-43/
END:VEVENT
BEGIN:VEVENT
DTSTART;TZID=America/New_York:20230724T100000
DTEND;TZID=America/New_York:20230724T120000
DTSTAMP:20260425T233719
CREATED:20230628T183614Z
LAST-MODIFIED:20230628T183614Z
UID:4431-1690192800-1690200000@godfreymillercenter.org
SUMMARY:Art Studio
DESCRIPTION:Art Studio is an open time for individuals to gather and work on their various art projects.  This is a social opportunity for artists of all levels to help each other and work independently. Recurs on every Monday of the month.
URL:https://godfreymillercenter.org/event/art-studio-70/
LOCATION:Pavilion
END:VEVENT
END:VCALENDAR