BEGIN:VCALENDAR
VERSION:2.0
PRODID:-//Godfrey Miller Center - ECPv6.15.20//NONSGML v1.0//EN
CALSCALE:GREGORIAN
METHOD:PUBLISH
X-ORIGINAL-URL:https://godfreymillercenter.org
X-WR-CALDESC:Events for Godfrey Miller Center
REFRESH-INTERVAL;VALUE=DURATION:PT1H
X-Robots-Tag:noindex
X-PUBLISHED-TTL:PT1H
BEGIN:VTIMEZONE
TZID:America/New_York
BEGIN:DAYLIGHT
TZOFFSETFROM:-0500
TZOFFSETTO:-0400
TZNAME:EDT
DTSTART:20220313T070000
END:DAYLIGHT
BEGIN:STANDARD
TZOFFSETFROM:-0400
TZOFFSETTO:-0500
TZNAME:EST
DTSTART:20221106T060000
END:STANDARD
BEGIN:DAYLIGHT
TZOFFSETFROM:-0500
TZOFFSETTO:-0400
TZNAME:EDT
DTSTART:20230312T070000
END:DAYLIGHT
BEGIN:STANDARD
TZOFFSETFROM:-0400
TZOFFSETTO:-0500
TZNAME:EST
DTSTART:20231105T060000
END:STANDARD
BEGIN:DAYLIGHT
TZOFFSETFROM:-0500
TZOFFSETTO:-0400
TZNAME:EDT
DTSTART:20240310T070000
END:DAYLIGHT
BEGIN:STANDARD
TZOFFSETFROM:-0400
TZOFFSETTO:-0500
TZNAME:EST
DTSTART:20241103T060000
END:STANDARD
END:VTIMEZONE
BEGIN:VEVENT
DTSTART;TZID=America/New_York:20231204T080000
DTEND;TZID=America/New_York:20231204T083000
DTSTAMP:20260425T115145
CREATED:20221220T153340Z
LAST-MODIFIED:20231115T193706Z
UID:3931-1701676800-1701678600@godfreymillercenter.org
SUMMARY:Walking Club
DESCRIPTION:Meet in the courtyard of Godfrey Miller Center to walk and socialize around downtown Winchester.
URL:https://godfreymillercenter.org/event/walking-club-21/
END:VEVENT
BEGIN:VEVENT
DTSTART;TZID=America/New_York:20231204T100000
DTEND;TZID=America/New_York:20231204T120000
DTSTAMP:20260425T115145
CREATED:20221220T153340Z
LAST-MODIFIED:20231115T193706Z
UID:3932-1701684000-1701691200@godfreymillercenter.org
SUMMARY:Art Studio
DESCRIPTION:Art Studio is an open time for individuals to gather and work on their various art projects.  This is a social opportunity for artists of all levels to help each other and work independently. Recurs on every Monday of the month.
URL:https://godfreymillercenter.org/event/art-studio-48/
LOCATION:Pavilion
END:VEVENT
BEGIN:VEVENT
DTSTART;TZID=America/New_York:20231204T100000
DTEND;TZID=America/New_York:20231204T120000
DTSTAMP:20260425T115145
CREATED:20230525T172206Z
LAST-MODIFIED:20231115T193706Z
UID:4333-1701684000-1701691200@godfreymillercenter.org
SUMMARY:Jigsaw Puzzles
DESCRIPTION:Escape the heat with and enjoy the air conditioning while working on a jigsaw puzzle with others.  Fresh coffee provided!
URL:https://godfreymillercenter.org/event/jigsaw-puzzles/
END:VEVENT
BEGIN:VEVENT
DTSTART;TZID=America/New_York:20231204T123000
DTEND;TZID=America/New_York:20231204T133000
DTSTAMP:20260425T115145
CREATED:20231018T175927Z
LAST-MODIFIED:20231115T193706Z
UID:4718-1701693000-1701696600@godfreymillercenter.org
SUMMARY:Lunch
DESCRIPTION:***RSVP required\, call The Godfrey Miller Center office at 540-667-5869 to reserve your spot.   \nDecember 4: Chili and Baked Potato\, Spinach\, and Dessert\nDecember 11: Meatloaf\, Mashed potatoes\, Kale\, and Dessert\nDecember 18: Baked Ziti\, Green Beans\, Garlic Bread\, and Dessert
URL:https://godfreymillercenter.org/event/lunch-23/
LOCATION:Pavilion
END:VEVENT
BEGIN:VEVENT
DTSTART;TZID=America/New_York:20231204T140000
DTEND;TZID=America/New_York:20231204T150000
DTSTAMP:20260425T115145
CREATED:20221220T153340Z
LAST-MODIFIED:20231115T193707Z
UID:3926-1701698400-1701702000@godfreymillercenter.org
SUMMARY:Exercise for Balance and Strength
DESCRIPTION:A low-impact program that includes joint check/warm-up\, range of motion/stretching\, strengthening\, cardiovascular endurance\, and joint check/cool down. Led by Sonna Russell. Ms. Russell is a gifted coach and was trained through the Arthritis Foundation. (Suggested donation – $3.00)
URL:https://godfreymillercenter.org/event/exercise-for-balance-and-strength-95/
LOCATION:Pavilion
END:VEVENT
BEGIN:VEVENT
DTSTART;TZID=America/New_York:20231205T100000
DTEND;TZID=America/New_York:20231205T120000
DTSTAMP:20260425T115145
CREATED:20221220T153338Z
LAST-MODIFIED:20231115T193707Z
UID:3919-1701770400-1701777600@godfreymillercenter.org
SUMMARY:Canasta
DESCRIPTION:
URL:https://godfreymillercenter.org/event/canasta-52/
LOCATION:Parlor
END:VEVENT
BEGIN:VEVENT
DTSTART;TZID=America/New_York:20231205T100000
DTEND;TZID=America/New_York:20231205T120000
DTSTAMP:20260425T115145
CREATED:20230223T174710Z
LAST-MODIFIED:20231115T193707Z
UID:4063-1701770400-1701777600@godfreymillercenter.org
SUMMARY:Art Class: Acrylic & Watercolor Painting
DESCRIPTION:In this course\, students will develop painting skills\, techniques\, and aesthetic sensibilities related to artistic expression in acrylic and/or watercolor mediums. Each week will focus on a different subject\, emphasizing color and composition\, and enabling students to expand and better define their unique style and technique. Taught by master artist Kate Williams. (Suggested donation: $15 per class) \n***RSVP required\, call The Godfrey Miller Center office at 540-667-5869 to reserve your spot.
URL:https://godfreymillercenter.org/event/art-class-acrylic-watercolor-painting/
END:VEVENT
BEGIN:VEVENT
DTSTART;TZID=America/New_York:20231205T130000
DTEND;TZID=America/New_York:20231205T150000
DTSTAMP:20260425T115145
CREATED:20230223T174711Z
LAST-MODIFIED:20231115T193707Z
UID:4065-1701781200-1701788400@godfreymillercenter.org
SUMMARY:Art Class: Drawing
DESCRIPTION:In this course\, students will improve drawing skills through using a combination of mediums such as graphite\, charcoal\, and pen and ink.  Students will have their choice of mediums to help define their styles. Taught by master artist Kate Williams. (Suggested donation: $15 per class) \n***RSVP required\, call The Godfrey Miller Center office at 540-667-5869 to reserve your spot.
URL:https://godfreymillercenter.org/event/art-class-drawing/
END:VEVENT
BEGIN:VEVENT
DTSTART;TZID=America/New_York:20231205T140000
DTEND;TZID=America/New_York:20231205T150000
DTSTAMP:20260425T115145
CREATED:20221220T153339Z
LAST-MODIFIED:20231115T193707Z
UID:3921-1701784800-1701788400@godfreymillercenter.org
SUMMARY:Strength and Conditioning Class
DESCRIPTION:This class is designed to increase physical strength through resistance exercise. All major muscle groups are worked from head to toe. We finish with core conditioning\, breathing\, and stretching for a complete workout. Dumbbells are used for each class\, you can bring your own or use ours! Led by Program Coordinator Anna.
URL:https://godfreymillercenter.org/event/canasta-78/
LOCATION:Pavilion
END:VEVENT
BEGIN:VEVENT
DTSTART;TZID=America/New_York:20231206T100000
DTEND;TZID=America/New_York:20231206T120000
DTSTAMP:20260425T115145
CREATED:20221220T153339Z
LAST-MODIFIED:20231115T193707Z
UID:3923-1701856800-1701864000@godfreymillercenter.org
SUMMARY:Pinochle
DESCRIPTION:
URL:https://godfreymillercenter.org/event/pinochle-41/
LOCATION:Parlor or Dining Room
END:VEVENT
BEGIN:VEVENT
DTSTART;TZID=America/New_York:20231206T123000
DTEND;TZID=America/New_York:20231206T133000
DTSTAMP:20260425T115145
CREATED:20231018T175926Z
LAST-MODIFIED:20231115T193707Z
UID:4715-1701865800-1701869400@godfreymillercenter.org
SUMMARY:Lunch
DESCRIPTION:***RSVP required\, call The Godfrey Miller Center office at 540-667-5869 to reserve your spot.   \nDecember 6: Spaghetti and Meatballs\, Broccoli\, Garlic Bread\, and Dessert\nDecember 20: Roast Pork\, Mac & Cheese\, Peas\, and Dessert
URL:https://godfreymillercenter.org/event/lunch-22/
LOCATION:Pavilion
END:VEVENT
BEGIN:VEVENT
DTSTART;TZID=America/New_York:20231206T140000
DTEND;TZID=America/New_York:20231206T150000
DTSTAMP:20260425T115145
CREATED:20231115T193707Z
LAST-MODIFIED:20231115T193707Z
UID:4790-1701871200-1701874800@godfreymillercenter.org
SUMMARY:Exercise for Balance and Strength
DESCRIPTION:A low-impact program that includes joint check/warm-up\, range of motion/stretching\, strengthening\, cardiovascular endurance\, and joint check/cool down. Led by Sonna Russell. Ms. Russell is a gifted coach and was trained through the Arthritis Foundation. (Suggested donation – $3.00)
URL:https://godfreymillercenter.org/event/exercise-for-balance-and-strength-180/
LOCATION:Pavilion
END:VEVENT
BEGIN:VEVENT
DTSTART;TZID=America/New_York:20231206T153000
DTEND;TZID=America/New_York:20231206T173000
DTSTAMP:20260425T115145
CREATED:20231115T193708Z
LAST-MODIFIED:20231115T193708Z
UID:4791-1701876600-1701883800@godfreymillercenter.org
SUMMARY:Godfrey Miller Art Show Opening Reception
DESCRIPTION:Join us for the second annual Godfrey Miller Art Show! There will be many art pieces of a variety of mediums on display by our Godfrey Miller participants.  Light refreshments will be served.  There will also be a selection of hand painted Christmas ornaments for sale featuring our artists.
URL:https://godfreymillercenter.org/event/godfrey-miller-art-show-opening-reception-2/
END:VEVENT
BEGIN:VEVENT
DTSTART;TZID=America/New_York:20231207T100000
DTEND;TZID=America/New_York:20231207T120000
DTSTAMP:20260425T115145
CREATED:20221220T153340Z
LAST-MODIFIED:20231115T193708Z
UID:3928-1701943200-1701950400@godfreymillercenter.org
SUMMARY:Mahjong
DESCRIPTION:
URL:https://godfreymillercenter.org/event/mahjong-46/
LOCATION:Parlor
END:VEVENT
BEGIN:VEVENT
DTSTART;TZID=America/New_York:20231207T130000
DTEND;TZID=America/New_York:20231207T140000
DTSTAMP:20260425T115145
CREATED:20231115T193708Z
LAST-MODIFIED:20231115T193708Z
UID:4793-1701954000-1701957600@godfreymillercenter.org
SUMMARY:Christmas Tea Party
DESCRIPTION:***RSVP required\, call The Godfrey Miller Center office at 540-667-5869 to reserve your spot.  Tickets: $25 \nIt’s the beginning of the most wonderful time of the year\, so join us as we welcome the holidays with a Christmas Tea.  There will be a variety of tea flavors to try\, savory bites\, scones\, and sweet treats.
URL:https://godfreymillercenter.org/event/christmas-tea-party/
END:VEVENT
BEGIN:VEVENT
DTSTART;TZID=America/New_York:20231207T140000
DTEND;TZID=America/New_York:20231207T150000
DTSTAMP:20260425T115145
CREATED:20231115T193708Z
LAST-MODIFIED:20231115T193708Z
UID:4792-1701957600-1701961200@godfreymillercenter.org
SUMMARY:Strength and Conditioning Class
DESCRIPTION:This class is designed to increase physical strength through resistance exercise. All major muscle groups are worked from head to toe. We finish with core conditioning\, breathing\, and stretching for a complete workout. Dumbbells are used for each class\, you can bring your own or use ours! Led by Program Coordinator Anna.
URL:https://godfreymillercenter.org/event/strength-and-conditioning-class-109/
LOCATION:Pavilion
END:VEVENT
BEGIN:VEVENT
DTSTART;TZID=America/New_York:20231210T140000
DTEND;TZID=America/New_York:20231210T160000
DTSTAMP:20260425T115145
CREATED:20230223T174717Z
LAST-MODIFIED:20231115T193708Z
UID:4089-1702216800-1702224000@godfreymillercenter.org
SUMMARY:Sunday Stitch-In
DESCRIPTION:The Winchester Chapter of the Embroiderers’ Guild of America\, in cooperation with Godfrey Miller Center (GMC)\, is hosting “Sunday Stitch-In.” at 2:00 PM. The stitch-ins are for anyone who loves stitching and wants to learn the ins and outs of embroidery. All skill levels are welcome.  For questions contact us at 703-946-0191 or winchesterega@gmail.com.
URL:https://godfreymillercenter.org/event/sunday-stitch-in/
LOCATION:Pavilion
END:VEVENT
BEGIN:VEVENT
DTSTART;TZID=America/New_York:20231210T160000
DTEND;TZID=America/New_York:20231210T170000
DTSTAMP:20260425T115145
CREATED:20231115T193708Z
LAST-MODIFIED:20231115T193708Z
UID:4794-1702224000-1702227600@godfreymillercenter.org
SUMMARY:Concert: Windsong Community Chorus
DESCRIPTION:Sunday\, December 10\, 4:00 PM at Grace Lutheran Church\nWindsong is a group of fun-loving energetic women from all walks of life with one common goal of singing simply for the joy of singing! Our repertoire consists of familiar\, popular songs that make us tap our toes and recreate a special memory. (Freewill Offering)
URL:https://godfreymillercenter.org/event/concert-windsong-community-chorus/
END:VEVENT
BEGIN:VEVENT
DTSTART;TZID=America/New_York:20231211T080000
DTEND;TZID=America/New_York:20231211T083000
DTSTAMP:20260425T115145
CREATED:20231115T193709Z
LAST-MODIFIED:20231115T193709Z
UID:4795-1702281600-1702283400@godfreymillercenter.org
SUMMARY:Walking Club
DESCRIPTION:Meet in the courtyard of Godfrey Miller Center to walk and socialize around downtown Winchester.
URL:https://godfreymillercenter.org/event/walking-club-57/
END:VEVENT
BEGIN:VEVENT
DTSTART;TZID=America/New_York:20231211T100000
DTEND;TZID=America/New_York:20231211T120000
DTSTAMP:20260425T115145
CREATED:20231115T193709Z
LAST-MODIFIED:20231115T193709Z
UID:4796-1702288800-1702296000@godfreymillercenter.org
SUMMARY:Art Studio
DESCRIPTION:Art Studio is an open time for individuals to gather and work on their various art projects.  This is a social opportunity for artists of all levels to help each other and work independently. Recurs on every Monday of the month.
URL:https://godfreymillercenter.org/event/art-studio-84/
LOCATION:Pavilion
END:VEVENT
BEGIN:VEVENT
DTSTART;TZID=America/New_York:20231211T100000
DTEND;TZID=America/New_York:20231211T120000
DTSTAMP:20260425T115145
CREATED:20231115T193709Z
LAST-MODIFIED:20231115T193709Z
UID:4797-1702288800-1702296000@godfreymillercenter.org
SUMMARY:Jigsaw Puzzles
DESCRIPTION:Escape the heat with and enjoy the air conditioning while working on a jigsaw puzzle with others.  Fresh coffee provided!
URL:https://godfreymillercenter.org/event/jigsaw-puzzles-21/
END:VEVENT
BEGIN:VEVENT
DTSTART;TZID=America/New_York:20231211T123000
DTEND;TZID=America/New_York:20231211T133000
DTSTAMP:20260425T115145
CREATED:20231115T193709Z
LAST-MODIFIED:20231115T193709Z
UID:4798-1702297800-1702301400@godfreymillercenter.org
SUMMARY:Lunch
DESCRIPTION:***RSVP required\, call The Godfrey Miller Center office at 540-667-5869 to reserve your spot.   \nDecember 4: Chili and Baked Potato\, Spinach\, and Dessert\nDecember 11: Meatloaf\, Mashed potatoes\, Kale\, and Dessert\nDecember 18: Baked Ziti\, Green Beans\, Garlic Bread\, and Dessert
URL:https://godfreymillercenter.org/event/lunch-24/
LOCATION:Pavilion
END:VEVENT
BEGIN:VEVENT
DTSTART;TZID=America/New_York:20231211T140000
DTEND;TZID=America/New_York:20231211T150000
DTSTAMP:20260425T115145
CREATED:20231115T193709Z
LAST-MODIFIED:20231115T193709Z
UID:4799-1702303200-1702306800@godfreymillercenter.org
SUMMARY:Exercise for Balance and Strength
DESCRIPTION:A low-impact program that includes joint check/warm-up\, range of motion/stretching\, strengthening\, cardiovascular endurance\, and joint check/cool down. Led by Sonna Russell. Ms. Russell is a gifted coach and was trained through the Arthritis Foundation. (Suggested donation – $3.00)
URL:https://godfreymillercenter.org/event/exercise-for-balance-and-strength-181/
LOCATION:Pavilion
END:VEVENT
BEGIN:VEVENT
DTSTART;TZID=America/New_York:20231212T100000
DTEND;TZID=America/New_York:20231212T120000
DTSTAMP:20260425T115145
CREATED:20231115T193709Z
LAST-MODIFIED:20231115T193709Z
UID:4801-1702375200-1702382400@godfreymillercenter.org
SUMMARY:Canasta
DESCRIPTION:
URL:https://godfreymillercenter.org/event/canasta-89/
LOCATION:Parlor
END:VEVENT
BEGIN:VEVENT
DTSTART;TZID=America/New_York:20231212T100000
DTEND;TZID=America/New_York:20231212T120000
DTSTAMP:20260425T115145
CREATED:20231115T193710Z
LAST-MODIFIED:20231115T193710Z
UID:4802-1702375200-1702382400@godfreymillercenter.org
SUMMARY:Art Class: Acrylic & Watercolor Painting
DESCRIPTION:In this course\, students will develop painting skills\, techniques\, and aesthetic sensibilities related to artistic expression in acrylic and/or watercolor mediums. Each week will focus on a different subject\, emphasizing color and composition\, and enabling students to expand and better define their unique style and technique. Taught by master artist Kate Williams. (Suggested donation: $15 per class) \n***RSVP required\, call The Godfrey Miller Center office at 540-667-5869 to reserve your spot.
URL:https://godfreymillercenter.org/event/art-class-acrylic-watercolor-painting-26/
END:VEVENT
BEGIN:VEVENT
DTSTART;TZID=America/New_York:20231212T103000
DTEND;TZID=America/New_York:20231212T113000
DTSTAMP:20260425T115145
CREATED:20231115T193709Z
LAST-MODIFIED:20231115T193709Z
UID:4800-1702377000-1702380600@godfreymillercenter.org
SUMMARY:Bible Study
DESCRIPTION:
URL:https://godfreymillercenter.org/event/bible-study-6/
END:VEVENT
BEGIN:VEVENT
DTSTART;TZID=America/New_York:20231212T130000
DTEND;TZID=America/New_York:20231212T150000
DTSTAMP:20260425T115145
CREATED:20231115T193710Z
LAST-MODIFIED:20231115T193710Z
UID:4803-1702386000-1702393200@godfreymillercenter.org
SUMMARY:Art Class: Drawing
DESCRIPTION:In this course\, students will improve drawing skills through using a combination of mediums such as graphite\, charcoal\, and pen and ink.  Students will have their choice of mediums to help define their styles. Taught by master artist Kate Williams. (Suggested donation: $15 per class) \n***RSVP required\, call The Godfrey Miller Center office at 540-667-5869 to reserve your spot.
URL:https://godfreymillercenter.org/event/art-class-drawing-26/
END:VEVENT
BEGIN:VEVENT
DTSTART;TZID=America/New_York:20231212T140000
DTEND;TZID=America/New_York:20231212T150000
DTSTAMP:20260425T115145
CREATED:20231115T193710Z
LAST-MODIFIED:20231115T193710Z
UID:4804-1702389600-1702393200@godfreymillercenter.org
SUMMARY:Strength and Conditioning Class
DESCRIPTION:This class is designed to increase physical strength through resistance exercise. All major muscle groups are worked from head to toe. We finish with core conditioning\, breathing\, and stretching for a complete workout. Dumbbells are used for each class\, you can bring your own or use ours! Led by Program Coordinator Anna.
URL:https://godfreymillercenter.org/event/strength-and-conditioning-class-110/
LOCATION:Pavilion
END:VEVENT
BEGIN:VEVENT
DTSTART;TZID=America/New_York:20231213T100000
DTEND;TZID=America/New_York:20231213T120000
DTSTAMP:20260425T115145
CREATED:20231115T193710Z
LAST-MODIFIED:20231115T193710Z
UID:4807-1702461600-1702468800@godfreymillercenter.org
SUMMARY:Pinochle
DESCRIPTION:
URL:https://godfreymillercenter.org/event/pinochle-79/
LOCATION:Parlor or Dining Room
END:VEVENT
BEGIN:VEVENT
DTSTART;TZID=America/New_York:20231213T103000
DTEND;TZID=America/New_York:20231213T113000
DTSTAMP:20260425T115145
CREATED:20231115T193710Z
LAST-MODIFIED:20231115T193710Z
UID:4805-1702463400-1702467000@godfreymillercenter.org
SUMMARY:Workshop: Christmas Crafts
DESCRIPTION:***RSVP required\, call The Godfrey Miller Center office at 540-667-5869 to reserve your spot.   \nJoin Lorraine for a Christmas craft workshop!  This workshop will guide you through making custom Christmas gift tags\, treat boxes\, cards\, ornaments and more.  (Suggested Donation: $3)
URL:https://godfreymillercenter.org/event/workshop-christmas-crafts/
END:VEVENT
END:VCALENDAR