BEGIN:VCALENDAR
VERSION:2.0
PRODID:-//Godfrey Miller Center - ECPv6.15.20//NONSGML v1.0//EN
CALSCALE:GREGORIAN
METHOD:PUBLISH
X-ORIGINAL-URL:https://godfreymillercenter.org
X-WR-CALDESC:Events for Godfrey Miller Center
REFRESH-INTERVAL;VALUE=DURATION:PT1H
X-Robots-Tag:noindex
X-PUBLISHED-TTL:PT1H
BEGIN:VTIMEZONE
TZID:America/New_York
BEGIN:DAYLIGHT
TZOFFSETFROM:-0500
TZOFFSETTO:-0400
TZNAME:EDT
DTSTART:20240310T070000
END:DAYLIGHT
BEGIN:STANDARD
TZOFFSETFROM:-0400
TZOFFSETTO:-0500
TZNAME:EST
DTSTART:20241103T060000
END:STANDARD
BEGIN:DAYLIGHT
TZOFFSETFROM:-0500
TZOFFSETTO:-0400
TZNAME:EDT
DTSTART:20250309T070000
END:DAYLIGHT
BEGIN:STANDARD
TZOFFSETFROM:-0400
TZOFFSETTO:-0500
TZNAME:EST
DTSTART:20251102T060000
END:STANDARD
BEGIN:DAYLIGHT
TZOFFSETFROM:-0500
TZOFFSETTO:-0400
TZNAME:EDT
DTSTART:20260308T070000
END:DAYLIGHT
BEGIN:STANDARD
TZOFFSETFROM:-0400
TZOFFSETTO:-0500
TZNAME:EST
DTSTART:20261101T060000
END:STANDARD
BEGIN:DAYLIGHT
TZOFFSETFROM:-0500
TZOFFSETTO:-0400
TZNAME:EDT
DTSTART:20270314T070000
END:DAYLIGHT
BEGIN:STANDARD
TZOFFSETFROM:-0400
TZOFFSETTO:-0500
TZNAME:EST
DTSTART:20271107T060000
END:STANDARD
END:VTIMEZONE
BEGIN:VEVENT
DTSTART;TZID=America/New_York:20251221T160000
DTEND;TZID=America/New_York:20251221T170000
DTSTAMP:20260423T190720
CREATED:20251126T200020Z
LAST-MODIFIED:20251126T200020Z
UID:6849-1766332800-1766336400@godfreymillercenter.org
SUMMARY:Fall Concert Series: Windsong Community Chorus
DESCRIPTION:Join us for a holiday concert featuring many familiar sounds of the season.  Windsong is a group of fun-loving energetic women from all walks of life with  one common goal of singing simply for the joy of singing!  Their repertoire consists of familiar\, popular songs that make us tap our toes and recreate a special memory.  (Freewill Offering)
URL:https://godfreymillercenter.org/event/fall-concert-series-windsong-community-chorus/
LOCATION:26 W Boscawen St\, Winchester\, VA\, United States
END:VEVENT
BEGIN:VEVENT
DTSTART;TZID=America/New_York:20251222T100000
DTEND;TZID=America/New_York:20260101T150000
DTSTAMP:20260423T190720
CREATED:20251126T200020Z
LAST-MODIFIED:20251126T200020Z
UID:6850-1766397600-1767279600@godfreymillercenter.org
SUMMARY:Closed
DESCRIPTION:Godfrey Miller Center will be closed Monday\, December 22 through Thursday\, January 1\, 2026 for the holiday season.  We look forward to being with you in the new year beginning on Monday\, January 5\, 2026.
URL:https://godfreymillercenter.org/event/closed-12/
LOCATION:28 S Loudoun St\, Winchester\, VA\, United States
END:VEVENT
BEGIN:VEVENT
DTSTART;TZID=America/New_York:20260105T100000
DTEND;TZID=America/New_York:20260105T110000
DTSTAMP:20260423T190720
CREATED:20251216T185302Z
LAST-MODIFIED:20251216T185302Z
UID:6928-1767607200-1767610800@godfreymillercenter.org
SUMMARY:Jigsaw Puzzles
DESCRIPTION:
URL:https://godfreymillercenter.org/event/jigsaw-puzzles-96/
LOCATION:28 S Loudoun St (28 S Loudoun St\, Winchester\, Virginia  22601)
END:VEVENT
BEGIN:VEVENT
DTSTART;TZID=America/New_York:20260105T103000
DTEND;TZID=America/New_York:20260105T113000
DTSTAMP:20260423T190720
CREATED:20251216T184657Z
LAST-MODIFIED:20251216T184657Z
UID:6885-1767609000-1767612600@godfreymillercenter.org
SUMMARY:Android Smart Phone Help Session
DESCRIPTION:Join Program Coordinator Anna for help with your smart phone.  Bring your device\, account passwords\, and any questions!
URL:https://godfreymillercenter.org/event/android-smart-phone-help-session-25/
LOCATION:28 S Loudoun St\, Winchester\, VA\, United States
END:VEVENT
BEGIN:VEVENT
DTSTART;TZID=America/New_York:20260105T140000
DTEND;TZID=America/New_York:20260105T150000
DTSTAMP:20260423T190720
CREATED:20251216T185154Z
LAST-MODIFIED:20251216T185154Z
UID:6924-1767621600-1767625200@godfreymillercenter.org
SUMMARY:Exercise for Balance & Strength
DESCRIPTION:
URL:https://godfreymillercenter.org/event/exercise-for-balance-strength-183/
LOCATION:28 S Loudoun St (28 S Loudoun St\, Winchester\, Virginia  22601)
END:VEVENT
BEGIN:VEVENT
DTSTART;TZID=America/New_York:20260106T100000
DTEND;TZID=America/New_York:20260106T120000
DTSTAMP:20260423T190720
CREATED:20251216T185526Z
LAST-MODIFIED:20251216T185526Z
UID:6934-1767693600-1767700800@godfreymillercenter.org
SUMMARY:Samba & Hand and Foot
DESCRIPTION:
URL:https://godfreymillercenter.org/event/samba-hand-and-foot-29/
LOCATION:28 S Loudoun St (28 S Loudoun St\, Winchester\, Virginia  22601)
END:VEVENT
BEGIN:VEVENT
DTSTART;TZID=America/New_York:20260106T100000
DTEND;TZID=America/New_York:20260106T120000
DTSTAMP:20260423T190720
CREATED:20251216T185640Z
LAST-MODIFIED:20251216T185640Z
UID:6936-1767693600-1767700800@godfreymillercenter.org
SUMMARY:Art Class: Acrylic & Watercolor
DESCRIPTION:***RSVP required\, call The Godfrey Miller Center office at 540-667-5869 to reserve your spot. \nIn this course\, students will develop painting skills\, techniques\, and aesthetic sensibilities related to artistic expression in acrylic and/or watercolor mediums. Taught by Artist Tracy Burk. (Suggested donation: $15 per class)
URL:https://godfreymillercenter.org/event/art-class-acrylic-watercolor/
LOCATION:28 S Loudoun St (28 S Loudoun St\, Winchester\, Virginia  22601)
END:VEVENT
BEGIN:VEVENT
DTSTART;TZID=America/New_York:20260106T130000
DTEND;TZID=America/New_York:20260106T150000
DTSTAMP:20260423T190720
CREATED:20251216T185748Z
LAST-MODIFIED:20251216T185748Z
UID:6938-1767704400-1767711600@godfreymillercenter.org
SUMMARY:Art Class: Drawing
DESCRIPTION:***RSVP required\, call The Godfrey Miller Center office at 540-667-5869 to reserve your spot. \nIn this course\, students will improve drawing skills through using a combination of mediums such as graphite\, charcoal\, pen\, and ink. Students will have their choice of mediums to help define their styles. Taught by Artist Tracy Burk. (Suggested donation: $15 per class)
URL:https://godfreymillercenter.org/event/art-class-drawing-91/
LOCATION:28 S Loudoun St (28 S Loudoun St\, Winchester\, Virginia  22601)
END:VEVENT
BEGIN:VEVENT
DTSTART;TZID=America/New_York:20260106T140000
DTEND;TZID=America/New_York:20260106T150000
DTSTAMP:20260423T190720
CREATED:20251216T185229Z
LAST-MODIFIED:20251216T185229Z
UID:6926-1767708000-1767711600@godfreymillercenter.org
SUMMARY:Strength & Conditioning
DESCRIPTION:
URL:https://godfreymillercenter.org/event/strength-conditioning-165/
LOCATION:28 S Loudoun St (28 S Loudoun St\, Winchester\, Virginia  22601)
END:VEVENT
BEGIN:VEVENT
DTSTART;TZID=America/New_York:20260107T103000
DTEND;TZID=America/New_York:20260107T113000
DTSTAMP:20260423T190720
CREATED:20251216T184658Z
LAST-MODIFIED:20251216T184658Z
UID:6886-1767781800-1767785400@godfreymillercenter.org
SUMMARY:Workshop: Winter Diamond Art
DESCRIPTION:Come make a unique snowflake diamond art craft!  Instructions and supplies are provided.  (Suggested Donation: $5) \nPlease RSVP to: 540-667-5869 or anna@godfreymillercenter.org
URL:https://godfreymillercenter.org/event/workshop-winter-diamond-art-2/
LOCATION:28 S Loudoun St\, Winchester\, VA\, United States
END:VEVENT
BEGIN:VEVENT
DTSTART;TZID=America/New_York:20260107T140000
DTEND;TZID=America/New_York:20260107T150000
DTSTAMP:20260423T190720
CREATED:20251216T184658Z
LAST-MODIFIED:20251216T184658Z
UID:6887-1767794400-1767798000@godfreymillercenter.org
SUMMARY:Exercise for Balance & Strength
DESCRIPTION:A low-impact program that includes joint check/warm-up\, range of motion/stretching\, strengthening\, cardiovascular endurance\, and joint check/cool down. Led by Sonna Russell. Ms. Russell is a gifted coach and was trained through the Arthritis Foundation. (Suggested donation – $3.00)
URL:https://godfreymillercenter.org/event/exercise-for-balance-strength-177/
LOCATION:28 S Loudoun St (28 S Loudoun St\, Winchester\, Virginia  22601)
END:VEVENT
BEGIN:VEVENT
DTSTART;TZID=America/New_York:20260108T100000
DTEND;TZID=America/New_York:20260108T120000
DTSTAMP:20260423T190720
CREATED:20251216T185339Z
LAST-MODIFIED:20251216T185339Z
UID:6930-1767866400-1767873600@godfreymillercenter.org
SUMMARY:Mahjong
DESCRIPTION:
URL:https://godfreymillercenter.org/event/mahjong-167/
LOCATION:28 S Loudoun St (28 S Loudoun St\, Winchester\, Virginia  22601)
END:VEVENT
BEGIN:VEVENT
DTSTART;TZID=America/New_York:20260108T140000
DTEND;TZID=America/New_York:20260108T150000
DTSTAMP:20260423T190720
CREATED:20251216T184658Z
LAST-MODIFIED:20251216T184658Z
UID:6888-1767880800-1767884400@godfreymillercenter.org
SUMMARY:Strength & Conditioning
DESCRIPTION:This class is designed to increase physical strength through resistance exercise. All major muscle groups are worked from head to toe. We finish with core conditioning\, breathing\, and stretching for a complete workout. Dumbbells are used for each class\, you can bring your own or use ours! Led by Program Coordinator Anna.
URL:https://godfreymillercenter.org/event/strength-conditioning-159/
LOCATION:28 S Loudoun St (28 S Loudoun St\, Winchester\, Virginia  22601)
END:VEVENT
BEGIN:VEVENT
DTSTART;TZID=America/New_York:20260112T100000
DTEND;TZID=America/New_York:20260112T110000
DTSTAMP:20260423T190720
CREATED:20251216T184658Z
LAST-MODIFIED:20251216T184658Z
UID:6889-1768212000-1768215600@godfreymillercenter.org
SUMMARY:Jigsaw Puzzles
DESCRIPTION:
URL:https://godfreymillercenter.org/event/jigsaw-puzzles-94/
LOCATION:28 S Loudoun St (28 S Loudoun St\, Winchester\, Virginia  22601)
END:VEVENT
BEGIN:VEVENT
DTSTART;TZID=America/New_York:20260112T100000
DTEND;TZID=America/New_York:20260112T120000
DTSTAMP:20260423T190720
CREATED:20251216T184659Z
LAST-MODIFIED:20251216T184659Z
UID:6892-1768212000-1768219200@godfreymillercenter.org
SUMMARY:Art Studio
DESCRIPTION:Art Studio is an open time for individuals to gather and work on their various art projects.  This is a social opportunity for artists of all levels to help each other and work independently. Recurs on every Monday of the month.
URL:https://godfreymillercenter.org/event/art-studio-158/
LOCATION:28 S Loudoun St (28 S Loudoun St\, Winchester\, Virginia  22601)
END:VEVENT
BEGIN:VEVENT
DTSTART;TZID=America/New_York:20260112T103000
DTEND;TZID=America/New_York:20260112T113000
DTSTAMP:20260423T190720
CREATED:20251216T184659Z
LAST-MODIFIED:20251216T184659Z
UID:6891-1768213800-1768217400@godfreymillercenter.org
SUMMARY:iPhone Help Session
DESCRIPTION:Join Program Coordinator Anna for help with your smart phone.  Bring your device\, account passwords\, and any questions!
URL:https://godfreymillercenter.org/event/iphone-help-session-26/
LOCATION:28 S Loudoun St\, Winchester\, VA\, United States
END:VEVENT
BEGIN:VEVENT
DTSTART;TZID=America/New_York:20260112T110000
DTEND;TZID=America/New_York:20260112T120000
DTSTAMP:20260423T190720
CREATED:20251216T184658Z
LAST-MODIFIED:20251216T184658Z
UID:6890-1768215600-1768219200@godfreymillercenter.org
SUMMARY:Seated Yoga
DESCRIPTION:Join yoga instructor\, Debbie Coulson\, for a seated chair yoga session.  All are welcome – including beginners! (Suggested Donation: $3)
URL:https://godfreymillercenter.org/event/seated-yoga-21/
LOCATION:28 S Loudoun St\, Winchester\, VA\, United States
END:VEVENT
BEGIN:VEVENT
DTSTART;TZID=America/New_York:20260112T123000
DTEND;TZID=America/New_York:20260112T133000
DTSTAMP:20260423T190720
CREATED:20251216T185938Z
LAST-MODIFIED:20251216T185938Z
UID:6940-1768221000-1768224600@godfreymillercenter.org
SUMMARY:Lunch
DESCRIPTION:RSVP Required – Call 540-667-5869
URL:https://godfreymillercenter.org/event/lunch-244/
LOCATION:28 S Loudoun St (28 S Loudoun St\, Winchester\, Virginia  22601)
END:VEVENT
BEGIN:VEVENT
DTSTART;TZID=America/New_York:20260112T140000
DTEND;TZID=America/New_York:20260112T150000
DTSTAMP:20260423T190720
CREATED:20251216T184659Z
LAST-MODIFIED:20251216T184659Z
UID:6893-1768226400-1768230000@godfreymillercenter.org
SUMMARY:Exercise for Balance & Strength
DESCRIPTION:A low-impact program that includes joint check/warm-up\, range of motion/stretching\, strengthening\, cardiovascular endurance\, and joint check/cool down. Led by Sonna Russell. Ms. Russell is a gifted coach and was trained through the Arthritis Foundation. (Suggested donation – $3.00)
URL:https://godfreymillercenter.org/event/exercise-for-balance-strength-178/
LOCATION:28 S Loudoun St (28 S Loudoun St\, Winchester\, Virginia  22601)
END:VEVENT
BEGIN:VEVENT
DTSTART;TZID=America/New_York:20260113T100000
DTEND;TZID=America/New_York:20260113T120000
DTSTAMP:20260423T190720
CREATED:20251216T184659Z
LAST-MODIFIED:20251216T184659Z
UID:6894-1768298400-1768305600@godfreymillercenter.org
SUMMARY:Samba & Hand and Foot
DESCRIPTION:All are welcome to come and play cards!
URL:https://godfreymillercenter.org/event/samba-hand-and-foot-26/
LOCATION:28 S Loudoun St (28 S Loudoun St\, Winchester\, Virginia  22601)
END:VEVENT
BEGIN:VEVENT
DTSTART;TZID=America/New_York:20260113T140000
DTEND;TZID=America/New_York:20260113T150000
DTSTAMP:20260423T190720
CREATED:20251216T184659Z
LAST-MODIFIED:20251216T184659Z
UID:6895-1768312800-1768316400@godfreymillercenter.org
SUMMARY:Strength & Conditioning
DESCRIPTION:This class is designed to increase physical strength through resistance exercise. All major muscle groups are worked from head to toe. We finish with core conditioning\, breathing\, and stretching for a complete workout. Dumbbells are used for each class\, you can bring your own or use ours! Led by Program Coordinator Anna.
URL:https://godfreymillercenter.org/event/strength-conditioning-160/
LOCATION:28 S Loudoun St (28 S Loudoun St\, Winchester\, Virginia  22601)
END:VEVENT
BEGIN:VEVENT
DTSTART;TZID=America/New_York:20260114T123000
DTEND;TZID=America/New_York:20260114T133000
DTSTAMP:20260423T190720
CREATED:20251216T185423Z
LAST-MODIFIED:20251216T185423Z
UID:6932-1768393800-1768397400@godfreymillercenter.org
SUMMARY:Lunch
DESCRIPTION:RSVP Required – call 540-667-5869
URL:https://godfreymillercenter.org/event/lunch-243/
LOCATION:28 S Loudoun St (28 S Loudoun St\, Winchester\, Virginia  22601)
END:VEVENT
BEGIN:VEVENT
DTSTART;TZID=America/New_York:20260114T140000
DTEND;TZID=America/New_York:20260114T150000
DTSTAMP:20260423T190720
CREATED:20251216T184700Z
LAST-MODIFIED:20251216T184700Z
UID:6896-1768399200-1768402800@godfreymillercenter.org
SUMMARY:Exercise for Balance & Strength
DESCRIPTION:A low-impact program that includes joint check/warm-up\, range of motion/stretching\, strengthening\, cardiovascular endurance\, and joint check/cool down. Led by Sonna Russell. Ms. Russell is a gifted coach and was trained through the Arthritis Foundation. (Suggested donation – $3.00)
URL:https://godfreymillercenter.org/event/exercise-for-balance-strength-179/
LOCATION:28 S Loudoun St (28 S Loudoun St\, Winchester\, Virginia  22601)
END:VEVENT
BEGIN:VEVENT
DTSTART;TZID=America/New_York:20260115T100000
DTEND;TZID=America/New_York:20260115T120000
DTSTAMP:20260423T190720
CREATED:20251216T184700Z
LAST-MODIFIED:20251216T184700Z
UID:6897-1768471200-1768478400@godfreymillercenter.org
SUMMARY:Mahjong
DESCRIPTION:Weekly on Thursdays at 10:00am.  All are welcome!
URL:https://godfreymillercenter.org/event/mahjong-164/
LOCATION:28 S Loudoun St\, Winchester\, VA\, United States
END:VEVENT
BEGIN:VEVENT
DTSTART;TZID=America/New_York:20260115T123000
DTEND;TZID=America/New_York:20260115T133000
DTSTAMP:20260423T190720
CREATED:20251216T190042Z
LAST-MODIFIED:20251216T190042Z
UID:6942-1768480200-1768483800@godfreymillercenter.org
SUMMARY:Lunch
DESCRIPTION:RSVP Required – call 540-667-5869
URL:https://godfreymillercenter.org/event/lunch-245/
LOCATION:28 S Loudoun St (28 S Loudoun St\, Winchester\, Virginia  22601)
END:VEVENT
BEGIN:VEVENT
DTSTART;TZID=America/New_York:20260115T140000
DTEND;TZID=America/New_York:20260115T150000
DTSTAMP:20260423T190720
CREATED:20251216T184700Z
LAST-MODIFIED:20251216T184700Z
UID:6898-1768485600-1768489200@godfreymillercenter.org
SUMMARY:Strength & Conditioning
DESCRIPTION:This class is designed to increase physical strength through resistance exercise. All major muscle groups are worked from head to toe. We finish with core conditioning\, breathing\, and stretching for a complete workout. Dumbbells are used for each class\, you can bring your own or use ours! Led by Program Coordinator Anna.
URL:https://godfreymillercenter.org/event/strength-conditioning-161/
LOCATION:28 S Loudoun St (28 S Loudoun St\, Winchester\, Virginia  22601)
END:VEVENT
BEGIN:VEVENT
DTSTART;TZID=America/New_York:20260119T100000
DTEND;TZID=America/New_York:20260119T140000
DTSTAMP:20260423T190720
CREATED:20251216T190641Z
LAST-MODIFIED:20251216T193356Z
UID:6944-1768816800-1768831200@godfreymillercenter.org
SUMMARY:Closed
DESCRIPTION:We are closed in recognition of Martin Luther King Jr. Day.
URL:https://godfreymillercenter.org/event/closed-13/
LOCATION:28 S Loudoun St (28 S Loudoun St\, Winchester\, Virginia  22601)
END:VEVENT
BEGIN:VEVENT
DTSTART;TZID=America/New_York:20260120T100000
DTEND;TZID=America/New_York:20260120T120000
DTSTAMP:20260423T190720
CREATED:20251216T184700Z
LAST-MODIFIED:20251216T184700Z
UID:6899-1768903200-1768910400@godfreymillercenter.org
SUMMARY:Art Class: Acrylic & Watercolor Painting
DESCRIPTION:***RSVP required\, call The Godfrey Miller Center office at 540-667-5869 to reserve your spot.   \nIn this course\, students will develop painting skills\, techniques\, and aesthetic sensibilities related to artistic expression in acrylic and/or watercolor mediums. Taught by Artist Tracy Burk. (Suggested donation: $15 per class)
URL:https://godfreymillercenter.org/event/art-class-acrylic-watercolor-painting-85/
LOCATION:28 S Loudoun St (28 S Loudoun St\, Winchester\, Virginia  22601)
END:VEVENT
BEGIN:VEVENT
DTSTART;TZID=America/New_York:20260120T100000
DTEND;TZID=America/New_York:20260120T120000
DTSTAMP:20260423T190720
CREATED:20251216T184701Z
LAST-MODIFIED:20251216T184701Z
UID:6900-1768903200-1768910400@godfreymillercenter.org
SUMMARY:Samba & Hand and Foot
DESCRIPTION:All are welcome to come and play cards!
URL:https://godfreymillercenter.org/event/samba-hand-and-foot-27/
LOCATION:28 S Loudoun St (28 S Loudoun St\, Winchester\, Virginia  22601)
END:VEVENT
BEGIN:VEVENT
DTSTART;TZID=America/New_York:20260120T130000
DTEND;TZID=America/New_York:20260120T150000
DTSTAMP:20260423T190720
CREATED:20251216T184701Z
LAST-MODIFIED:20251216T184701Z
UID:6901-1768914000-1768921200@godfreymillercenter.org
SUMMARY:Art Class: Drawing
DESCRIPTION:***RSVP required\, call The Godfrey Miller Center office at 540-667-5869 to reserve your spot.   \nIn this course\, students will improve drawing skills through using a combination of mediums such as graphite\, charcoal\, pen\, and ink.  Students will have their choice of mediums to help define their styles. Taught by Artist Tracy Burk. (Suggested donation: $15 per class)
URL:https://godfreymillercenter.org/event/art-class-drawing-89/
LOCATION:28 S Loudoun St (28 S Loudoun St\, Winchester\, Virginia  22601)
END:VEVENT
END:VCALENDAR