BEGIN:VCALENDAR
VERSION:2.0
PRODID:-//Godfrey Miller Center - ECPv6.15.20//NONSGML v1.0//EN
CALSCALE:GREGORIAN
METHOD:PUBLISH
X-WR-CALNAME:Godfrey Miller Center
X-ORIGINAL-URL:https://godfreymillercenter.org
X-WR-CALDESC:Events for Godfrey Miller Center
REFRESH-INTERVAL;VALUE=DURATION:PT1H
X-Robots-Tag:noindex
X-PUBLISHED-TTL:PT1H
BEGIN:VTIMEZONE
TZID:America/New_York
BEGIN:DAYLIGHT
TZOFFSETFROM:-0500
TZOFFSETTO:-0400
TZNAME:EDT
DTSTART:20230312T070000
END:DAYLIGHT
BEGIN:STANDARD
TZOFFSETFROM:-0400
TZOFFSETTO:-0500
TZNAME:EST
DTSTART:20231105T060000
END:STANDARD
BEGIN:DAYLIGHT
TZOFFSETFROM:-0500
TZOFFSETTO:-0400
TZNAME:EDT
DTSTART:20240310T070000
END:DAYLIGHT
BEGIN:STANDARD
TZOFFSETFROM:-0400
TZOFFSETTO:-0500
TZNAME:EST
DTSTART:20241103T060000
END:STANDARD
BEGIN:DAYLIGHT
TZOFFSETFROM:-0500
TZOFFSETTO:-0400
TZNAME:EDT
DTSTART:20250309T070000
END:DAYLIGHT
BEGIN:STANDARD
TZOFFSETFROM:-0400
TZOFFSETTO:-0500
TZNAME:EST
DTSTART:20251102T060000
END:STANDARD
END:VTIMEZONE
BEGIN:VEVENT
DTSTART;TZID=America/New_York:20240819T140000
DTEND;TZID=America/New_York:20240819T150000
DTSTAMP:20260425T082723
CREATED:20240726T190825Z
LAST-MODIFIED:20240726T190825Z
UID:5362-1724076000-1724079600@godfreymillercenter.org
SUMMARY:Exercise for Balance & Strength
DESCRIPTION:A low-impact program that includes joint check/warm-up\, range of motion/stretching\, strengthening\, cardiovascular endurance\, and joint check/cool down. Led by Sonna Russell. Ms. Russell is a gifted coach and was trained through the Arthritis Foundation. (Suggested donation – $3.00)
URL:https://godfreymillercenter.org/event/exercise-for-balance-strength-55/
LOCATION:Pavilion
END:VEVENT
BEGIN:VEVENT
DTSTART;TZID=America/New_York:20240819T123000
DTEND;TZID=America/New_York:20240819T133000
DTSTAMP:20260425T082723
CREATED:20240726T190824Z
LAST-MODIFIED:20240726T190824Z
UID:5361-1724070600-1724074200@godfreymillercenter.org
SUMMARY:Lunch
DESCRIPTION:***RSVP required\, call The Godfrey Miller Center office at 540-667-5869 to reserve your spot.\nTickets: $9.00
URL:https://godfreymillercenter.org/event/lunch-72/
LOCATION:Pavilion
END:VEVENT
BEGIN:VEVENT
DTSTART;TZID=America/New_York:20240819T103000
DTEND;TZID=America/New_York:20240819T113000
DTSTAMP:20260425T082723
CREATED:20240726T190824Z
LAST-MODIFIED:20240726T190824Z
UID:5360-1724063400-1724067000@godfreymillercenter.org
SUMMARY:iPhone Help Session
DESCRIPTION:Join Program Coordinator Anna for help with your smart phone.  Bring your device\, account passwords\, and any questions!
URL:https://godfreymillercenter.org/event/iphone-help-session-10/
LOCATION:Parlor
END:VEVENT
BEGIN:VEVENT
DTSTART;TZID=America/New_York:20240819T100000
DTEND;TZID=America/New_York:20240819T120000
DTSTAMP:20260425T082723
CREATED:20240726T190824Z
LAST-MODIFIED:20240726T190824Z
UID:5357-1724061600-1724068800@godfreymillercenter.org
SUMMARY:Art Studio
DESCRIPTION:Art Studio is an open time for individuals to gather and work on their various art projects.  This is a social opportunity for artists of all levels to help each other and work independently. Recurs on every Monday of the month.
URL:https://godfreymillercenter.org/event/art-studio-108/
LOCATION:Pavilion
END:VEVENT
BEGIN:VEVENT
DTSTART;TZID=America/New_York:20240819T100000
DTEND;TZID=America/New_York:20240819T110000
DTSTAMP:20260425T082723
CREATED:20240726T190824Z
LAST-MODIFIED:20240726T190824Z
UID:5358-1724061600-1724065200@godfreymillercenter.org
SUMMARY:Jigsaw Puzzles
DESCRIPTION:
URL:https://godfreymillercenter.org/event/jigsaw-puzzles-45/
LOCATION:Front Sitting Room/Puzzle Room
END:VEVENT
BEGIN:VEVENT
DTSTART;TZID=America/New_York:20240819T090000
DTEND;TZID=America/New_York:20240819T100000
DTSTAMP:20260425T082723
CREATED:20240726T190824Z
LAST-MODIFIED:20240726T190824Z
UID:5359-1724058000-1724061600@godfreymillercenter.org
SUMMARY:Walking Club
DESCRIPTION:
URL:https://godfreymillercenter.org/event/walking-club-81/
LOCATION:Courtyard
END:VEVENT
BEGIN:VEVENT
DTSTART;TZID=America/New_York:20240815T140000
DTEND;TZID=America/New_York:20240815T150000
DTSTAMP:20260425T082723
CREATED:20240726T190824Z
LAST-MODIFIED:20240726T190824Z
UID:5356-1723730400-1723734000@godfreymillercenter.org
SUMMARY:Strength & Conditioning
DESCRIPTION:This class is designed to increase physical strength through resistance exercise. All major muscle groups are worked from head to toe. We finish with core conditioning\, breathing\, and stretching for a complete workout. Dumbbells are used for each class\, you can bring your own or use ours! Led by Program Coordinator Anna.
URL:https://godfreymillercenter.org/event/strength-conditioning-46/
LOCATION:Pavilion
END:VEVENT
BEGIN:VEVENT
DTSTART;TZID=America/New_York:20240815T123000
DTEND;TZID=America/New_York:20240815T133000
DTSTAMP:20260425T082723
CREATED:20240726T190824Z
LAST-MODIFIED:20240726T190824Z
UID:5355-1723725000-1723728600@godfreymillercenter.org
SUMMARY:Lunch
DESCRIPTION:***RSVP required\, call The Godfrey Miller Center office at 540-667-5869 to reserve your spot.\nTickets: $9.00
URL:https://godfreymillercenter.org/event/lunch-71/
LOCATION:Pavilion
END:VEVENT
BEGIN:VEVENT
DTSTART;TZID=America/New_York:20240815T100000
DTEND;TZID=America/New_York:20240815T120000
DTSTAMP:20260425T082723
CREATED:20240726T190823Z
LAST-MODIFIED:20240726T190823Z
UID:5354-1723716000-1723723200@godfreymillercenter.org
SUMMARY:Mahjong
DESCRIPTION:
URL:https://godfreymillercenter.org/event/mahjong-109/
LOCATION:Parlor
END:VEVENT
BEGIN:VEVENT
DTSTART;TZID=America/New_York:20240814T140000
DTEND;TZID=America/New_York:20240814T150000
DTSTAMP:20260425T082723
CREATED:20240726T190823Z
LAST-MODIFIED:20240726T190823Z
UID:5353-1723644000-1723647600@godfreymillercenter.org
SUMMARY:Exercise for Balance & Strength
DESCRIPTION:A low-impact program that includes joint check/warm-up\, range of motion/stretching\, strengthening\, cardiovascular endurance\, and joint check/cool down. Led by Sonna Russell. Ms. Russell is a gifted coach and was trained through the Arthritis Foundation. (Suggested donation – $3.00)
URL:https://godfreymillercenter.org/event/exercise-for-balance-strength-54/
LOCATION:Pavilion
END:VEVENT
BEGIN:VEVENT
DTSTART;TZID=America/New_York:20240814T123000
DTEND;TZID=America/New_York:20240814T133000
DTSTAMP:20260425T082723
CREATED:20240726T190823Z
LAST-MODIFIED:20240726T190823Z
UID:5352-1723638600-1723642200@godfreymillercenter.org
SUMMARY:Lunch
DESCRIPTION:***RSVP required\, call The Godfrey Miller Center office at 540-667-5869 to reserve your spot.\nTickets: $9.00
URL:https://godfreymillercenter.org/event/lunch-70/
LOCATION:Pavilion
END:VEVENT
BEGIN:VEVENT
DTSTART;TZID=America/New_York:20240814T103000
DTEND;TZID=America/New_York:20240814T113000
DTSTAMP:20260425T082723
CREATED:20240726T190823Z
LAST-MODIFIED:20240726T190823Z
UID:5351-1723631400-1723635000@godfreymillercenter.org
SUMMARY:Workshop: Diamond Art Succulent Magnets
DESCRIPTION:Come make a unique succulent magnet!  Instructions and supplies are provided.  (Suggested Donation: $5) \n***RSVP required\, call The Godfrey Miller Center office at 540-667-5869 to reserve your spot.
URL:https://godfreymillercenter.org/event/workshop-diamond-art-succulent-magnets/
LOCATION:Parlor
END:VEVENT
BEGIN:VEVENT
DTSTART;TZID=America/New_York:20240813T140000
DTEND;TZID=America/New_York:20240813T150000
DTSTAMP:20260425T082723
CREATED:20240726T190822Z
LAST-MODIFIED:20240726T190822Z
UID:5349-1723557600-1723561200@godfreymillercenter.org
SUMMARY:Strength & Conditioning
DESCRIPTION:This class is designed to increase physical strength through resistance exercise. All major muscle groups are worked from head to toe. We finish with core conditioning\, breathing\, and stretching for a complete workout. Dumbbells are used for each class\, you can bring your own or use ours! Led by Program Coordinator Anna.
URL:https://godfreymillercenter.org/event/strength-conditioning-45/
LOCATION:Pavilion
END:VEVENT
BEGIN:VEVENT
DTSTART;TZID=America/New_York:20240813T100000
DTEND;TZID=America/New_York:20240813T120000
DTSTAMP:20260425T082723
CREATED:20240726T190822Z
LAST-MODIFIED:20240730T145005Z
UID:5347-1723543200-1723550400@godfreymillercenter.org
SUMMARY:Still Life Art Studio
DESCRIPTION:Each Tuesday in August there will be a different still life subject set up for artists to come and paint or draw.  This is a great opportunity to practice your artistic skills with friends!  All supplies are provided\, but you are welcome to bring your own as well.  (Suggested Donation: $5) \n***RSVP required\, call The Godfrey Miller Center office at 540-667-5869 to reserve your spot.
URL:https://godfreymillercenter.org/event/still-life-art-studio-2/
LOCATION:Pavilion
END:VEVENT
BEGIN:VEVENT
DTSTART;TZID=America/New_York:20240813T100000
DTEND;TZID=America/New_York:20240813T120000
DTSTAMP:20260425T082723
CREATED:20240726T190822Z
LAST-MODIFIED:20240726T190822Z
UID:5348-1723543200-1723550400@godfreymillercenter.org
SUMMARY:Canasta
DESCRIPTION:All are welcome to come and play Canasta!
URL:https://godfreymillercenter.org/event/canasta-115/
LOCATION:Parlor
END:VEVENT
BEGIN:VEVENT
DTSTART;TZID=America/New_York:20240812T140000
DTEND;TZID=America/New_York:20240812T150000
DTSTAMP:20260425T082723
CREATED:20240726T190822Z
LAST-MODIFIED:20240726T190822Z
UID:5346-1723471200-1723474800@godfreymillercenter.org
SUMMARY:Exercise for Balance & Strength
DESCRIPTION:A low-impact program that includes joint check/warm-up\, range of motion/stretching\, strengthening\, cardiovascular endurance\, and joint check/cool down. Led by Sonna Russell. Ms. Russell is a gifted coach and was trained through the Arthritis Foundation. (Suggested donation – $3.00)
URL:https://godfreymillercenter.org/event/exercise-for-balance-strength-53/
LOCATION:Pavilion
END:VEVENT
BEGIN:VEVENT
DTSTART;TZID=America/New_York:20240812T123000
DTEND;TZID=America/New_York:20240812T133000
DTSTAMP:20260425T082723
CREATED:20240726T190821Z
LAST-MODIFIED:20240726T190821Z
UID:5345-1723465800-1723469400@godfreymillercenter.org
SUMMARY:Lunch
DESCRIPTION:***RSVP required\, call The Godfrey Miller Center office at 540-667-5869 to reserve your spot.\nTickets: $9.00
URL:https://godfreymillercenter.org/event/lunch-69/
LOCATION:Pavilion
END:VEVENT
BEGIN:VEVENT
DTSTART;TZID=America/New_York:20240812T103000
DTEND;TZID=America/New_York:20240812T113000
DTSTAMP:20260425T082723
CREATED:20240726T190821Z
LAST-MODIFIED:20240726T190821Z
UID:5344-1723458600-1723462200@godfreymillercenter.org
SUMMARY:Games Galore
DESCRIPTION:Escape the summer heat and join us for some friendly board games like Scrabble\, Yahtzee\, Checkers and more!  Some games will be provided\, but you are welcome to bring your favorite.
URL:https://godfreymillercenter.org/event/games-galore/
LOCATION:Parlor
END:VEVENT
BEGIN:VEVENT
DTSTART;TZID=America/New_York:20240812T100000
DTEND;TZID=America/New_York:20240812T120000
DTSTAMP:20260425T082723
CREATED:20240726T190821Z
LAST-MODIFIED:20240726T190821Z
UID:5343-1723456800-1723464000@godfreymillercenter.org
SUMMARY:Art Studio
DESCRIPTION:Art Studio is an open time for individuals to gather and work on their various art projects.  This is a social opportunity for artists of all levels to help each other and work independently. Recurs on every Monday of the month.
URL:https://godfreymillercenter.org/event/art-studio-107/
LOCATION:Pavilion
END:VEVENT
BEGIN:VEVENT
DTSTART;TZID=America/New_York:20240812T100000
DTEND;TZID=America/New_York:20240812T110000
DTSTAMP:20260425T082723
CREATED:20240726T190821Z
LAST-MODIFIED:20240726T190821Z
UID:5342-1723456800-1723460400@godfreymillercenter.org
SUMMARY:Jigsaw Puzzles
DESCRIPTION:
URL:https://godfreymillercenter.org/event/jigsaw-puzzles-44/
LOCATION:Front Sitting Room/Puzzle Room
END:VEVENT
BEGIN:VEVENT
DTSTART;TZID=America/New_York:20240812T090000
DTEND;TZID=America/New_York:20240812T100000
DTSTAMP:20260425T082723
CREATED:20240726T190820Z
LAST-MODIFIED:20240726T190820Z
UID:5341-1723453200-1723456800@godfreymillercenter.org
SUMMARY:Walking Club
DESCRIPTION:
URL:https://godfreymillercenter.org/event/walking-club-80/
LOCATION:Courtyard
END:VEVENT
BEGIN:VEVENT
DTSTART;TZID=America/New_York:20240808T140000
DTEND;TZID=America/New_York:20240808T150000
DTSTAMP:20260425T082723
CREATED:20240726T190820Z
LAST-MODIFIED:20240726T190820Z
UID:5340-1723125600-1723129200@godfreymillercenter.org
SUMMARY:Strength & Conditioning
DESCRIPTION:This class is designed to increase physical strength through resistance exercise. All major muscle groups are worked from head to toe. We finish with core conditioning\, breathing\, and stretching for a complete workout. Dumbbells are used for each class\, you can bring your own or use ours! Led by Program Coordinator Anna.
URL:https://godfreymillercenter.org/event/strength-conditioning-44/
LOCATION:Pavilion
END:VEVENT
BEGIN:VEVENT
DTSTART;TZID=America/New_York:20240808T123000
DTEND;TZID=America/New_York:20240808T133000
DTSTAMP:20260425T082723
CREATED:20240726T190820Z
LAST-MODIFIED:20240726T190820Z
UID:5339-1723120200-1723123800@godfreymillercenter.org
SUMMARY:Lunch
DESCRIPTION:***RSVP required\, call The Godfrey Miller Center office at 540-667-5869 to reserve your spot.\nTickets: $9.00
URL:https://godfreymillercenter.org/event/lunch-68/
LOCATION:Pavilion
END:VEVENT
BEGIN:VEVENT
DTSTART;TZID=America/New_York:20240808T100000
DTEND;TZID=America/New_York:20240808T120000
DTSTAMP:20260425T082723
CREATED:20240726T190820Z
LAST-MODIFIED:20240726T190820Z
UID:5338-1723111200-1723118400@godfreymillercenter.org
SUMMARY:Mahjong
DESCRIPTION:
URL:https://godfreymillercenter.org/event/mahjong-108/
LOCATION:Parlor
END:VEVENT
BEGIN:VEVENT
DTSTART;TZID=America/New_York:20240807T140000
DTEND;TZID=America/New_York:20240807T150000
DTSTAMP:20260425T082723
CREATED:20240726T190819Z
LAST-MODIFIED:20240726T190819Z
UID:5337-1723039200-1723042800@godfreymillercenter.org
SUMMARY:Exercise for Balance & Strength
DESCRIPTION:A low-impact program that includes joint check/warm-up\, range of motion/stretching\, strengthening\, cardiovascular endurance\, and joint check/cool down. Led by Sonna Russell. Ms. Russell is a gifted coach and was trained through the Arthritis Foundation. (Suggested donation – $3.00)
URL:https://godfreymillercenter.org/event/exercise-for-balance-strength-52/
LOCATION:Pavilion
END:VEVENT
BEGIN:VEVENT
DTSTART;TZID=America/New_York:20240806T140000
DTEND;TZID=America/New_York:20240806T150000
DTSTAMP:20260425T082723
CREATED:20240726T190819Z
LAST-MODIFIED:20240726T190819Z
UID:5336-1722952800-1722956400@godfreymillercenter.org
SUMMARY:Strength & Conditioning
DESCRIPTION:This class is designed to increase physical strength through resistance exercise. All major muscle groups are worked from head to toe. We finish with core conditioning\, breathing\, and stretching for a complete workout. Dumbbells are used for each class\, you can bring your own or use ours! Led by Program Coordinator Anna.
URL:https://godfreymillercenter.org/event/strength-conditioning-43/
LOCATION:Pavilion
END:VEVENT
BEGIN:VEVENT
DTSTART;TZID=America/New_York:20240806T100000
DTEND;TZID=America/New_York:20240806T120000
DTSTAMP:20260425T082723
CREATED:20231220T225958Z
LAST-MODIFIED:20240730T145224Z
UID:4850-1722938400-1722945600@godfreymillercenter.org
SUMMARY:Still Life Art Studio
DESCRIPTION:Each Tuesday in August there will be a different still life subject set up for artists to come and paint or draw.  This is a great opportunity to practice your artistic skills with friends!  All supplies are provided\, but you are welcome to bring your own as well.  (Suggested Donation: $5) \n***RSVP required\, call The Godfrey Miller Center office at 540-667-5869 to reserve your spot.
URL:https://godfreymillercenter.org/event/still-life-art-studio-4/
LOCATION:Pavilion
END:VEVENT
BEGIN:VEVENT
DTSTART;TZID=America/New_York:20240805T103000
DTEND;TZID=America/New_York:20240805T113000
DTSTAMP:20260425T082723
CREATED:20240726T190818Z
LAST-MODIFIED:20240726T190818Z
UID:5335-1722853800-1722857400@godfreymillercenter.org
SUMMARY:Android Smart Phone Help Session
DESCRIPTION:Join Program Coordinator Anna for help with your smart phone.  Bring your device\, account passwords\, and any questions!
URL:https://godfreymillercenter.org/event/android-smart-phone-help-session-8/
LOCATION:Parlor
END:VEVENT
BEGIN:VEVENT
DTSTART;TZID=America/New_York:20240731T140000
DTEND;TZID=America/New_York:20240731T150000
DTSTAMP:20260425T082723
CREATED:20240619T190916Z
LAST-MODIFIED:20240619T190916Z
UID:5327-1722434400-1722438000@godfreymillercenter.org
SUMMARY:Exercise for Balance & Strength
DESCRIPTION:A low-impact program that includes joint check/warm-up\, range of motion/stretching\, strengthening\, cardiovascular endurance\, and joint check/cool down. Led by Sonna Russell. Ms. Russell is a gifted coach and was trained through the Arthritis Foundation. (Suggested donation – $3.00)
URL:https://godfreymillercenter.org/event/exercise-for-balance-strength-51/
LOCATION:Pavilion
END:VEVENT
BEGIN:VEVENT
DTSTART;TZID=America/New_York:20240731T123000
DTEND;TZID=America/New_York:20240731T133000
DTSTAMP:20260425T082723
CREATED:20240619T190915Z
LAST-MODIFIED:20240619T190915Z
UID:5326-1722429000-1722432600@godfreymillercenter.org
SUMMARY:Lunch
DESCRIPTION:***RSVP required\, call The Godfrey Miller Center office at 540-667-5869 to reserve your spot.\nTickets: $9.00
URL:https://godfreymillercenter.org/event/lunch-67/
LOCATION:Pavilion
END:VEVENT
END:VCALENDAR