BEGIN:VCALENDAR
VERSION:2.0
PRODID:-//Godfrey Miller Center - ECPv6.15.20//NONSGML v1.0//EN
CALSCALE:GREGORIAN
METHOD:PUBLISH
X-WR-CALNAME:Godfrey Miller Center
X-ORIGINAL-URL:https://godfreymillercenter.org
X-WR-CALDESC:Events for Godfrey Miller Center
REFRESH-INTERVAL;VALUE=DURATION:PT1H
X-Robots-Tag:noindex
X-PUBLISHED-TTL:PT1H
BEGIN:VTIMEZONE
TZID:America/New_York
BEGIN:DAYLIGHT
TZOFFSETFROM:-0500
TZOFFSETTO:-0400
TZNAME:EDT
DTSTART:20230312T070000
END:DAYLIGHT
BEGIN:STANDARD
TZOFFSETFROM:-0400
TZOFFSETTO:-0500
TZNAME:EST
DTSTART:20231105T060000
END:STANDARD
BEGIN:DAYLIGHT
TZOFFSETFROM:-0500
TZOFFSETTO:-0400
TZNAME:EDT
DTSTART:20240310T070000
END:DAYLIGHT
BEGIN:STANDARD
TZOFFSETFROM:-0400
TZOFFSETTO:-0500
TZNAME:EST
DTSTART:20241103T060000
END:STANDARD
BEGIN:DAYLIGHT
TZOFFSETFROM:-0500
TZOFFSETTO:-0400
TZNAME:EDT
DTSTART:20250309T070000
END:DAYLIGHT
BEGIN:STANDARD
TZOFFSETFROM:-0400
TZOFFSETTO:-0500
TZNAME:EST
DTSTART:20251102T060000
END:STANDARD
END:VTIMEZONE
BEGIN:VEVENT
DTSTART;TZID=America/New_York:20241121T100000
DTEND;TZID=America/New_York:20241121T120000
DTSTAMP:20260425T111252
CREATED:20241024T160618Z
LAST-MODIFIED:20241024T160618Z
UID:5576-1732183200-1732190400@godfreymillercenter.org
SUMMARY:Mahjong
DESCRIPTION:
URL:https://godfreymillercenter.org/event/mahjong-120/
LOCATION:Parlor
END:VEVENT
BEGIN:VEVENT
DTSTART;TZID=America/New_York:20241120T140000
DTEND;TZID=America/New_York:20241120T150000
DTSTAMP:20260425T111252
CREATED:20241024T160618Z
LAST-MODIFIED:20241024T160618Z
UID:5575-1732111200-1732114800@godfreymillercenter.org
SUMMARY:Exercise for Balance & Strength
DESCRIPTION:A low-impact program that includes joint check/warm-up\, range of motion/stretching\, strengthening\, cardiovascular endurance\, and joint check/cool down. Led by Sonna Russell. Ms. Russell is a gifted coach and was trained through the Arthritis Foundation. (Suggested donation – $3.00)
URL:https://godfreymillercenter.org/event/exercise-for-balance-strength-78/
LOCATION:Pavilion
END:VEVENT
BEGIN:VEVENT
DTSTART;TZID=America/New_York:20241120T123000
DTEND;TZID=America/New_York:20241120T133000
DTSTAMP:20260425T111252
CREATED:20241024T160618Z
LAST-MODIFIED:20241024T160618Z
UID:5574-1732105800-1732109400@godfreymillercenter.org
SUMMARY:Lunch
DESCRIPTION:***RSVP required\, call The Godfrey Miller Center office at 540-667-5869 to reserve your spot.\nTickets: $9.00
URL:https://godfreymillercenter.org/event/lunch-101/
LOCATION:Pavilion
END:VEVENT
BEGIN:VEVENT
DTSTART;TZID=America/New_York:20241120T103000
DTEND;TZID=America/New_York:20241120T113000
DTSTAMP:20260425T111252
CREATED:20241024T160618Z
LAST-MODIFIED:20241024T160618Z
UID:5573-1732098600-1732102200@godfreymillercenter.org
SUMMARY:Workshop: Christmas Diamond Art
DESCRIPTION:***RSVP required\, call The Godfrey Miller Center office at 540-667-5869 to reserve your spot.   \nCome make a unique Christmas magnet or ornament!  Instructions and supplies are provided.  (Suggested Donation: $5)
URL:https://godfreymillercenter.org/event/workshop-christmas-diamond-art/
LOCATION:VA
END:VEVENT
BEGIN:VEVENT
DTSTART;TZID=America/New_York:20241119T140000
DTEND;TZID=America/New_York:20241119T150000
DTSTAMP:20260425T111252
CREATED:20241024T160618Z
LAST-MODIFIED:20241024T160618Z
UID:5572-1732024800-1732028400@godfreymillercenter.org
SUMMARY:Strength & Conditioning
DESCRIPTION:This class is designed to increase physical strength through resistance exercise. All major muscle groups are worked from head to toe. We finish with core conditioning\, breathing\, and stretching for a complete workout. Dumbbells are used for each class\, you can bring your own or use ours! Led by Program Coordinator Anna.
URL:https://godfreymillercenter.org/event/strength-conditioning-65/
LOCATION:Pavilion
END:VEVENT
BEGIN:VEVENT
DTSTART;TZID=America/New_York:20241119T130000
DTEND;TZID=America/New_York:20241119T150000
DTSTAMP:20260425T111252
CREATED:20241024T160618Z
LAST-MODIFIED:20241024T160618Z
UID:5571-1732021200-1732028400@godfreymillercenter.org
SUMMARY:Art Class: Drawing
DESCRIPTION:***RSVP required\, call The Godfrey Miller Center office at 540-667-5869 to reserve your spot.   \nIn this course\, students will improve drawing skills through using a combination of mediums such as graphite\, charcoal\, pen\, and ink.  Students will have their choice of mediums to help define their styles. Taught by Artist Tracy Burk. (Suggested donation: $15 per class)
URL:https://godfreymillercenter.org/event/art-class-drawing-54/
LOCATION:VA
END:VEVENT
BEGIN:VEVENT
DTSTART;TZID=America/New_York:20241119T100000
DTEND;TZID=America/New_York:20241119T120000
DTSTAMP:20260425T111252
CREATED:20241024T160618Z
LAST-MODIFIED:20241024T160618Z
UID:5569-1732010400-1732017600@godfreymillercenter.org
SUMMARY:Art Class: Acrylic & Watercolor Painting
DESCRIPTION:***RSVP required\, call The Godfrey Miller Center office at 540-667-5869 to reserve your spot.   \nIn this course\, students will develop painting skills\, techniques\, and aesthetic sensibilities related to artistic expression in acrylic and/or watercolor mediums. Taught by Artist Tracy Burk. (Suggested donation: $15 per class)
URL:https://godfreymillercenter.org/event/art-class-acrylic-watercolor-painting-51/
LOCATION:VA
END:VEVENT
BEGIN:VEVENT
DTSTART;TZID=America/New_York:20241119T100000
DTEND;TZID=America/New_York:20241119T120000
DTSTAMP:20260425T111252
CREATED:20241024T160618Z
LAST-MODIFIED:20241024T160618Z
UID:5570-1732010400-1732017600@godfreymillercenter.org
SUMMARY:Canasta
DESCRIPTION:All are welcome to come and play Canasta!
URL:https://godfreymillercenter.org/event/canasta-126/
LOCATION:Parlor
END:VEVENT
BEGIN:VEVENT
DTSTART;TZID=America/New_York:20241118T140000
DTEND;TZID=America/New_York:20241118T150000
DTSTAMP:20260425T111252
CREATED:20241024T160618Z
LAST-MODIFIED:20241024T160618Z
UID:5568-1731938400-1731942000@godfreymillercenter.org
SUMMARY:Exercise for Balance & Strength
DESCRIPTION:A low-impact program that includes joint check/warm-up\, range of motion/stretching\, strengthening\, cardiovascular endurance\, and joint check/cool down. Led by Sonna Russell. Ms. Russell is a gifted coach and was trained through the Arthritis Foundation. (Suggested donation – $3.00)
URL:https://godfreymillercenter.org/event/exercise-for-balance-strength-77/
LOCATION:Pavilion
END:VEVENT
BEGIN:VEVENT
DTSTART;TZID=America/New_York:20241118T123000
DTEND;TZID=America/New_York:20241118T133000
DTSTAMP:20260425T111252
CREATED:20241024T160618Z
LAST-MODIFIED:20241024T160618Z
UID:5567-1731933000-1731936600@godfreymillercenter.org
SUMMARY:Lunch
DESCRIPTION:***RSVP required\, call The Godfrey Miller Center office at 540-667-5869 to reserve your spot.\nTickets: $9.00
URL:https://godfreymillercenter.org/event/lunch-100/
LOCATION:Pavilion
END:VEVENT
BEGIN:VEVENT
DTSTART;TZID=America/New_York:20241118T110000
DTEND;TZID=America/New_York:20241118T120000
DTSTAMP:20260425T111252
CREATED:20241024T160617Z
LAST-MODIFIED:20241024T160617Z
UID:5565-1731927600-1731931200@godfreymillercenter.org
SUMMARY:Bingo
DESCRIPTION:Join us for a game of Bingo!  There will be many useful and fun prizes available for you to win.
URL:https://godfreymillercenter.org/event/bingo-8/
LOCATION:VA
END:VEVENT
BEGIN:VEVENT
DTSTART;TZID=America/New_York:20241118T100000
DTEND;TZID=America/New_York:20241118T120000
DTSTAMP:20260425T111252
CREATED:20241024T160618Z
LAST-MODIFIED:20241024T160618Z
UID:5566-1731924000-1731931200@godfreymillercenter.org
SUMMARY:Art Studio
DESCRIPTION:Art Studio is an open time for individuals to gather and work on their various art projects.  This is a social opportunity for artists of all levels to help each other and work independently. Recurs on every Monday of the month.
URL:https://godfreymillercenter.org/event/art-studio-117/
LOCATION:Pavilion
END:VEVENT
BEGIN:VEVENT
DTSTART;TZID=America/New_York:20241118T100000
DTEND;TZID=America/New_York:20241118T110000
DTSTAMP:20260425T111252
CREATED:20241024T160617Z
LAST-MODIFIED:20241024T160617Z
UID:5564-1731924000-1731927600@godfreymillercenter.org
SUMMARY:Jigsaw Puzzles
DESCRIPTION:
URL:https://godfreymillercenter.org/event/jigsaw-puzzles-54/
LOCATION:Front Sitting Room/Puzzle Room
END:VEVENT
BEGIN:VEVENT
DTSTART;TZID=America/New_York:20241118T090000
DTEND;TZID=America/New_York:20241118T100000
DTSTAMP:20260425T111252
CREATED:20241024T160617Z
LAST-MODIFIED:20241024T160617Z
UID:5563-1731920400-1731924000@godfreymillercenter.org
SUMMARY:Walking Club
DESCRIPTION:
URL:https://godfreymillercenter.org/event/walking-club-90/
LOCATION:Courtyard
END:VEVENT
BEGIN:VEVENT
DTSTART;TZID=America/New_York:20241114T140000
DTEND;TZID=America/New_York:20241114T150000
DTSTAMP:20260425T111252
CREATED:20241024T160617Z
LAST-MODIFIED:20241024T160617Z
UID:5562-1731592800-1731596400@godfreymillercenter.org
SUMMARY:Strength & Conditioning
DESCRIPTION:This class is designed to increase physical strength through resistance exercise. All major muscle groups are worked from head to toe. We finish with core conditioning\, breathing\, and stretching for a complete workout. Dumbbells are used for each class\, you can bring your own or use ours! Led by Program Coordinator Anna.
URL:https://godfreymillercenter.org/event/strength-conditioning-64/
LOCATION:Pavilion
END:VEVENT
BEGIN:VEVENT
DTSTART;TZID=America/New_York:20241114T123000
DTEND;TZID=America/New_York:20241114T133000
DTSTAMP:20260425T111252
CREATED:20241024T160617Z
LAST-MODIFIED:20241024T160617Z
UID:5561-1731587400-1731591000@godfreymillercenter.org
SUMMARY:Lunch
DESCRIPTION:***RSVP required\, call The Godfrey Miller Center office at 540-667-5869 to reserve your spot.\nTickets: $9.00
URL:https://godfreymillercenter.org/event/lunch-99/
LOCATION:Pavilion
END:VEVENT
BEGIN:VEVENT
DTSTART;TZID=America/New_York:20241114T100000
DTEND;TZID=America/New_York:20241114T120000
DTSTAMP:20260425T111252
CREATED:20241024T160617Z
LAST-MODIFIED:20241024T160617Z
UID:5560-1731578400-1731585600@godfreymillercenter.org
SUMMARY:Mahjong
DESCRIPTION:
URL:https://godfreymillercenter.org/event/mahjong-119/
LOCATION:Parlor
END:VEVENT
BEGIN:VEVENT
DTSTART;TZID=America/New_York:20241113T140000
DTEND;TZID=America/New_York:20241113T150000
DTSTAMP:20260425T111252
CREATED:20241024T160617Z
LAST-MODIFIED:20241024T160617Z
UID:5558-1731506400-1731510000@godfreymillercenter.org
SUMMARY:Exercise for Balance & Strength
DESCRIPTION:A low-impact program that includes joint check/warm-up\, range of motion/stretching\, strengthening\, cardiovascular endurance\, and joint check/cool down. Led by Sonna Russell. Ms. Russell is a gifted coach and was trained through the Arthritis Foundation. (Suggested donation – $3.00)
URL:https://godfreymillercenter.org/event/exercise-for-balance-strength-76/
LOCATION:Pavilion
END:VEVENT
BEGIN:VEVENT
DTSTART;TZID=America/New_York:20241113T133000
DTEND;TZID=America/New_York:20241113T143000
DTSTAMP:20260425T111252
CREATED:20241024T160617Z
LAST-MODIFIED:20241024T160617Z
UID:5559-1731504600-1731508200@godfreymillercenter.org
SUMMARY:Workshop: Holiday Greeting Cards
DESCRIPTION:***RSVP required\, call The Godfrey Miller Center office at 540-667-5869 to reserve your spot.   \nMaster paper crafter\, Lorraine\, will be holding two workshops in November.  Each workshop will be the same; creating custom holiday greeting cards for you to share with your family and friends. (Suggested Donation: $6)
URL:https://godfreymillercenter.org/event/workshop-holiday-greeting-cards-2/
LOCATION:VA
END:VEVENT
BEGIN:VEVENT
DTSTART;TZID=America/New_York:20241113T123000
DTEND;TZID=America/New_York:20241113T133000
DTSTAMP:20260425T111252
CREATED:20241024T160617Z
LAST-MODIFIED:20241024T160617Z
UID:5557-1731501000-1731504600@godfreymillercenter.org
SUMMARY:Lunch
DESCRIPTION:***RSVP required\, call The Godfrey Miller Center office at 540-667-5869 to reserve your spot.\nTickets: $9.00
URL:https://godfreymillercenter.org/event/lunch-98/
LOCATION:Pavilion
END:VEVENT
BEGIN:VEVENT
DTSTART;TZID=America/New_York:20241113T103000
DTEND;TZID=America/New_York:20241113T113000
DTSTAMP:20260425T111252
CREATED:20241024T160617Z
LAST-MODIFIED:20241024T160617Z
UID:5556-1731493800-1731497400@godfreymillercenter.org
SUMMARY:Workshop: Holiday Greeting Cards
DESCRIPTION:***RSVP required\, call The Godfrey Miller Center office at 540-667-5869 to reserve your spot.   \nMaster paper crafter\, Lorraine\, will be holding two workshops in November.  Each workshop will be the same; creating custom holiday greeting cards for you to share with your family and friends. (Suggested Donation: $6)
URL:https://godfreymillercenter.org/event/workshop-holiday-greeting-cards/
LOCATION:VA
END:VEVENT
BEGIN:VEVENT
DTSTART;TZID=America/New_York:20241112T140000
DTEND;TZID=America/New_York:20241112T150000
DTSTAMP:20260425T111252
CREATED:20241024T160617Z
LAST-MODIFIED:20241024T160617Z
UID:5554-1731420000-1731423600@godfreymillercenter.org
SUMMARY:Strength & Conditioning
DESCRIPTION:This class is designed to increase physical strength through resistance exercise. All major muscle groups are worked from head to toe. We finish with core conditioning\, breathing\, and stretching for a complete workout. Dumbbells are used for each class\, you can bring your own or use ours! Led by Program Coordinator Anna.
URL:https://godfreymillercenter.org/event/strength-conditioning-63/
LOCATION:Pavilion
END:VEVENT
BEGIN:VEVENT
DTSTART;TZID=America/New_York:20241112T130000
DTEND;TZID=America/New_York:20241112T150000
DTSTAMP:20260425T111252
CREATED:20241024T160616Z
LAST-MODIFIED:20241024T160616Z
UID:5553-1731416400-1731423600@godfreymillercenter.org
SUMMARY:Art Class: Drawing
DESCRIPTION:***RSVP required\, call The Godfrey Miller Center office at 540-667-5869 to reserve your spot.   \nIn this course\, students will improve drawing skills through using a combination of mediums such as graphite\, charcoal\, pen\, and ink.  Students will have their choice of mediums to help define their styles. Taught by Artist Tracy Burk. (Suggested donation: $15 per class)
URL:https://godfreymillercenter.org/event/art-class-drawing-53/
LOCATION:VA
END:VEVENT
BEGIN:VEVENT
DTSTART;TZID=America/New_York:20241112T130000
DTEND;TZID=America/New_York:20241112T140000
DTSTAMP:20260425T111252
CREATED:20241024T160617Z
LAST-MODIFIED:20241024T160617Z
UID:5555-1731416400-1731420000@godfreymillercenter.org
SUMMARY:Meditation
DESCRIPTION:Join Meditation Instructor Mercia for a guided meditation session.  It is a perfect midweek refresh!
URL:https://godfreymillercenter.org/event/meditation-3/
LOCATION:VA
END:VEVENT
BEGIN:VEVENT
DTSTART;TZID=America/New_York:20241112T100000
DTEND;TZID=America/New_York:20241112T120000
DTSTAMP:20260425T111252
CREATED:20241024T160616Z
LAST-MODIFIED:20241024T160616Z
UID:5551-1731405600-1731412800@godfreymillercenter.org
SUMMARY:Canasta
DESCRIPTION:All are welcome to come and play Canasta!
URL:https://godfreymillercenter.org/event/canasta-125/
LOCATION:Parlor
END:VEVENT
BEGIN:VEVENT
DTSTART;TZID=America/New_York:20241112T100000
DTEND;TZID=America/New_York:20241112T120000
DTSTAMP:20260425T111252
CREATED:20241024T160616Z
LAST-MODIFIED:20241024T160616Z
UID:5552-1731405600-1731412800@godfreymillercenter.org
SUMMARY:Art Class: Acrylic & Watercolor Painting
DESCRIPTION:***RSVP required\, call The Godfrey Miller Center office at 540-667-5869 to reserve your spot.   \nIn this course\, students will develop painting skills\, techniques\, and aesthetic sensibilities related to artistic expression in acrylic and/or watercolor mediums. Taught by Artist Tracy Burk. (Suggested donation: $15 per class)
URL:https://godfreymillercenter.org/event/art-class-acrylic-watercolor-painting-50/
LOCATION:VA
END:VEVENT
BEGIN:VEVENT
DTSTART;TZID=America/New_York:20241111T140000
DTEND;TZID=America/New_York:20241111T150000
DTSTAMP:20260425T111252
CREATED:20241024T160616Z
LAST-MODIFIED:20241024T160616Z
UID:5550-1731333600-1731337200@godfreymillercenter.org
SUMMARY:Exercise for Balance & Strength
DESCRIPTION:A low-impact program that includes joint check/warm-up\, range of motion/stretching\, strengthening\, cardiovascular endurance\, and joint check/cool down. Led by Sonna Russell. Ms. Russell is a gifted coach and was trained through the Arthritis Foundation. (Suggested donation – $3.00)
URL:https://godfreymillercenter.org/event/exercise-for-balance-strength-75/
LOCATION:Pavilion
END:VEVENT
BEGIN:VEVENT
DTSTART;TZID=America/New_York:20241111T123000
DTEND;TZID=America/New_York:20241111T133000
DTSTAMP:20260425T111252
CREATED:20241024T160616Z
LAST-MODIFIED:20241024T160616Z
UID:5549-1731328200-1731331800@godfreymillercenter.org
SUMMARY:Lunch
DESCRIPTION:***RSVP required\, call The Godfrey Miller Center office at 540-667-5869 to reserve your spot.\nTickets: $9.00
URL:https://godfreymillercenter.org/event/lunch-97/
LOCATION:Pavilion
END:VEVENT
BEGIN:VEVENT
DTSTART;TZID=America/New_York:20241111T103000
DTEND;TZID=America/New_York:20241111T113000
DTSTAMP:20260425T111252
CREATED:20241028T211753Z
LAST-MODIFIED:20241028T211753Z
UID:5594-1731321000-1731324600@godfreymillercenter.org
SUMMARY:Android Smart Phone Help Session
DESCRIPTION:Join Program Coordinator Anna for help with your smart phone. Bring your device\, account passwords\, and any questions!
URL:https://godfreymillercenter.org/event/android-smart-phone-help-session-11/
LOCATION:VA
END:VEVENT
BEGIN:VEVENT
DTSTART;TZID=America/New_York:20241111T100000
DTEND;TZID=America/New_York:20241111T120000
DTSTAMP:20260425T111252
CREATED:20241024T160616Z
LAST-MODIFIED:20241024T160616Z
UID:5548-1731319200-1731326400@godfreymillercenter.org
SUMMARY:Art Studio
DESCRIPTION:Art Studio is an open time for individuals to gather and work on their various art projects.  This is a social opportunity for artists of all levels to help each other and work independently. Recurs on every Monday of the month.
URL:https://godfreymillercenter.org/event/art-studio-116/
LOCATION:Pavilion
END:VEVENT
END:VCALENDAR