BEGIN:VCALENDAR
VERSION:2.0
PRODID:-//Godfrey Miller Center - ECPv6.15.20//NONSGML v1.0//EN
CALSCALE:GREGORIAN
METHOD:PUBLISH
X-WR-CALNAME:Godfrey Miller Center
X-ORIGINAL-URL:https://godfreymillercenter.org
X-WR-CALDESC:Events for Godfrey Miller Center
REFRESH-INTERVAL;VALUE=DURATION:PT1H
X-Robots-Tag:noindex
X-PUBLISHED-TTL:PT1H
BEGIN:VTIMEZONE
TZID:America/New_York
BEGIN:DAYLIGHT
TZOFFSETFROM:-0500
TZOFFSETTO:-0400
TZNAME:EDT
DTSTART:20220313T070000
END:DAYLIGHT
BEGIN:STANDARD
TZOFFSETFROM:-0400
TZOFFSETTO:-0500
TZNAME:EST
DTSTART:20221106T060000
END:STANDARD
BEGIN:DAYLIGHT
TZOFFSETFROM:-0500
TZOFFSETTO:-0400
TZNAME:EDT
DTSTART:20230312T070000
END:DAYLIGHT
BEGIN:STANDARD
TZOFFSETFROM:-0400
TZOFFSETTO:-0500
TZNAME:EST
DTSTART:20231105T060000
END:STANDARD
BEGIN:DAYLIGHT
TZOFFSETFROM:-0500
TZOFFSETTO:-0400
TZNAME:EDT
DTSTART:20240310T070000
END:DAYLIGHT
BEGIN:STANDARD
TZOFFSETFROM:-0400
TZOFFSETTO:-0500
TZNAME:EST
DTSTART:20241103T060000
END:STANDARD
BEGIN:DAYLIGHT
TZOFFSETFROM:-0500
TZOFFSETTO:-0400
TZNAME:EDT
DTSTART:20250309T070000
END:DAYLIGHT
BEGIN:STANDARD
TZOFFSETFROM:-0400
TZOFFSETTO:-0500
TZNAME:EST
DTSTART:20251102T060000
END:STANDARD
END:VTIMEZONE
BEGIN:VEVENT
DTSTART;TZID=America/New_York:20240118T110000
DTEND;TZID=America/New_York:20240118T120000
DTSTAMP:20260425T121732
CREATED:20231220T230000Z
LAST-MODIFIED:20231220T230000Z
UID:4867-1705575600-1705579200@godfreymillercenter.org
SUMMARY:Computer Class: Microsoft Word
DESCRIPTION:Computer Class: Microsoft Word – Thursdays\, January 11\, 18\, & 25\, 11:00 AM ***RSVP\n***RSVP required\, call The Godfrey Miller Center office at 540-667-5869 to reserve your spot.\nThis class will cover the basics of Microsoft Word and how to best use this program.  We will have computers available\, but you are welcome to bring your own device and any questions you may have! Taught by Jill LeTourneau.
URL:https://godfreymillercenter.org/event/computer-class-microsoft-word-2/
LOCATION:Computer Lab
END:VEVENT
BEGIN:VEVENT
DTSTART;TZID=America/New_York:20240118T100000
DTEND;TZID=America/New_York:20240118T120000
DTSTAMP:20260425T121732
CREATED:20231220T230000Z
LAST-MODIFIED:20231220T230000Z
UID:4868-1705572000-1705579200@godfreymillercenter.org
SUMMARY:Mahjong
DESCRIPTION:All are welcome to come and play Mahjong!
URL:https://godfreymillercenter.org/event/mahjong-86/
LOCATION:Parlor
END:VEVENT
BEGIN:VEVENT
DTSTART;TZID=America/New_York:20240117T140000
DTEND;TZID=America/New_York:20240117T150000
DTSTAMP:20260425T121732
CREATED:20231220T230000Z
LAST-MODIFIED:20231220T230000Z
UID:4866-1705500000-1705503600@godfreymillercenter.org
SUMMARY:Exercise for Balance & Strength
DESCRIPTION:A low-impact program that includes joint check/warm-up\, range of motion/stretching\, strengthening\, cardiovascular endurance\, and joint check/cool down. Led by Sonna Russell. Ms. Russell is a gifted coach and was trained through the Arthritis Foundation. (Suggested donation – $3.00)
URL:https://godfreymillercenter.org/event/exercise-for-balance-strength-3/
LOCATION:Pavilion
END:VEVENT
BEGIN:VEVENT
DTSTART;TZID=America/New_York:20240117T123000
DTEND;TZID=America/New_York:20240117T133000
DTSTAMP:20260425T121732
CREATED:20231220T230000Z
LAST-MODIFIED:20231220T230200Z
UID:4865-1705494600-1705498200@godfreymillercenter.org
SUMMARY:Lunch
DESCRIPTION:***RSVP required\, call The Godfrey Miller Center office at 540-667-5869 to reserve your spot.\nTickets: $9.00 \nJanuary 10: Chicken and Cheese Enchiladas\, Rice\, and Dessert\nJanuary 17: Tortellini Soup\, Grilled Turkey Sandwich\, and Dessert\nJanuary 24: Chicken Alfredo\, Caprese Salad\, and Dessert\nJanuary 31: Fish Tacos\, Mexican Chopped Salad\, and Dessert
URL:https://godfreymillercenter.org/event/4865/
LOCATION:Pavilion
END:VEVENT
BEGIN:VEVENT
DTSTART;TZID=America/New_York:20240116T140000
DTEND;TZID=America/New_York:20240116T150000
DTSTAMP:20260425T121732
CREATED:20231220T230000Z
LAST-MODIFIED:20231220T230000Z
UID:4864-1705413600-1705417200@godfreymillercenter.org
SUMMARY:Strength & Conditioning
DESCRIPTION:This class is designed to increase physical strength through resistance exercise. All major muscle groups are worked from head to toe. We finish with core conditioning\, breathing\, and stretching for a complete workout. Dumbbells are used for each class\, you can bring your own or use ours! Led by Program Coordinator Anna.
URL:https://godfreymillercenter.org/event/strength-conditioning-3/
LOCATION:Pavilion
END:VEVENT
BEGIN:VEVENT
DTSTART;TZID=America/New_York:20240116T130000
DTEND;TZID=America/New_York:20240116T150000
DTSTAMP:20260425T121732
CREATED:20231220T225959Z
LAST-MODIFIED:20231220T225959Z
UID:4863-1705410000-1705417200@godfreymillercenter.org
SUMMARY:Art Class: Drawing
DESCRIPTION:***RSVP required\, call The Godfrey Miller Center office at 540-667-5869 to reserve your spot.   \nIn this course\, students will improve drawing skills through using a combination of mediums such as graphite\, charcoal\, pen\, and ink.  Students will have their choice of mediums to help define their styles. Taught by master artist Kate Williams. (Suggested donation: $15 per class)
URL:https://godfreymillercenter.org/event/art-class-drawing-29/
LOCATION:Parlor
END:VEVENT
BEGIN:VEVENT
DTSTART;TZID=America/New_York:20240116T100000
DTEND;TZID=America/New_York:20240116T120000
DTSTAMP:20260425T121732
CREATED:20231220T225959Z
LAST-MODIFIED:20231220T225959Z
UID:4862-1705399200-1705406400@godfreymillercenter.org
SUMMARY:Art Class: Acrylic & Watercolor Painting
DESCRIPTION:***RSVP required\, call The Godfrey Miller Center office at 540-667-5869 to reserve your spot.   \nIn this course\, students will develop painting skills\, techniques\, and aesthetic sensibilities related to artistic expression in acrylic and/or watercolor mediums. Each week will focus on a different subject\, emphasizing color and composition\, and enabling students to expand and better define their unique style and technique. Taught by master artist Kate Williams. (Suggested donation: $15 per class)
URL:https://godfreymillercenter.org/event/art-class-acrylic-watercolor-painting-29/
LOCATION:Pavilion
END:VEVENT
BEGIN:VEVENT
DTSTART;TZID=America/New_York:20240116T100000
DTEND;TZID=America/New_York:20240116T120000
DTSTAMP:20260425T121732
CREATED:20231220T225959Z
LAST-MODIFIED:20231220T225959Z
UID:4861-1705399200-1705406400@godfreymillercenter.org
SUMMARY:Canasta
DESCRIPTION:All are welcome to come and play Canasta!
URL:https://godfreymillercenter.org/event/canasta-92/
LOCATION:Parlor
END:VEVENT
BEGIN:VEVENT
DTSTART;TZID=America/New_York:20240115T100000
DTEND;TZID=America/New_York:20240115T150000
DTSTAMP:20260425T121732
CREATED:20231220T225959Z
LAST-MODIFIED:20231220T225959Z
UID:4860-1705312800-1705330800@godfreymillercenter.org
SUMMARY:Godfrey Miller Center Closed in Recognition of Martin Luther King Jr. Day
DESCRIPTION:
URL:https://godfreymillercenter.org/event/godfrey-miller-center-closed-in-recognition-of-martin-luther-king-jr-day/
END:VEVENT
BEGIN:VEVENT
DTSTART;TZID=America/New_York:20240111T140000
DTEND;TZID=America/New_York:20240111T150000
DTSTAMP:20260425T121732
CREATED:20231220T225959Z
LAST-MODIFIED:20231220T225959Z
UID:4858-1704981600-1704985200@godfreymillercenter.org
SUMMARY:Strength & Conditioning
DESCRIPTION:This class is designed to increase physical strength through resistance exercise. All major muscle groups are worked from head to toe. We finish with core conditioning\, breathing\, and stretching for a complete workout. Dumbbells are used for each class\, you can bring your own or use ours! Led by Program Coordinator Anna.
URL:https://godfreymillercenter.org/event/strength-conditioning-2/
LOCATION:Pavilion
END:VEVENT
BEGIN:VEVENT
DTSTART;TZID=America/New_York:20240111T110000
DTEND;TZID=America/New_York:20240111T120000
DTSTAMP:20260425T121732
CREATED:20231220T225959Z
LAST-MODIFIED:20231220T225959Z
UID:4855-1704970800-1704974400@godfreymillercenter.org
SUMMARY:Computer Class: Microsoft Word
DESCRIPTION:Computer Class: Microsoft Word – Thursdays\, January 11\, 18\, & 25\, 11:00 AM ***RSVP\n***RSVP required\, call The Godfrey Miller Center office at 540-667-5869 to reserve your spot.\nThis class will cover the basics of Microsoft Word and how to best use this program.  We will have computers available\, but you are welcome to bring your own device and any questions you may have! Taught by Jill LeTourneau.
URL:https://godfreymillercenter.org/event/computer-class-microsoft-word/
LOCATION:Computer Lab
END:VEVENT
BEGIN:VEVENT
DTSTART;TZID=America/New_York:20240110T140000
DTEND;TZID=America/New_York:20240110T150000
DTSTAMP:20260425T121732
CREATED:20231220T225959Z
LAST-MODIFIED:20231220T225959Z
UID:4854-1704895200-1704898800@godfreymillercenter.org
SUMMARY:Exercise for Balance & Strength
DESCRIPTION:A low-impact program that includes joint check/warm-up\, range of motion/stretching\, strengthening\, cardiovascular endurance\, and joint check/cool down. Led by Sonna Russell. Ms. Russell is a gifted coach and was trained through the Arthritis Foundation. (Suggested donation – $3.00)
URL:https://godfreymillercenter.org/event/exercise-for-balance-strength-2/
LOCATION:Pavilion
END:VEVENT
BEGIN:VEVENT
DTSTART;TZID=America/New_York:20240108T103000
DTEND;TZID=America/New_York:20240108T113000
DTSTAMP:20260425T121732
CREATED:20231220T225957Z
LAST-MODIFIED:20231220T225957Z
UID:4846-1704709800-1704713400@godfreymillercenter.org
SUMMARY:Android Smart Phone Help Session
DESCRIPTION:Join Program Coordinator Anna for help with your smart phone.  Bring your device\, account passwords\, and any questions!
URL:https://godfreymillercenter.org/event/android-smart-phone-help-session-2/
LOCATION:Parlor
END:VEVENT
BEGIN:VEVENT
DTSTART;TZID=America/New_York:20240101T100000
DTEND;TZID=America/New_York:20240104T150000
DTSTAMP:20260425T121732
CREATED:20231115T193713Z
LAST-MODIFIED:20231220T225957Z
UID:4828-1704103200-1704380400@godfreymillercenter.org
SUMMARY:Godfrey Miller Center Closed
DESCRIPTION:Godfrey Miller Center will be Closed from Monday\, December 25 – Thursday\, January 4.  We look forward to having you back in the new year on Monday\, January 8.
URL:https://godfreymillercenter.org/event/godfrey-miller-center-closed-3/
END:VEVENT
BEGIN:VEVENT
DTSTART;TZID=America/New_York:20231225T100000
DTEND;TZID=America/New_York:20231228T150000
DTSTAMP:20260425T121732
CREATED:20231115T193713Z
LAST-MODIFIED:20231115T193713Z
UID:4827-1703498400-1703775600@godfreymillercenter.org
SUMMARY:Godfrey Miller Center Closed
DESCRIPTION:Godfrey Miller Center will be Closed from Monday\, December 25 – Thursday\, January 4.  We look forward to having you back in the new year on Monday\, January 8.
URL:https://godfreymillercenter.org/event/godfrey-miller-center-closed-2/
END:VEVENT
BEGIN:VEVENT
DTSTART;TZID=America/New_York:20231221T130000
DTEND;TZID=America/New_York:20231221T143000
DTSTAMP:20260425T121732
CREATED:20231115T193713Z
LAST-MODIFIED:20231115T193713Z
UID:4826-1703163600-1703169000@godfreymillercenter.org
SUMMARY:Christmas Movie Matinee: Best. Christmas. Ever!
DESCRIPTION:Every year at Christmas\, Jackie sends a boastful holiday newsletter that makes her old college friend Charlotte feel like a failure.  When a twist of fate takes Charlotte and her family to Jackie’s house just before Christmas\, Charlotte is determined to prove that Jackie’s life isn’t as perfect as it seems.  But in her overzealous attempt to expose Jackie\, Charlotte nearly ruins Christmas for both families and must team up with her old friend to reassemble the pieces.  Movie snacks will be provided.  Movie run time: 1 hour 20 minutes.
URL:https://godfreymillercenter.org/event/christmas-movie-matinee-best-christmas-ever/
LOCATION:Pavilion
END:VEVENT
BEGIN:VEVENT
DTSTART;TZID=America/New_York:20231221T100000
DTEND;TZID=America/New_York:20231221T120000
DTSTAMP:20260425T121732
CREATED:20231115T193713Z
LAST-MODIFIED:20231115T193713Z
UID:4825-1703152800-1703160000@godfreymillercenter.org
SUMMARY:Mahjong
DESCRIPTION:
URL:https://godfreymillercenter.org/event/mahjong-84/
LOCATION:Parlor
END:VEVENT
BEGIN:VEVENT
DTSTART;TZID=America/New_York:20231220T140000
DTEND;TZID=America/New_York:20231220T150000
DTSTAMP:20260425T121732
CREATED:20231115T193712Z
LAST-MODIFIED:20231115T193712Z
UID:4824-1703080800-1703084400@godfreymillercenter.org
SUMMARY:Exercise for Balance and Strength
DESCRIPTION:A low-impact program that includes joint check/warm-up\, range of motion/stretching\, strengthening\, cardiovascular endurance\, and joint check/cool down. Led by Sonna Russell. Ms. Russell is a gifted coach and was trained through the Arthritis Foundation. (Suggested donation – $3.00)
URL:https://godfreymillercenter.org/event/exercise-for-balance-and-strength-184/
LOCATION:Pavilion
END:VEVENT
BEGIN:VEVENT
DTSTART;TZID=America/New_York:20231220T123000
DTEND;TZID=America/New_York:20231220T133000
DTSTAMP:20260425T121732
CREATED:20231115T193712Z
LAST-MODIFIED:20231115T193712Z
UID:4823-1703075400-1703079000@godfreymillercenter.org
SUMMARY:Lunch
DESCRIPTION:***RSVP required\, call The Godfrey Miller Center office at 540-667-5869 to reserve your spot.   \nDecember 6: Spaghetti and Meatballs\, Broccoli\, Garlic Bread\, and Dessert\nDecember 20: Roast Pork\, Mac & Cheese\, Peas\, and Dessert
URL:https://godfreymillercenter.org/event/lunch-26/
LOCATION:Pavilion
END:VEVENT
BEGIN:VEVENT
DTSTART;TZID=America/New_York:20231220T100000
DTEND;TZID=America/New_York:20231220T120000
DTSTAMP:20260425T121732
CREATED:20231115T193712Z
LAST-MODIFIED:20231115T193712Z
UID:4822-1703066400-1703073600@godfreymillercenter.org
SUMMARY:Pinochle
DESCRIPTION:
URL:https://godfreymillercenter.org/event/pinochle-80/
LOCATION:Parlor or Dining Room
END:VEVENT
BEGIN:VEVENT
DTSTART;TZID=America/New_York:20231219T140000
DTEND;TZID=America/New_York:20231219T150000
DTSTAMP:20260425T121732
CREATED:20231115T193712Z
LAST-MODIFIED:20231115T193712Z
UID:4821-1702994400-1702998000@godfreymillercenter.org
SUMMARY:Strength and Conditioning Class
DESCRIPTION:This class is designed to increase physical strength through resistance exercise. All major muscle groups are worked from head to toe. We finish with core conditioning\, breathing\, and stretching for a complete workout. Dumbbells are used for each class\, you can bring your own or use ours! Led by Program Coordinator Anna.
URL:https://godfreymillercenter.org/event/strength-and-conditioning-class-112/
LOCATION:Pavilion
END:VEVENT
BEGIN:VEVENT
DTSTART;TZID=America/New_York:20231219T130000
DTEND;TZID=America/New_York:20231219T150000
DTSTAMP:20260425T121732
CREATED:20231115T193712Z
LAST-MODIFIED:20231115T193712Z
UID:4820-1702990800-1702998000@godfreymillercenter.org
SUMMARY:Art Class: Drawing
DESCRIPTION:In this course\, students will improve drawing skills through using a combination of mediums such as graphite\, charcoal\, and pen and ink.  Students will have their choice of mediums to help define their styles. Taught by master artist Kate Williams. (Suggested donation: $15 per class) \n***RSVP required\, call The Godfrey Miller Center office at 540-667-5869 to reserve your spot.
URL:https://godfreymillercenter.org/event/art-class-drawing-27/
END:VEVENT
BEGIN:VEVENT
DTSTART;TZID=America/New_York:20231219T100000
DTEND;TZID=America/New_York:20231219T120000
DTSTAMP:20260425T121732
CREATED:20231115T193712Z
LAST-MODIFIED:20231115T193712Z
UID:4819-1702980000-1702987200@godfreymillercenter.org
SUMMARY:Canasta
DESCRIPTION:
URL:https://godfreymillercenter.org/event/canasta-90/
LOCATION:Parlor
END:VEVENT
BEGIN:VEVENT
DTSTART;TZID=America/New_York:20231219T100000
DTEND;TZID=America/New_York:20231219T120000
DTSTAMP:20260425T121732
CREATED:20231115T193711Z
LAST-MODIFIED:20231115T193711Z
UID:4818-1702980000-1702987200@godfreymillercenter.org
SUMMARY:Art Class: Acrylic & Watercolor Painting
DESCRIPTION:In this course\, students will develop painting skills\, techniques\, and aesthetic sensibilities related to artistic expression in acrylic and/or watercolor mediums. Each week will focus on a different subject\, emphasizing color and composition\, and enabling students to expand and better define their unique style and technique. Taught by master artist Kate Williams. (Suggested donation: $15 per class) \n***RSVP required\, call The Godfrey Miller Center office at 540-667-5869 to reserve your spot.
URL:https://godfreymillercenter.org/event/art-class-acrylic-watercolor-painting-27/
END:VEVENT
BEGIN:VEVENT
DTSTART;TZID=America/New_York:20231218T140000
DTEND;TZID=America/New_York:20231218T150000
DTSTAMP:20260425T121732
CREATED:20231115T193711Z
LAST-MODIFIED:20231115T193711Z
UID:4817-1702908000-1702911600@godfreymillercenter.org
SUMMARY:Exercise for Balance and Strength
DESCRIPTION:A low-impact program that includes joint check/warm-up\, range of motion/stretching\, strengthening\, cardiovascular endurance\, and joint check/cool down. Led by Sonna Russell. Ms. Russell is a gifted coach and was trained through the Arthritis Foundation. (Suggested donation – $3.00)
URL:https://godfreymillercenter.org/event/exercise-for-balance-and-strength-183/
LOCATION:Pavilion
END:VEVENT
BEGIN:VEVENT
DTSTART;TZID=America/New_York:20231218T123000
DTEND;TZID=America/New_York:20231218T133000
DTSTAMP:20260425T121732
CREATED:20231115T193711Z
LAST-MODIFIED:20231115T193711Z
UID:4816-1702902600-1702906200@godfreymillercenter.org
SUMMARY:Lunch
DESCRIPTION:***RSVP required\, call The Godfrey Miller Center office at 540-667-5869 to reserve your spot.   \nDecember 4: Chili and Baked Potato\, Spinach\, and Dessert\nDecember 11: Meatloaf\, Mashed potatoes\, Kale\, and Dessert\nDecember 18: Baked Ziti\, Green Beans\, Garlic Bread\, and Dessert
URL:https://godfreymillercenter.org/event/lunch-25/
LOCATION:Pavilion
END:VEVENT
BEGIN:VEVENT
DTSTART;TZID=America/New_York:20231218T110000
DTEND;TZID=America/New_York:20231218T120000
DTSTAMP:20260425T121732
CREATED:20231115T193711Z
LAST-MODIFIED:20231115T193711Z
UID:4814-1702897200-1702900800@godfreymillercenter.org
SUMMARY:Bingo
DESCRIPTION:***RSVP required\, call The Godfrey Miller Center office at 540-667-5869 to reserve your spot.   \nEscape the winter cold and join us for a game of Bingo!  There will be many useful and fun prizes available for you to win.
URL:https://godfreymillercenter.org/event/bingo-4/
END:VEVENT
BEGIN:VEVENT
DTSTART;TZID=America/New_York:20231218T100000
DTEND;TZID=America/New_York:20231218T120000
DTSTAMP:20260425T121732
CREATED:20231115T193711Z
LAST-MODIFIED:20231115T193711Z
UID:4815-1702893600-1702900800@godfreymillercenter.org
SUMMARY:Art Studio
DESCRIPTION:Art Studio is an open time for individuals to gather and work on their various art projects.  This is a social opportunity for artists of all levels to help each other and work independently. Recurs on every Monday of the month.
URL:https://godfreymillercenter.org/event/art-studio-85/
LOCATION:Pavilion
END:VEVENT
BEGIN:VEVENT
DTSTART;TZID=America/New_York:20231218T100000
DTEND;TZID=America/New_York:20231218T120000
DTSTAMP:20260425T121732
CREATED:20231115T193711Z
LAST-MODIFIED:20231115T193711Z
UID:4813-1702893600-1702900800@godfreymillercenter.org
SUMMARY:Jigsaw Puzzles
DESCRIPTION:Escape the heat with and enjoy the air conditioning while working on a jigsaw puzzle with others.  Fresh coffee provided!
URL:https://godfreymillercenter.org/event/jigsaw-puzzles-22/
END:VEVENT
BEGIN:VEVENT
DTSTART;TZID=America/New_York:20231218T080000
DTEND;TZID=America/New_York:20231218T083000
DTSTAMP:20260425T121732
CREATED:20231115T193711Z
LAST-MODIFIED:20231115T193711Z
UID:4812-1702886400-1702888200@godfreymillercenter.org
SUMMARY:Walking Club
DESCRIPTION:Meet in the courtyard of Godfrey Miller Center to walk and socialize around downtown Winchester.
URL:https://godfreymillercenter.org/event/walking-club-58/
END:VEVENT
END:VCALENDAR