BEGIN:VCALENDAR
VERSION:2.0
PRODID:-//Godfrey Miller Center - ECPv6.15.20//NONSGML v1.0//EN
CALSCALE:GREGORIAN
METHOD:PUBLISH
X-WR-CALNAME:Godfrey Miller Center
X-ORIGINAL-URL:https://godfreymillercenter.org
X-WR-CALDESC:Events for Godfrey Miller Center
REFRESH-INTERVAL;VALUE=DURATION:PT1H
X-Robots-Tag:noindex
X-PUBLISHED-TTL:PT1H
BEGIN:VTIMEZONE
TZID:America/New_York
BEGIN:DAYLIGHT
TZOFFSETFROM:-0500
TZOFFSETTO:-0400
TZNAME:EDT
DTSTART:20220313T070000
END:DAYLIGHT
BEGIN:STANDARD
TZOFFSETFROM:-0400
TZOFFSETTO:-0500
TZNAME:EST
DTSTART:20221106T060000
END:STANDARD
BEGIN:DAYLIGHT
TZOFFSETFROM:-0500
TZOFFSETTO:-0400
TZNAME:EDT
DTSTART:20230312T070000
END:DAYLIGHT
BEGIN:STANDARD
TZOFFSETFROM:-0400
TZOFFSETTO:-0500
TZNAME:EST
DTSTART:20231105T060000
END:STANDARD
BEGIN:DAYLIGHT
TZOFFSETFROM:-0500
TZOFFSETTO:-0400
TZNAME:EDT
DTSTART:20240310T070000
END:DAYLIGHT
BEGIN:STANDARD
TZOFFSETFROM:-0400
TZOFFSETTO:-0500
TZNAME:EST
DTSTART:20241103T060000
END:STANDARD
END:VTIMEZONE
BEGIN:VEVENT
DTSTART;TZID=America/New_York:20230720T140000
DTEND;TZID=America/New_York:20230720T150000
DTSTAMP:20260425T202548
CREATED:20230628T183613Z
LAST-MODIFIED:20230628T183613Z
UID:4429-1689861600-1689865200@godfreymillercenter.org
SUMMARY:Strength and Conditioning Class
DESCRIPTION:This class is designed to increase physical strength through resistance exercise. All major muscle groups are worked from head to toe. We finish with core conditioning\, breathing\, and stretching for a complete workout. Dumbbells are used for each class\, you can bring your own or use ours! Led by Program Coordinator Anna.
URL:https://godfreymillercenter.org/event/strength-and-conditioning-class-79/
LOCATION:Pavilion
END:VEVENT
BEGIN:VEVENT
DTSTART;TZID=America/New_York:20230724T080000
DTEND;TZID=America/New_York:20230724T083000
DTSTAMP:20260425T202548
CREATED:20230628T183614Z
LAST-MODIFIED:20230628T183614Z
UID:4430-1690185600-1690187400@godfreymillercenter.org
SUMMARY:Walking Club
DESCRIPTION:Meet in the courtyard of Godfrey Miller Center to walk and socialize around downtown Winchester.
URL:https://godfreymillercenter.org/event/walking-club-43/
END:VEVENT
BEGIN:VEVENT
DTSTART;TZID=America/New_York:20230724T100000
DTEND;TZID=America/New_York:20230724T120000
DTSTAMP:20260425T202548
CREATED:20230628T183614Z
LAST-MODIFIED:20230628T183614Z
UID:4434-1690192800-1690200000@godfreymillercenter.org
SUMMARY:Jigsaw Puzzles
DESCRIPTION:Escape the heat with and enjoy the air conditioning while working on a jigsaw puzzle with others.  Fresh coffee provided!
URL:https://godfreymillercenter.org/event/jigsaw-puzzles-7/
END:VEVENT
BEGIN:VEVENT
DTSTART;TZID=America/New_York:20230724T100000
DTEND;TZID=America/New_York:20230724T120000
DTSTAMP:20260425T202548
CREATED:20230628T183614Z
LAST-MODIFIED:20230628T183614Z
UID:4431-1690192800-1690200000@godfreymillercenter.org
SUMMARY:Art Studio
DESCRIPTION:Art Studio is an open time for individuals to gather and work on their various art projects.  This is a social opportunity for artists of all levels to help each other and work independently. Recurs on every Monday of the month.
URL:https://godfreymillercenter.org/event/art-studio-70/
LOCATION:Pavilion
END:VEVENT
BEGIN:VEVENT
DTSTART;TZID=America/New_York:20230724T100000
DTEND;TZID=America/New_York:20230724T120000
DTSTAMP:20260425T202548
CREATED:20230628T183614Z
LAST-MODIFIED:20230628T183614Z
UID:4432-1690192800-1690200000@godfreymillercenter.org
SUMMARY:Samba
DESCRIPTION:Samba is a card game variation of Canasta.  All are invited to come\, learn and play!
URL:https://godfreymillercenter.org/event/samba-35/
LOCATION:Parlor
END:VEVENT
BEGIN:VEVENT
DTSTART;TZID=America/New_York:20230724T103000
DTEND;TZID=America/New_York:20230724T113000
DTSTAMP:20260425T202548
CREATED:20230628T183614Z
LAST-MODIFIED:20230628T183614Z
UID:4433-1690194600-1690198200@godfreymillercenter.org
SUMMARY:Smart Phone Help Session
DESCRIPTION:Join Program Coordinator Anna for help with your smart phone.  Bring your device\, account passwords\, and any questions!
URL:https://godfreymillercenter.org/event/smart-phone-help-session-4/
END:VEVENT
BEGIN:VEVENT
DTSTART;TZID=America/New_York:20230724T123000
DTEND;TZID=America/New_York:20230724T133000
DTSTAMP:20260425T202548
CREATED:20230628T183614Z
LAST-MODIFIED:20230628T183727Z
UID:4435-1690201800-1690205400@godfreymillercenter.org
SUMMARY:Lunch
DESCRIPTION:***RSVP Required by the preceding Thursday. Tickets are $8.50 and available in the Godfrey Miller Center office. \nMenu: Pesto Flatbread\, Italian Pasta Salad\, and Dessert
URL:https://godfreymillercenter.org/event/4435/
LOCATION:Pavilion
END:VEVENT
BEGIN:VEVENT
DTSTART;TZID=America/New_York:20230724T140000
DTEND;TZID=America/New_York:20230724T150000
DTSTAMP:20260425T202548
CREATED:20230628T183614Z
LAST-MODIFIED:20230628T183614Z
UID:4436-1690207200-1690210800@godfreymillercenter.org
SUMMARY:Exercise for Balance and Strength
DESCRIPTION:A low-impact program that includes joint check/warm-up\, range of motion/stretching\, strengthening\, cardiovascular endurance\, and joint check/cool down. Led by Sonna Russell. Ms. Russell is a gifted coach and was trained through the Arthritis Foundation. (Suggested donation – $3.00)
URL:https://godfreymillercenter.org/event/exercise-for-balance-and-strength-146/
LOCATION:Pavilion
END:VEVENT
BEGIN:VEVENT
DTSTART;TZID=America/New_York:20230725T100000
DTEND;TZID=America/New_York:20230725T120000
DTSTAMP:20260425T202548
CREATED:20230628T183615Z
LAST-MODIFIED:20230628T183615Z
UID:4438-1690279200-1690286400@godfreymillercenter.org
SUMMARY:Canasta
DESCRIPTION:
URL:https://godfreymillercenter.org/event/canasta-74/
LOCATION:Parlor
END:VEVENT
BEGIN:VEVENT
DTSTART;TZID=America/New_York:20230725T103000
DTEND;TZID=America/New_York:20230725T120000
DTSTAMP:20260425T202548
CREATED:20230628T183614Z
LAST-MODIFIED:20230628T183614Z
UID:4437-1690281000-1690286400@godfreymillercenter.org
SUMMARY:Workshop: Summer Flower Arrangement
DESCRIPTION:Join T. Shafferman for a cut flower arrangement workshop that will be perfect for Summer.  All supplies will be provided\, but please bring flower clippers if you have them.  (Suggested Donation: $15) \n***RSVP required\, call The Godfrey Miller Center office at 540-667-5869 to reserve your spot.
URL:https://godfreymillercenter.org/event/workshop-summer-flower-arrangement/
LOCATION:Pavilion
END:VEVENT
BEGIN:VEVENT
DTSTART;TZID=America/New_York:20230725T140000
DTEND;TZID=America/New_York:20230725T150000
DTSTAMP:20260425T202548
CREATED:20230628T183615Z
LAST-MODIFIED:20230628T183615Z
UID:4439-1690293600-1690297200@godfreymillercenter.org
SUMMARY:Strength and Conditioning Class
DESCRIPTION:This class is designed to increase physical strength through resistance exercise. All major muscle groups are worked from head to toe. We finish with core conditioning\, breathing\, and stretching for a complete workout. Dumbbells are used for each class\, you can bring your own or use ours! Led by Program Coordinator Anna.
URL:https://godfreymillercenter.org/event/strength-and-conditioning-class-80/
LOCATION:Pavilion
END:VEVENT
BEGIN:VEVENT
DTSTART;TZID=America/New_York:20230726T100000
DTEND;TZID=America/New_York:20230726T120000
DTSTAMP:20260425T202548
CREATED:20230628T183615Z
LAST-MODIFIED:20230628T183615Z
UID:4440-1690365600-1690372800@godfreymillercenter.org
SUMMARY:Pinochle
DESCRIPTION:
URL:https://godfreymillercenter.org/event/pinochle-64/
LOCATION:Parlor or Dining Room
END:VEVENT
BEGIN:VEVENT
DTSTART;TZID=America/New_York:20230726T103000
DTEND;TZID=America/New_York:20230726T113000
DTSTAMP:20260425T202548
CREATED:20230628T183615Z
LAST-MODIFIED:20230628T183615Z
UID:4441-1690367400-1690371000@godfreymillercenter.org
SUMMARY:Workshop: Christmas in July Greeting Cards
DESCRIPTION:Come get a head start on your greeting cards!  All supplies provided. (Suggested Donation: $3) \n***RSVP required\, call The Godfrey Miller Center office at 540-667-5869 to reserve your spot.
URL:https://godfreymillercenter.org/event/workshop-christmas-in-july-greeting-cards/
END:VEVENT
BEGIN:VEVENT
DTSTART;TZID=America/New_York:20230726T123000
DTEND;TZID=America/New_York:20230726T133000
DTSTAMP:20260425T202548
CREATED:20230628T183615Z
LAST-MODIFIED:20230628T183702Z
UID:4442-1690374600-1690378200@godfreymillercenter.org
SUMMARY:Lunch
DESCRIPTION:***RSVP Required by the preceding Monday. Tickets are $8.50 and available in the Godfrey Miller Center office. \nMenu: Chicken and Strawberry Salad\, Cheesy Bread Sticks\, and Dessert
URL:https://godfreymillercenter.org/event/4442/
LOCATION:Pavilion
END:VEVENT
BEGIN:VEVENT
DTSTART;TZID=America/New_York:20230726T140000
DTEND;TZID=America/New_York:20230726T150000
DTSTAMP:20260425T202548
CREATED:20230628T183615Z
LAST-MODIFIED:20230628T183615Z
UID:4443-1690380000-1690383600@godfreymillercenter.org
SUMMARY:Exercise for Balance and Strength
DESCRIPTION:A low-impact program that includes joint check/warm-up\, range of motion/stretching\, strengthening\, cardiovascular endurance\, and joint check/cool down. Led by Sonna Russell. Ms. Russell is a gifted coach and was trained through the Arthritis Foundation. (Suggested donation – $3.00)
URL:https://godfreymillercenter.org/event/exercise-for-balance-and-strength-147/
LOCATION:Pavilion
END:VEVENT
BEGIN:VEVENT
DTSTART;TZID=America/New_York:20230727T100000
DTEND;TZID=America/New_York:20230727T120000
DTSTAMP:20260425T202548
CREATED:20230628T183615Z
LAST-MODIFIED:20230628T183615Z
UID:4444-1690452000-1690459200@godfreymillercenter.org
SUMMARY:Mahjong
DESCRIPTION:
URL:https://godfreymillercenter.org/event/mahjong-69/
LOCATION:Parlor
END:VEVENT
BEGIN:VEVENT
DTSTART;TZID=America/New_York:20230727T130000
DTEND;TZID=America/New_York:20230727T150000
DTSTAMP:20260425T202548
CREATED:20230628T183615Z
LAST-MODIFIED:20230628T183615Z
UID:4445-1690462800-1690470000@godfreymillercenter.org
SUMMARY:Movie Matinee: Persuasion
DESCRIPTION:This movie is based on the novel by Jane Austen\, which was released after Austen’s death.  The story is about an Englishwoman who meets a man from her past\, and welcomes a second chance at love.  This film is one you won’t want to miss.  Popcorn\, candy\, and drinks will be provided. Movie Length: 1 hour and 50 minutes \n***RSVP required\, call The Godfrey Miller Center office at 540-667-5869 to reserve your spot.
URL:https://godfreymillercenter.org/event/movie-matinee-persuasion/
END:VEVENT
BEGIN:VEVENT
DTSTART;TZID=America/New_York:20230731T080000
DTEND;TZID=America/New_York:20230731T083000
DTSTAMP:20260425T202548
CREATED:20230628T183616Z
LAST-MODIFIED:20230628T183616Z
UID:4446-1690790400-1690792200@godfreymillercenter.org
SUMMARY:Walking Club
DESCRIPTION:Meet in the courtyard of Godfrey Miller Center to walk and socialize around downtown Winchester.
URL:https://godfreymillercenter.org/event/walking-club-44/
END:VEVENT
BEGIN:VEVENT
DTSTART;TZID=America/New_York:20230731T100000
DTEND;TZID=America/New_York:20230731T120000
DTSTAMP:20260425T202548
CREATED:20230628T183616Z
LAST-MODIFIED:20230628T183616Z
UID:4447-1690797600-1690804800@godfreymillercenter.org
SUMMARY:Art Studio
DESCRIPTION:Art Studio is an open time for individuals to gather and work on their various art projects.  This is a social opportunity for artists of all levels to help each other and work independently. Recurs on every Monday of the month.
URL:https://godfreymillercenter.org/event/art-studio-71/
LOCATION:Pavilion
END:VEVENT
BEGIN:VEVENT
DTSTART;TZID=America/New_York:20230731T100000
DTEND;TZID=America/New_York:20230731T120000
DTSTAMP:20260425T202548
CREATED:20230628T183616Z
LAST-MODIFIED:20230628T183616Z
UID:4448-1690797600-1690804800@godfreymillercenter.org
SUMMARY:Samba
DESCRIPTION:Samba is a card game variation of Canasta.  All are invited to come\, learn and play!
URL:https://godfreymillercenter.org/event/samba-36/
LOCATION:Parlor
END:VEVENT
BEGIN:VEVENT
DTSTART;TZID=America/New_York:20230731T100000
DTEND;TZID=America/New_York:20230731T120000
DTSTAMP:20260425T202548
CREATED:20230628T183616Z
LAST-MODIFIED:20230628T183616Z
UID:4449-1690797600-1690804800@godfreymillercenter.org
SUMMARY:Jigsaw Puzzles
DESCRIPTION:Escape the heat with and enjoy the air conditioning while working on a jigsaw puzzle with others.  Fresh coffee provided!
URL:https://godfreymillercenter.org/event/jigsaw-puzzles-8/
END:VEVENT
BEGIN:VEVENT
DTSTART;TZID=America/New_York:20230731T123000
DTEND;TZID=America/New_York:20230731T133000
DTSTAMP:20260425T202548
CREATED:20230628T183616Z
LAST-MODIFIED:20230628T183644Z
UID:4450-1690806600-1690810200@godfreymillercenter.org
SUMMARY:Lunch
DESCRIPTION:***RSVP Required by the preceding Thursday. Tickets are $8.50 and available in the Godfrey Miller Center office. \nMenu: Italian Hoagies with Pickled Veggies\, Potato Salad\, and Dessert
URL:https://godfreymillercenter.org/event/4450/
LOCATION:Pavilion
END:VEVENT
BEGIN:VEVENT
DTSTART;TZID=America/New_York:20230731T140000
DTEND;TZID=America/New_York:20230731T150000
DTSTAMP:20260425T202548
CREATED:20230628T183616Z
LAST-MODIFIED:20230628T183616Z
UID:4451-1690812000-1690815600@godfreymillercenter.org
SUMMARY:Exercise for Balance and Strength
DESCRIPTION:A low-impact program that includes joint check/warm-up\, range of motion/stretching\, strengthening\, cardiovascular endurance\, and joint check/cool down. Led by Sonna Russell. Ms. Russell is a gifted coach and was trained through the Arthritis Foundation. (Suggested donation – $3.00)
URL:https://godfreymillercenter.org/event/exercise-for-balance-and-strength-148/
LOCATION:Pavilion
END:VEVENT
BEGIN:VEVENT
DTSTART;TZID=America/New_York:20230803T140000
DTEND;TZID=America/New_York:20230803T150000
DTSTAMP:20260425T202548
CREATED:20230720T140853Z
LAST-MODIFIED:20230720T140853Z
UID:4471-1691071200-1691074800@godfreymillercenter.org
SUMMARY:Strength and Conditioning Class
DESCRIPTION:This class is designed to increase physical strength through resistance exercise. All major muscle groups are worked from head to toe. We finish with core conditioning\, breathing\, and stretching for a complete workout. Dumbbells are used for each class\, you can bring your own or use ours! Led by Program Coordinator Anna.
URL:https://godfreymillercenter.org/event/strength-and-conditioning-class-81/
LOCATION:Pavilion
END:VEVENT
BEGIN:VEVENT
DTSTART;TZID=America/New_York:20230807T103000
DTEND;TZID=America/New_York:20230807T113000
DTSTAMP:20260425T202548
CREATED:20230720T140853Z
LAST-MODIFIED:20230720T140853Z
UID:4472-1691404200-1691407800@godfreymillercenter.org
SUMMARY:Smart Phone Help Session
DESCRIPTION:Join Program Coordinator Anna for help with a tablet\, iPad\, smart phone\, or computer.  Bring your device\, account passwords\, and any questions!
URL:https://godfreymillercenter.org/event/smart-phone-help-session-5/
END:VEVENT
BEGIN:VEVENT
DTSTART;TZID=America/New_York:20230807T140000
DTEND;TZID=America/New_York:20230807T150000
DTSTAMP:20260425T202548
CREATED:20230720T140854Z
LAST-MODIFIED:20230720T140854Z
UID:4473-1691416800-1691420400@godfreymillercenter.org
SUMMARY:Exercise for Balance and Strength
DESCRIPTION:A low-impact program that includes joint check/warm-up\, range of motion/stretching\, strengthening\, cardiovascular endurance\, and joint check/cool down. Led by Sonna Russell. Ms. Russell is a gifted coach and was trained through the Arthritis Foundation. (Suggested donation – $3.00)
URL:https://godfreymillercenter.org/event/exercise-for-balance-and-strength-149/
LOCATION:Pavilion
END:VEVENT
BEGIN:VEVENT
DTSTART;TZID=America/New_York:20230808T140000
DTEND;TZID=America/New_York:20230808T150000
DTSTAMP:20260425T202548
CREATED:20230720T140854Z
LAST-MODIFIED:20230720T140854Z
UID:4474-1691503200-1691506800@godfreymillercenter.org
SUMMARY:Strength and Conditioning Class
DESCRIPTION:This class is designed to increase physical strength through resistance exercise. All major muscle groups are worked from head to toe. We finish with core conditioning\, breathing\, and stretching for a complete workout. Dumbbells are used for each class\, you can bring your own or use ours! Led by Program Coordinator Anna.
URL:https://godfreymillercenter.org/event/strength-and-conditioning-class-82/
LOCATION:Pavilion
END:VEVENT
BEGIN:VEVENT
DTSTART;TZID=America/New_York:20230809T100000
DTEND;TZID=America/New_York:20230809T120000
DTSTAMP:20260425T202548
CREATED:20230720T140854Z
LAST-MODIFIED:20230720T140854Z
UID:4475-1691575200-1691582400@godfreymillercenter.org
SUMMARY:Pinochle
DESCRIPTION:
URL:https://godfreymillercenter.org/event/pinochle-65/
LOCATION:Parlor or Dining Room
END:VEVENT
BEGIN:VEVENT
DTSTART;TZID=America/New_York:20230809T123000
DTEND;TZID=America/New_York:20230809T133000
DTSTAMP:20260425T202548
CREATED:20230720T140854Z
LAST-MODIFIED:20230720T141056Z
UID:4476-1691584200-1691587800@godfreymillercenter.org
SUMMARY:Lunch
DESCRIPTION:***RSVP Required by the preceding Monday.  Tickets are $8.50 and available in the Godfrey Miller Center office. \nMenu: Asian Chicken & Veggies\, Fried Rice\, and Dessert
URL:https://godfreymillercenter.org/event/4476/
LOCATION:Pavilion
END:VEVENT
BEGIN:VEVENT
DTSTART;TZID=America/New_York:20230809T140000
DTEND;TZID=America/New_York:20230809T150000
DTSTAMP:20260425T202548
CREATED:20230720T140855Z
LAST-MODIFIED:20230720T140855Z
UID:4477-1691589600-1691593200@godfreymillercenter.org
SUMMARY:Exercise for Balance and Strength
DESCRIPTION:A low-impact program that includes joint check/warm-up\, range of motion/stretching\, strengthening\, cardiovascular endurance\, and joint check/cool down. Led by Sonna Russell. Ms. Russell is a gifted coach and was trained through the Arthritis Foundation. (Suggested donation – $3.00)
URL:https://godfreymillercenter.org/event/exercise-for-balance-and-strength-150/
LOCATION:Pavilion
END:VEVENT
END:VCALENDAR