BEGIN:VCALENDAR
VERSION:2.0
PRODID:-//Godfrey Miller Center - ECPv6.15.20//NONSGML v1.0//EN
CALSCALE:GREGORIAN
METHOD:PUBLISH
X-WR-CALNAME:Godfrey Miller Center
X-ORIGINAL-URL:https://godfreymillercenter.org
X-WR-CALDESC:Events for Godfrey Miller Center
REFRESH-INTERVAL;VALUE=DURATION:PT1H
X-Robots-Tag:noindex
X-PUBLISHED-TTL:PT1H
BEGIN:VTIMEZONE
TZID:America/New_York
BEGIN:DAYLIGHT
TZOFFSETFROM:-0500
TZOFFSETTO:-0400
TZNAME:EDT
DTSTART:20220313T070000
END:DAYLIGHT
BEGIN:STANDARD
TZOFFSETFROM:-0400
TZOFFSETTO:-0500
TZNAME:EST
DTSTART:20221106T060000
END:STANDARD
BEGIN:DAYLIGHT
TZOFFSETFROM:-0500
TZOFFSETTO:-0400
TZNAME:EDT
DTSTART:20230312T070000
END:DAYLIGHT
BEGIN:STANDARD
TZOFFSETFROM:-0400
TZOFFSETTO:-0500
TZNAME:EST
DTSTART:20231105T060000
END:STANDARD
BEGIN:DAYLIGHT
TZOFFSETFROM:-0500
TZOFFSETTO:-0400
TZNAME:EDT
DTSTART:20240310T070000
END:DAYLIGHT
BEGIN:STANDARD
TZOFFSETFROM:-0400
TZOFFSETTO:-0500
TZNAME:EST
DTSTART:20241103T060000
END:STANDARD
END:VTIMEZONE
BEGIN:VEVENT
DTSTART;TZID=America/New_York:20230821T140000
DTEND;TZID=America/New_York:20230821T150000
DTSTAMP:20260425T233642
CREATED:20230720T140858Z
LAST-MODIFIED:20230720T140858Z
UID:4504-1692626400-1692630000@godfreymillercenter.org
SUMMARY:Exercise for Balance and Strength
DESCRIPTION:A low-impact program that includes joint check/warm-up\, range of motion/stretching\, strengthening\, cardiovascular endurance\, and joint check/cool down. Led by Sonna Russell. Ms. Russell is a gifted coach and was trained through the Arthritis Foundation. (Suggested donation – $3.00)
URL:https://godfreymillercenter.org/event/exercise-for-balance-and-strength-153/
LOCATION:Pavilion
END:VEVENT
BEGIN:VEVENT
DTSTART;TZID=America/New_York:20230822T100000
DTEND;TZID=America/New_York:20230822T120000
DTSTAMP:20260425T233642
CREATED:20230720T140858Z
LAST-MODIFIED:20230720T140858Z
UID:4505-1692698400-1692705600@godfreymillercenter.org
SUMMARY:Canasta
DESCRIPTION:
URL:https://godfreymillercenter.org/event/canasta-76/
LOCATION:Parlor
END:VEVENT
BEGIN:VEVENT
DTSTART;TZID=America/New_York:20230822T100000
DTEND;TZID=America/New_York:20230822T120000
DTSTAMP:20260425T233642
CREATED:20230720T140859Z
LAST-MODIFIED:20230720T140859Z
UID:4506-1692698400-1692705600@godfreymillercenter.org
SUMMARY:Art Class: Acrylic & Watercolor Painting
DESCRIPTION:In this course\, students will develop painting skills\, techniques\, and aesthetic sensibilities related to artistic expression in acrylic and/or watercolor mediums. Each week will focus on a different subject\, emphasizing color and composition\, and enabling students to expand and better define their unique style and technique. Taught by Kate Williams. (Suggested donation – $15 per class)  \n***RSVP required\, call The Godfrey Miller Center office at 540-667-5869 to reserve your spot.
URL:https://godfreymillercenter.org/event/art-class-acrylic-watercolor-painting-15/
END:VEVENT
BEGIN:VEVENT
DTSTART;TZID=America/New_York:20230822T130000
DTEND;TZID=America/New_York:20230822T150000
DTSTAMP:20260425T233642
CREATED:20230720T140859Z
LAST-MODIFIED:20230720T140859Z
UID:4507-1692709200-1692716400@godfreymillercenter.org
SUMMARY:Art Class: Drawing
DESCRIPTION:In this course\, students will improve drawing skills by capturing scenes of Winchester.  Through a combination of landscapes\, buildings\, and people we will explore different drawing techniques such as graphite\, charcoal\, and pen and ink.  Students will have their choice of mediums to help define their styles. Taught by master artist Kate Williams. (Suggested donation – $15 per class)  \n***RSVP required\, call The Godfrey Miller Center office at 540-667-5869 to reserve your spot.
URL:https://godfreymillercenter.org/event/art-class-drawing-15/
END:VEVENT
BEGIN:VEVENT
DTSTART;TZID=America/New_York:20230822T140000
DTEND;TZID=America/New_York:20230822T150000
DTSTAMP:20260425T233642
CREATED:20230720T140859Z
LAST-MODIFIED:20230720T140859Z
UID:4508-1692712800-1692716400@godfreymillercenter.org
SUMMARY:Strength and Conditioning Class
DESCRIPTION:This class is designed to increase physical strength through resistance exercise. All major muscle groups are worked from head to toe. We finish with core conditioning\, breathing\, and stretching for a complete workout. Dumbbells are used for each class\, you can bring your own or use ours! Led by Program Coordinator Anna.
URL:https://godfreymillercenter.org/event/strength-and-conditioning-class-86/
LOCATION:Pavilion
END:VEVENT
BEGIN:VEVENT
DTSTART;TZID=America/New_York:20230823T100000
DTEND;TZID=America/New_York:20230823T120000
DTSTAMP:20260425T233642
CREATED:20230720T140859Z
LAST-MODIFIED:20230720T140859Z
UID:4510-1692784800-1692792000@godfreymillercenter.org
SUMMARY:Pinochle
DESCRIPTION:
URL:https://godfreymillercenter.org/event/pinochle-67/
LOCATION:Parlor or Dining Room
END:VEVENT
BEGIN:VEVENT
DTSTART;TZID=America/New_York:20230823T103000
DTEND;TZID=America/New_York:20230823T113000
DTSTAMP:20260425T233642
CREATED:20230720T140859Z
LAST-MODIFIED:20230720T140859Z
UID:4509-1692786600-1692790200@godfreymillercenter.org
SUMMARY:Workshop: Birthday Cards
DESCRIPTION:Join Lorraine for a birthday card workshop!  This workshop will guide you through making custom birthday cards for your friends and family.  (Suggested Donation: $3) \n***RSVP required\, call The Godfrey Miller Center office at 540-667-5869 to reserve your spot.
URL:https://godfreymillercenter.org/event/workshop-birthday-cards/
END:VEVENT
BEGIN:VEVENT
DTSTART;TZID=America/New_York:20230823T123000
DTEND;TZID=America/New_York:20230823T133000
DTSTAMP:20260425T233642
CREATED:20230720T140859Z
LAST-MODIFIED:20230720T141002Z
UID:4511-1692793800-1692797400@godfreymillercenter.org
SUMMARY:Lunch
DESCRIPTION:***RSVP Required by the preceding Monday.  Tickets are $8.50 and available in the Godfrey Miller Center office. \nMenu: Pulled Pork with Apples & Onions\, Mac & Cheese\, Peas\, and Dessert
URL:https://godfreymillercenter.org/event/4511/
LOCATION:Pavilion
END:VEVENT
BEGIN:VEVENT
DTSTART;TZID=America/New_York:20230823T140000
DTEND;TZID=America/New_York:20230823T150000
DTSTAMP:20260425T233642
CREATED:20230720T140859Z
LAST-MODIFIED:20230720T140859Z
UID:4512-1692799200-1692802800@godfreymillercenter.org
SUMMARY:Exercise for Balance and Strength
DESCRIPTION:A low-impact program that includes joint check/warm-up\, range of motion/stretching\, strengthening\, cardiovascular endurance\, and joint check/cool down. Led by Sonna Russell. Ms. Russell is a gifted coach and was trained through the Arthritis Foundation. (Suggested donation – $3.00)
URL:https://godfreymillercenter.org/event/exercise-for-balance-and-strength-154/
LOCATION:Pavilion
END:VEVENT
BEGIN:VEVENT
DTSTART;TZID=America/New_York:20230824T100000
DTEND;TZID=America/New_York:20230824T120000
DTSTAMP:20260425T233642
CREATED:20230720T140900Z
LAST-MODIFIED:20230720T140900Z
UID:4514-1692871200-1692878400@godfreymillercenter.org
SUMMARY:Mahjong
DESCRIPTION:
URL:https://godfreymillercenter.org/event/mahjong-72/
LOCATION:Parlor
END:VEVENT
BEGIN:VEVENT
DTSTART;TZID=America/New_York:20230824T103000
DTEND;TZID=America/New_York:20230824T120000
DTSTAMP:20260425T233642
CREATED:20230720T140900Z
LAST-MODIFIED:20230720T140900Z
UID:4513-1692873000-1692878400@godfreymillercenter.org
SUMMARY:Baking Workshop: Lemon Loaf
DESCRIPTION:Baking is always more fun when you bake with friends.  Join Program Coordinator Anna for a morning in the kitchen making lemon loaves.  Each participant will leave with a homemade lemon loaf to share with their family or friends.  All supplies provided.  (Suggested Donation: $8) \n***RSVP required\, call The Godfrey Miller Center office at 540-667-5869 to reserve your spot.
URL:https://godfreymillercenter.org/event/baking-workshop-lemon-loaf/
END:VEVENT
BEGIN:VEVENT
DTSTART;TZID=America/New_York:20230824T140000
DTEND;TZID=America/New_York:20230824T150000
DTSTAMP:20260425T233642
CREATED:20230720T140900Z
LAST-MODIFIED:20230720T140900Z
UID:4515-1692885600-1692889200@godfreymillercenter.org
SUMMARY:Strength and Conditioning Class
DESCRIPTION:This class is designed to increase physical strength through resistance exercise. All major muscle groups are worked from head to toe. We finish with core conditioning\, breathing\, and stretching for a complete workout. Dumbbells are used for each class\, you can bring your own or use ours! Led by Program Coordinator Anna.
URL:https://godfreymillercenter.org/event/strength-and-conditioning-class-87/
LOCATION:Pavilion
END:VEVENT
BEGIN:VEVENT
DTSTART;TZID=America/New_York:20230828T080000
DTEND;TZID=America/New_York:20230828T083000
DTSTAMP:20260425T233642
CREATED:20230720T140900Z
LAST-MODIFIED:20230720T140900Z
UID:4516-1693209600-1693211400@godfreymillercenter.org
SUMMARY:Walking Club
DESCRIPTION:Meet in the courtyard of Godfrey Miller Center to walk and socialize around downtown Winchester.
URL:https://godfreymillercenter.org/event/walking-club-47/
END:VEVENT
BEGIN:VEVENT
DTSTART;TZID=America/New_York:20230828T100000
DTEND;TZID=America/New_York:20230828T120000
DTSTAMP:20260425T233642
CREATED:20230720T140900Z
LAST-MODIFIED:20230720T140900Z
UID:4517-1693216800-1693224000@godfreymillercenter.org
SUMMARY:Jigsaw Puzzles
DESCRIPTION:Escape the heat with and enjoy the air conditioning while working on a jigsaw puzzle with others.  Fresh coffee provided!
URL:https://godfreymillercenter.org/event/jigsaw-puzzles-11/
END:VEVENT
BEGIN:VEVENT
DTSTART;TZID=America/New_York:20230828T100000
DTEND;TZID=America/New_York:20230828T120000
DTSTAMP:20260425T233642
CREATED:20230720T140900Z
LAST-MODIFIED:20230720T140900Z
UID:4518-1693216800-1693224000@godfreymillercenter.org
SUMMARY:Art Studio
DESCRIPTION:Art Studio is an open time for individuals to gather and work on their various art projects.  This is a social opportunity for artists of all levels to help each other and work independently. Recurs on every Monday of the month.
URL:https://godfreymillercenter.org/event/art-studio-74/
LOCATION:Pavilion
END:VEVENT
BEGIN:VEVENT
DTSTART;TZID=America/New_York:20230828T123000
DTEND;TZID=America/New_York:20230828T133000
DTSTAMP:20260425T233642
CREATED:20230720T140900Z
LAST-MODIFIED:20230720T140946Z
UID:4519-1693225800-1693229400@godfreymillercenter.org
SUMMARY:Lunch
DESCRIPTION:***RSVP Required by the preceding Thursday.  Tickets are $8.50 and available in the Godfrey Miller Center office. \nMenu: Chicken Enchiladas Verde\, Mexican Beans\, and Dessert
URL:https://godfreymillercenter.org/event/4519/
LOCATION:Pavilion
END:VEVENT
BEGIN:VEVENT
DTSTART;TZID=America/New_York:20230828T140000
DTEND;TZID=America/New_York:20230828T150000
DTSTAMP:20260425T233642
CREATED:20230720T140901Z
LAST-MODIFIED:20230720T140901Z
UID:4520-1693231200-1693234800@godfreymillercenter.org
SUMMARY:Exercise for Balance and Strength
DESCRIPTION:A low-impact program that includes joint check/warm-up\, range of motion/stretching\, strengthening\, cardiovascular endurance\, and joint check/cool down. Led by Sonna Russell. Ms. Russell is a gifted coach and was trained through the Arthritis Foundation. (Suggested donation – $3.00)
URL:https://godfreymillercenter.org/event/exercise-for-balance-and-strength-156/
LOCATION:Pavilion
END:VEVENT
BEGIN:VEVENT
DTSTART;TZID=America/New_York:20230829T100000
DTEND;TZID=America/New_York:20230829T120000
DTSTAMP:20260425T233642
CREATED:20230720T140901Z
LAST-MODIFIED:20230720T140901Z
UID:4521-1693303200-1693310400@godfreymillercenter.org
SUMMARY:Canasta
DESCRIPTION:
URL:https://godfreymillercenter.org/event/canasta-77/
LOCATION:Parlor
END:VEVENT
BEGIN:VEVENT
DTSTART;TZID=America/New_York:20230829T100000
DTEND;TZID=America/New_York:20230829T120000
DTSTAMP:20260425T233642
CREATED:20230720T140901Z
LAST-MODIFIED:20230720T140901Z
UID:4522-1693303200-1693310400@godfreymillercenter.org
SUMMARY:Art Class: Acrylic & Watercolor Painting
DESCRIPTION:In this course\, students will develop painting skills\, techniques\, and aesthetic sensibilities related to artistic expression in acrylic and/or watercolor mediums. Each week will focus on a different subject\, emphasizing color and composition\, and enabling students to expand and better define their unique style and technique. Taught by Kate Williams. (Suggested donation – $15 per class)  \n***RSVP required\, call The Godfrey Miller Center office at 540-667-5869 to reserve your spot.
URL:https://godfreymillercenter.org/event/art-class-acrylic-watercolor-painting-16/
END:VEVENT
BEGIN:VEVENT
DTSTART;TZID=America/New_York:20230829T130000
DTEND;TZID=America/New_York:20230829T150000
DTSTAMP:20260425T233642
CREATED:20230720T140902Z
LAST-MODIFIED:20230720T140902Z
UID:4524-1693314000-1693321200@godfreymillercenter.org
SUMMARY:Art Class: Drawing
DESCRIPTION:In this course\, students will improve drawing skills by capturing scenes of Winchester.  Through a combination of landscapes\, buildings\, and people we will explore different drawing techniques such as graphite\, charcoal\, and pen and ink.  Students will have their choice of mediums to help define their styles. Taught by master artist Kate Williams. (Suggested donation – $15 per class)  \n***RSVP required\, call The Godfrey Miller Center office at 540-667-5869 to reserve your spot.
URL:https://godfreymillercenter.org/event/art-class-drawing-16/
END:VEVENT
BEGIN:VEVENT
DTSTART;TZID=America/New_York:20230829T140000
DTEND;TZID=America/New_York:20230829T150000
DTSTAMP:20260425T233642
CREATED:20230720T140901Z
LAST-MODIFIED:20230720T140901Z
UID:4523-1693317600-1693321200@godfreymillercenter.org
SUMMARY:Strength and Conditioning Class
DESCRIPTION:This class is designed to increase physical strength through resistance exercise. All major muscle groups are worked from head to toe. We finish with core conditioning\, breathing\, and stretching for a complete workout. Dumbbells are used for each class\, you can bring your own or use ours! Led by Program Coordinator Anna.
URL:https://godfreymillercenter.org/event/strength-and-conditioning-class-88/
LOCATION:Pavilion
END:VEVENT
BEGIN:VEVENT
DTSTART;TZID=America/New_York:20230830T100000
DTEND;TZID=America/New_York:20230830T120000
DTSTAMP:20260425T233642
CREATED:20230720T140902Z
LAST-MODIFIED:20230720T140902Z
UID:4525-1693389600-1693396800@godfreymillercenter.org
SUMMARY:Pinochle
DESCRIPTION:
URL:https://godfreymillercenter.org/event/pinochle-68/
LOCATION:Parlor or Dining Room
END:VEVENT
BEGIN:VEVENT
DTSTART;TZID=America/New_York:20230830T123000
DTEND;TZID=America/New_York:20230830T133000
DTSTAMP:20260425T233642
CREATED:20230720T140902Z
LAST-MODIFIED:20230720T140928Z
UID:4526-1693398600-1693402200@godfreymillercenter.org
SUMMARY:Lunch
DESCRIPTION:***RSVP Required by the preceding Monday.  Tickets are $8.50 and available in the Godfrey Miller Center office. \nMenu: Lasagna\, Green Beans\, Garlic Bread\, and Dessert
URL:https://godfreymillercenter.org/event/4526/
LOCATION:Pavilion
END:VEVENT
BEGIN:VEVENT
DTSTART;TZID=America/New_York:20230830T140000
DTEND;TZID=America/New_York:20230830T150000
DTSTAMP:20260425T233642
CREATED:20230720T140902Z
LAST-MODIFIED:20230720T140902Z
UID:4527-1693404000-1693407600@godfreymillercenter.org
SUMMARY:Exercise for Balance and Strength
DESCRIPTION:A low-impact program that includes joint check/warm-up\, range of motion/stretching\, strengthening\, cardiovascular endurance\, and joint check/cool down. Led by Sonna Russell. Ms. Russell is a gifted coach and was trained through the Arthritis Foundation. (Suggested donation – $3.00)
URL:https://godfreymillercenter.org/event/exercise-for-balance-and-strength-157/
LOCATION:Pavilion
END:VEVENT
BEGIN:VEVENT
DTSTART;TZID=America/New_York:20230831T100000
DTEND;TZID=America/New_York:20230831T120000
DTSTAMP:20260425T233642
CREATED:20230720T140902Z
LAST-MODIFIED:20230720T140902Z
UID:4528-1693476000-1693483200@godfreymillercenter.org
SUMMARY:Mahjong
DESCRIPTION:
URL:https://godfreymillercenter.org/event/mahjong-73/
LOCATION:Parlor
END:VEVENT
BEGIN:VEVENT
DTSTART;TZID=America/New_York:20230831T110000
DTEND;TZID=America/New_York:20230831T120000
DTSTAMP:20260425T233642
CREATED:20230720T140902Z
LAST-MODIFIED:20230720T140902Z
UID:4530-1693479600-1693483200@godfreymillercenter.org
SUMMARY:Computer Class: Understanding the Control Panel
DESCRIPTION:This class will cover generic information on the computer control panel.  This class will apply to both Windows 10 and 11.  We will have computers available\, but you are welcome to bring your own device and any questions you may have! Taught by Jill LeTourneau. \n***RSVP required\, call The Godfrey Miller Center office at 540-667-5869 to reserve your spot.
URL:https://godfreymillercenter.org/event/computer-class-understanding-the-control-panel-6/
LOCATION:Second Floor Computer Lab
END:VEVENT
BEGIN:VEVENT
DTSTART;TZID=America/New_York:20230831T110000
DTEND;TZID=America/New_York:20230831T120000
DTSTAMP:20260425T233642
CREATED:20230720T140902Z
LAST-MODIFIED:20230720T140902Z
UID:4529-1693479600-1693483200@godfreymillercenter.org
SUMMARY:Bingo
DESCRIPTION:Escape the summer heat and join us for a game of Bingo!  There will be many useful and fun prizes available for you to win. \n***RSVP required\, call The Godfrey Miller Center office at 540-667-5869 to reserve your spot.
URL:https://godfreymillercenter.org/event/bingo-3/
LOCATION:Pavilion
END:VEVENT
BEGIN:VEVENT
DTSTART;TZID=America/New_York:20230831T140000
DTEND;TZID=America/New_York:20230831T150000
DTSTAMP:20260425T233642
CREATED:20230720T140902Z
LAST-MODIFIED:20230720T140902Z
UID:4531-1693490400-1693494000@godfreymillercenter.org
SUMMARY:Strength and Conditioning Class
DESCRIPTION:This class is designed to increase physical strength through resistance exercise. All major muscle groups are worked from head to toe. We finish with core conditioning\, breathing\, and stretching for a complete workout. Dumbbells are used for each class\, you can bring your own or use ours! Led by Program Coordinator Anna.
URL:https://godfreymillercenter.org/event/strength-and-conditioning-class-89/
LOCATION:Pavilion
END:VEVENT
BEGIN:VEVENT
DTSTART;TZID=America/New_York:20230904T080000
DTEND;TZID=America/New_York:20230904T150000
DTSTAMP:20260425T233642
CREATED:20230825T175408Z
LAST-MODIFIED:20230825T175408Z
UID:4563-1693814400-1693839600@godfreymillercenter.org
SUMMARY:Closed in Recognition of Labor Day
DESCRIPTION:Closed in Recognition of Labor Day
URL:https://godfreymillercenter.org/event/closed-in-recognition-of-labor-day/
END:VEVENT
BEGIN:VEVENT
DTSTART;TZID=America/New_York:20230907T103000
DTEND;TZID=America/New_York:20230907T113000
DTSTAMP:20260425T233642
CREATED:20230825T175412Z
LAST-MODIFIED:20230825T175412Z
UID:4569-1694082600-1694086200@godfreymillercenter.org
SUMMARY:Workshop: Coasters
DESCRIPTION:Come decorate a set of coasters that would make a perfect gift or for use in your own home.  Step by step instructions will be provided and all are welcome! (Suggested Donation: $5) \n***RSVP required\, call The Godfrey Miller Center office at 540-667-5869 to reserve your spot.
URL:https://godfreymillercenter.org/event/workshop-coasters-2/
LOCATION:Pavilion
END:VEVENT
END:VCALENDAR