BEGIN:VCALENDAR
VERSION:2.0
PRODID:-//Godfrey Miller Center - ECPv6.15.20//NONSGML v1.0//EN
CALSCALE:GREGORIAN
METHOD:PUBLISH
X-WR-CALNAME:Godfrey Miller Center
X-ORIGINAL-URL:https://godfreymillercenter.org
X-WR-CALDESC:Events for Godfrey Miller Center
REFRESH-INTERVAL;VALUE=DURATION:PT1H
X-Robots-Tag:noindex
X-PUBLISHED-TTL:PT1H
BEGIN:VTIMEZONE
TZID:America/New_York
BEGIN:DAYLIGHT
TZOFFSETFROM:-0500
TZOFFSETTO:-0400
TZNAME:EDT
DTSTART:20220313T070000
END:DAYLIGHT
BEGIN:STANDARD
TZOFFSETFROM:-0400
TZOFFSETTO:-0500
TZNAME:EST
DTSTART:20221106T060000
END:STANDARD
BEGIN:DAYLIGHT
TZOFFSETFROM:-0500
TZOFFSETTO:-0400
TZNAME:EDT
DTSTART:20230312T070000
END:DAYLIGHT
BEGIN:STANDARD
TZOFFSETFROM:-0400
TZOFFSETTO:-0500
TZNAME:EST
DTSTART:20231105T060000
END:STANDARD
BEGIN:DAYLIGHT
TZOFFSETFROM:-0500
TZOFFSETTO:-0400
TZNAME:EDT
DTSTART:20240310T070000
END:DAYLIGHT
BEGIN:STANDARD
TZOFFSETFROM:-0400
TZOFFSETTO:-0500
TZNAME:EST
DTSTART:20241103T060000
END:STANDARD
END:VTIMEZONE
BEGIN:VEVENT
DTSTART;TZID=America/New_York:20231016T100000
DTEND;TZID=America/New_York:20231016T120000
DTSTAMP:20260425T184211
CREATED:20230927T234331Z
LAST-MODIFIED:20230927T234331Z
UID:4661-1697450400-1697457600@godfreymillercenter.org
SUMMARY:Art Studio
DESCRIPTION:Art Studio is an open time for individuals to gather and work on their various art projects.  This is a social opportunity for artists of all levels to help each other and work independently. Recurs on every Monday of the month.
URL:https://godfreymillercenter.org/event/art-studio-78/
LOCATION:Pavilion
END:VEVENT
BEGIN:VEVENT
DTSTART;TZID=America/New_York:20231016T103000
DTEND;TZID=America/New_York:20231016T113000
DTSTAMP:20260425T184211
CREATED:20230927T234330Z
LAST-MODIFIED:20230927T234330Z
UID:4659-1697452200-1697455800@godfreymillercenter.org
SUMMARY:Smart Phone Help Session
DESCRIPTION:Join Program Coordinator Anna for help with your smart phone.  Bring your device\, account passwords\, and any questions!
URL:https://godfreymillercenter.org/event/smart-phone-help-session-10/
END:VEVENT
BEGIN:VEVENT
DTSTART;TZID=America/New_York:20231016T110000
DTEND;TZID=America/New_York:20231016T120000
DTSTAMP:20260425T184211
CREATED:20230927T234331Z
LAST-MODIFIED:20230927T234331Z
UID:4660-1697454000-1697457600@godfreymillercenter.org
SUMMARY:Mahjong Lessons
DESCRIPTION:Mahjong Lessons \nCome learn the game of Mahjong!  These lessons are open to all skill levels from beginner to long time players.  \n***RSVP required\, call The Godfrey Miller Center office at 540-667-5869 to reserve your spot.
URL:https://godfreymillercenter.org/event/mahjong-lessons/
END:VEVENT
BEGIN:VEVENT
DTSTART;TZID=America/New_York:20231016T123000
DTEND;TZID=America/New_York:20231016T133000
DTSTAMP:20260425T184211
CREATED:20230927T234331Z
LAST-MODIFIED:20230927T234539Z
UID:4662-1697459400-1697463000@godfreymillercenter.org
SUMMARY:Lunch
DESCRIPTION:***RSVP Required by the preceding Thursday. Tickets are $8.50 and available in the Godfrey Miller Center office.\n* October 2: Maple Mustard Chicken\, Steamed Carrots\, Potatoes\, and Dessert\n* October 9: Shepherd’s Pie\, Green Beans\, Bread\, and Dessert\n* October 16: Baked Marsala Chicken\, Roasted Sweet Potatoes and Onions\, Peas\, and Dessert\n* October 23: Butternut Squash Soup\, Fall Salad\, Bread\, and Dessert\n* October 30: Roast Beef\, Mashed Potatoes\, Broccoli and Cauliflower\, and Dessert
URL:https://godfreymillercenter.org/event/4662/
LOCATION:Pavilion
END:VEVENT
BEGIN:VEVENT
DTSTART;TZID=America/New_York:20231016T140000
DTEND;TZID=America/New_York:20231016T150000
DTSTAMP:20260425T184211
CREATED:20230927T234331Z
LAST-MODIFIED:20230927T234331Z
UID:4663-1697464800-1697468400@godfreymillercenter.org
SUMMARY:Exercise for Balance and Strength
DESCRIPTION:A low-impact program that includes joint check/warm-up\, range of motion/stretching\, strengthening\, cardiovascular endurance\, and joint check/cool down. Led by Sonna Russell. Ms. Russell is a gifted coach and was trained through the Arthritis Foundation. (Suggested donation – $3.00)
URL:https://godfreymillercenter.org/event/exercise-for-balance-and-strength-167/
LOCATION:Pavilion
END:VEVENT
BEGIN:VEVENT
DTSTART;TZID=America/New_York:20231017T100000
DTEND;TZID=America/New_York:20231017T120000
DTSTAMP:20260425T184211
CREATED:20230927T234331Z
LAST-MODIFIED:20230927T234331Z
UID:4665-1697536800-1697544000@godfreymillercenter.org
SUMMARY:Canasta
DESCRIPTION:
URL:https://godfreymillercenter.org/event/canasta-83/
LOCATION:Parlor
END:VEVENT
BEGIN:VEVENT
DTSTART;TZID=America/New_York:20231017T100000
DTEND;TZID=America/New_York:20231017T120000
DTSTAMP:20260425T184211
CREATED:20230927T234331Z
LAST-MODIFIED:20230927T234331Z
UID:4664-1697536800-1697544000@godfreymillercenter.org
SUMMARY:Art Class: Acrylic & Watercolor Painting
DESCRIPTION:In this course\, students will develop painting skills\, techniques\, and aesthetic sensibilities related to artistic expression in acrylic and/or watercolor mediums. Each week will focus on a different subject\, emphasizing color and composition\, and enabling students to expand and better define their unique style and technique. Taught by master artist Kate Williams. (Suggested donation: $15 per class) \n***RSVP required\, call The Godfrey Miller Center office at 540-667-5869 to reserve your spot.
URL:https://godfreymillercenter.org/event/art-class-acrylic-watercolor-painting-21/
END:VEVENT
BEGIN:VEVENT
DTSTART;TZID=America/New_York:20231017T130000
DTEND;TZID=America/New_York:20231017T150000
DTSTAMP:20260425T184211
CREATED:20230927T234331Z
LAST-MODIFIED:20230927T234331Z
UID:4666-1697547600-1697554800@godfreymillercenter.org
SUMMARY:Art Class: Drawing
DESCRIPTION:In this course\, students will improve drawing skills through using a combination of mediums such as graphite\, charcoal\, and pen and ink.  Students will have their choice of mediums to help define their styles. Taught by master artist Kate Williams. (Suggested donation: $15 per class) \n***RSVP required\, call The Godfrey Miller Center office at 540-667-5869 to reserve your spot.
URL:https://godfreymillercenter.org/event/art-class-drawing-21/
END:VEVENT
BEGIN:VEVENT
DTSTART;TZID=America/New_York:20231017T140000
DTEND;TZID=America/New_York:20231017T150000
DTSTAMP:20260425T184211
CREATED:20230927T234331Z
LAST-MODIFIED:20230927T234331Z
UID:4667-1697551200-1697554800@godfreymillercenter.org
SUMMARY:Strength and Conditioning Class
DESCRIPTION:This class is designed to increase physical strength through resistance exercise. All major muscle groups are worked from head to toe. We finish with core conditioning\, breathing\, and stretching for a complete workout. Dumbbells are used for each class\, you can bring your own or use ours! Led by Program Coordinator Anna.
URL:https://godfreymillercenter.org/event/strength-and-conditioning-class-97/
LOCATION:Pavilion
END:VEVENT
BEGIN:VEVENT
DTSTART;TZID=America/New_York:20231018T100000
DTEND;TZID=America/New_York:20231018T120000
DTSTAMP:20260425T184211
CREATED:20230927T234331Z
LAST-MODIFIED:20230927T234331Z
UID:4669-1697623200-1697630400@godfreymillercenter.org
SUMMARY:Pinochle
DESCRIPTION:
URL:https://godfreymillercenter.org/event/pinochle-73/
LOCATION:Parlor or Dining Room
END:VEVENT
BEGIN:VEVENT
DTSTART;TZID=America/New_York:20231018T103000
DTEND;TZID=America/New_York:20231018T113000
DTSTAMP:20260425T184211
CREATED:20230927T234331Z
LAST-MODIFIED:20230927T234331Z
UID:4668-1697625000-1697628600@godfreymillercenter.org
SUMMARY:Workshop: Thankful Fall Cards
DESCRIPTION:Join Lorraine for a Thankful Fall card workshop!  This workshop will guide you through making custom thank you cards for any occasion.  (Suggested Donation: $3) \n***RSVP required\, call The Godfrey Miller Center office at 540-667-5869 to reserve your spot.
URL:https://godfreymillercenter.org/event/workshop-thankful-fall-cards/
END:VEVENT
BEGIN:VEVENT
DTSTART;TZID=America/New_York:20231018T123000
DTEND;TZID=America/New_York:20231018T133000
DTSTAMP:20260425T184211
CREATED:20230927T234332Z
LAST-MODIFIED:20230927T234526Z
UID:4670-1697632200-1697635800@godfreymillercenter.org
SUMMARY:Lunch
DESCRIPTION:***RSVP Required by the preceding Monday.  Tickets are $8.50 and available in the Godfrey Miller Center office.\n*	October 4: Pumpkin Tomato Soup\, Grilled Ham & Cheese\, and Dessert\n*	October 11: Lemon & Thyme Chicken\, Roasted Potatoes with Feta\, Creamed Spinach\, and Dessert\n*	October 18: Beef Stroganoff over Noodles\, Green Beans\, and Dessert\n*	October 25: Creamy Chicken & Gnocchi\, Garlic Butter Spinach\, Bread\, and Dessert
URL:https://godfreymillercenter.org/event/4670/
LOCATION:Pavilion
END:VEVENT
BEGIN:VEVENT
DTSTART;TZID=America/New_York:20231018T140000
DTEND;TZID=America/New_York:20231018T150000
DTSTAMP:20260425T184211
CREATED:20230927T234332Z
LAST-MODIFIED:20230927T234332Z
UID:4671-1697637600-1697641200@godfreymillercenter.org
SUMMARY:Exercise for Balance and Strength
DESCRIPTION:A low-impact program that includes joint check/warm-up\, range of motion/stretching\, strengthening\, cardiovascular endurance\, and joint check/cool down. Led by Sonna Russell. Ms. Russell is a gifted coach and was trained through the Arthritis Foundation. (Suggested donation – $3.00)
URL:https://godfreymillercenter.org/event/exercise-for-balance-and-strength-168/
LOCATION:Pavilion
END:VEVENT
BEGIN:VEVENT
DTSTART;TZID=America/New_York:20231018T140000
DTEND;TZID=America/New_York:20231018T160000
DTSTAMP:20260425T184211
CREATED:20230927T234332Z
LAST-MODIFIED:20230927T234332Z
UID:4672-1697637600-1697644800@godfreymillercenter.org
SUMMARY:Bridge Class: Standard American Bidding System
DESCRIPTION:Bridge Class: Standard American Bidding System – Wednesdays\, September 6\, 13\, 20\, & 27\, 2:00-4:00 PM ***RSVP to Milan at 434-406-3387 \nMilan Majarov\, an American Contract Bridge League certified teacher\, will be offering a beginner bridge course on the standard American bidding system.  Each class is two hours long\, and the course will run for 10 weeks and each class is $15.  Please RSVP directly to Milan at 434-406-3387.
URL:https://godfreymillercenter.org/event/bridge-class-standard-american-bidding-system-6/
END:VEVENT
BEGIN:VEVENT
DTSTART;TZID=America/New_York:20231019T100000
DTEND;TZID=America/New_York:20231019T120000
DTSTAMP:20260425T184211
CREATED:20230927T234332Z
LAST-MODIFIED:20230927T234332Z
UID:4673-1697709600-1697716800@godfreymillercenter.org
SUMMARY:Mahjong
DESCRIPTION:
URL:https://godfreymillercenter.org/event/mahjong-78/
LOCATION:Parlor
END:VEVENT
BEGIN:VEVENT
DTSTART;TZID=America/New_York:20231019T140000
DTEND;TZID=America/New_York:20231019T150000
DTSTAMP:20260425T184211
CREATED:20230927T234332Z
LAST-MODIFIED:20230927T234332Z
UID:4674-1697724000-1697727600@godfreymillercenter.org
SUMMARY:Strength and Conditioning Class
DESCRIPTION:This class is designed to increase physical strength through resistance exercise. All major muscle groups are worked from head to toe. We finish with core conditioning\, breathing\, and stretching for a complete workout. Dumbbells are used for each class\, you can bring your own or use ours! Led by Program Coordinator Anna.
URL:https://godfreymillercenter.org/event/strength-and-conditioning-class-98/
LOCATION:Pavilion
END:VEVENT
BEGIN:VEVENT
DTSTART;TZID=America/New_York:20231020T150000
DTEND;TZID=America/New_York:20231020T160000
DTSTAMP:20260425T184211
CREATED:20230927T234332Z
LAST-MODIFIED:20230927T234332Z
UID:4675-1697814000-1697817600@godfreymillercenter.org
SUMMARY:5th Anniversary of the Shenandoah Valley Tapestry Unveiling
DESCRIPTION:The tapestry recreates in needle and thread the well-known painting by Page Huff Dillon. It shows 34 historic buildings of Winchester and Frederick County\, tells stories from the book Defend the Valley by Margareta Barton Colt. This amazing community embroidery was stitched in 2014-2018 by 81 core stitchers including 6 children. 1400 people took a stitch.  Please join us for an afternoon of tapestry history\, stitchers’ stories\, quizzes\, quests\, prizes for the winners\, and our traditional tea and cake celebration.
URL:https://godfreymillercenter.org/event/5th-anniversary-of-the-shenandoah-valley-tapestry-unveiling/
END:VEVENT
BEGIN:VEVENT
DTSTART;TZID=America/New_York:20231023T080000
DTEND;TZID=America/New_York:20231023T083000
DTSTAMP:20260425T184211
CREATED:20230927T234333Z
LAST-MODIFIED:20230927T234333Z
UID:4676-1698048000-1698049800@godfreymillercenter.org
SUMMARY:Walking Club
DESCRIPTION:Meet in the courtyard of Godfrey Miller Center to walk and socialize around downtown Winchester.
URL:https://godfreymillercenter.org/event/walking-club-52/
END:VEVENT
BEGIN:VEVENT
DTSTART;TZID=America/New_York:20231023T100000
DTEND;TZID=America/New_York:20231023T120000
DTSTAMP:20260425T184211
CREATED:20230927T234333Z
LAST-MODIFIED:20230927T234333Z
UID:4678-1698055200-1698062400@godfreymillercenter.org
SUMMARY:Jigsaw Puzzles
DESCRIPTION:Escape the heat with and enjoy the air conditioning while working on a jigsaw puzzle with others.  Fresh coffee provided!
URL:https://godfreymillercenter.org/event/jigsaw-puzzles-16/
END:VEVENT
BEGIN:VEVENT
DTSTART;TZID=America/New_York:20231023T100000
DTEND;TZID=America/New_York:20231023T120000
DTSTAMP:20260425T184211
CREATED:20230927T234333Z
LAST-MODIFIED:20230927T234333Z
UID:4679-1698055200-1698062400@godfreymillercenter.org
SUMMARY:Art Studio
DESCRIPTION:Art Studio is an open time for individuals to gather and work on their various art projects.  This is a social opportunity for artists of all levels to help each other and work independently. Recurs on every Monday of the month.
URL:https://godfreymillercenter.org/event/art-studio-79/
LOCATION:Pavilion
END:VEVENT
BEGIN:VEVENT
DTSTART;TZID=America/New_York:20231023T110000
DTEND;TZID=America/New_York:20231023T120000
DTSTAMP:20260425T184211
CREATED:20230927T234333Z
LAST-MODIFIED:20230927T234333Z
UID:4677-1698058800-1698062400@godfreymillercenter.org
SUMMARY:Mahjong Lessons
DESCRIPTION:Mahjong Lessons \nCome learn the game of Mahjong!  These lessons are open to all skill levels from beginner to long time players.  \n***RSVP required\, call The Godfrey Miller Center office at 540-667-5869 to reserve your spot.
URL:https://godfreymillercenter.org/event/mahjong-lessons-2/
END:VEVENT
BEGIN:VEVENT
DTSTART;TZID=America/New_York:20231023T123000
DTEND;TZID=America/New_York:20231023T133000
DTSTAMP:20260425T184211
CREATED:20230927T234333Z
LAST-MODIFIED:20230927T234502Z
UID:4680-1698064200-1698067800@godfreymillercenter.org
SUMMARY:Lunch
DESCRIPTION:***RSVP Required by the preceding Thursday. Tickets are $8.50 and available in the Godfrey Miller Center office.\n* October 2: Maple Mustard Chicken\, Steamed Carrots\, Potatoes\, and Dessert\n* October 9: Shepherd’s Pie\, Green Beans\, Bread\, and Dessert\n* October 16: Baked Marsala Chicken\, Roasted Sweet Potatoes and Onions\, Peas\, and Dessert\n* October 23: Butternut Squash Soup\, Fall Salad\, Bread\, and Dessert\n* October 30: Roast Beef\, Mashed Potatoes\, Broccoli and Cauliflower\, and Dessert
URL:https://godfreymillercenter.org/event/4680/
LOCATION:Pavilion
END:VEVENT
BEGIN:VEVENT
DTSTART;TZID=America/New_York:20231023T140000
DTEND;TZID=America/New_York:20231023T150000
DTSTAMP:20260425T184211
CREATED:20230927T234333Z
LAST-MODIFIED:20230927T234333Z
UID:4681-1698069600-1698073200@godfreymillercenter.org
SUMMARY:Exercise for Balance and Strength
DESCRIPTION:A low-impact program that includes joint check/warm-up\, range of motion/stretching\, strengthening\, cardiovascular endurance\, and joint check/cool down. Led by Sonna Russell. Ms. Russell is a gifted coach and was trained through the Arthritis Foundation. (Suggested donation – $3.00)
URL:https://godfreymillercenter.org/event/exercise-for-balance-and-strength-169/
LOCATION:Pavilion
END:VEVENT
BEGIN:VEVENT
DTSTART;TZID=America/New_York:20231024T100000
DTEND;TZID=America/New_York:20231024T120000
DTSTAMP:20260425T184211
CREATED:20230927T234333Z
LAST-MODIFIED:20230927T234333Z
UID:4682-1698141600-1698148800@godfreymillercenter.org
SUMMARY:Art Class: Acrylic & Watercolor Painting
DESCRIPTION:In this course\, students will develop painting skills\, techniques\, and aesthetic sensibilities related to artistic expression in acrylic and/or watercolor mediums. Each week will focus on a different subject\, emphasizing color and composition\, and enabling students to expand and better define their unique style and technique. Taught by master artist Kate Williams. (Suggested donation: $15 per class) \n***RSVP required\, call The Godfrey Miller Center office at 540-667-5869 to reserve your spot.
URL:https://godfreymillercenter.org/event/art-class-acrylic-watercolor-painting-22/
END:VEVENT
BEGIN:VEVENT
DTSTART;TZID=America/New_York:20231024T100000
DTEND;TZID=America/New_York:20231024T120000
DTSTAMP:20260425T184211
CREATED:20230927T234334Z
LAST-MODIFIED:20230927T234334Z
UID:4683-1698141600-1698148800@godfreymillercenter.org
SUMMARY:Canasta
DESCRIPTION:
URL:https://godfreymillercenter.org/event/canasta-84/
LOCATION:Parlor
END:VEVENT
BEGIN:VEVENT
DTSTART;TZID=America/New_York:20231024T130000
DTEND;TZID=America/New_York:20231024T150000
DTSTAMP:20260425T184211
CREATED:20230927T234334Z
LAST-MODIFIED:20230927T234334Z
UID:4685-1698152400-1698159600@godfreymillercenter.org
SUMMARY:Art Class: Drawing
DESCRIPTION:In this course\, students will improve drawing skills through using a combination of mediums such as graphite\, charcoal\, and pen and ink.  Students will have their choice of mediums to help define their styles. Taught by master artist Kate Williams. (Suggested donation: $15 per class) \n***RSVP required\, call The Godfrey Miller Center office at 540-667-5869 to reserve your spot.
URL:https://godfreymillercenter.org/event/art-class-drawing-22/
END:VEVENT
BEGIN:VEVENT
DTSTART;TZID=America/New_York:20231024T140000
DTEND;TZID=America/New_York:20231024T150000
DTSTAMP:20260425T184211
CREATED:20230927T234334Z
LAST-MODIFIED:20230927T234334Z
UID:4684-1698156000-1698159600@godfreymillercenter.org
SUMMARY:Strength and Conditioning Class
DESCRIPTION:This class is designed to increase physical strength through resistance exercise. All major muscle groups are worked from head to toe. We finish with core conditioning\, breathing\, and stretching for a complete workout. Dumbbells are used for each class\, you can bring your own or use ours! Led by Program Coordinator Anna.
URL:https://godfreymillercenter.org/event/strength-and-conditioning-class-99/
LOCATION:Pavilion
END:VEVENT
BEGIN:VEVENT
DTSTART;TZID=America/New_York:20231025T100000
DTEND;TZID=America/New_York:20231025T120000
DTSTAMP:20260425T184211
CREATED:20230927T234334Z
LAST-MODIFIED:20230927T234334Z
UID:4686-1698228000-1698235200@godfreymillercenter.org
SUMMARY:Pinochle
DESCRIPTION:
URL:https://godfreymillercenter.org/event/pinochle-74/
LOCATION:Parlor or Dining Room
END:VEVENT
BEGIN:VEVENT
DTSTART;TZID=America/New_York:20231025T123000
DTEND;TZID=America/New_York:20231025T133000
DTSTAMP:20260425T184211
CREATED:20230927T234334Z
LAST-MODIFIED:20230927T234450Z
UID:4687-1698237000-1698240600@godfreymillercenter.org
SUMMARY:Lunch
DESCRIPTION:***RSVP Required by the preceding Monday. Tickets are $8.50 and available in the Godfrey Miller Center office.\n* October 4: Pumpkin Tomato Soup\, Grilled Ham & Cheese\, and Dessert\n* October 11: Lemon & Thyme Chicken\, Roasted Potatoes with Feta\, Creamed Spinach\, and Dessert\n* October 18: Beef Stroganoff over Noodles\, Green Beans\, and Dessert\n* October 25: Creamy Chicken & Gnocchi\, Garlic Butter Spinach\, Bread\, and Dessert
URL:https://godfreymillercenter.org/event/4687/
LOCATION:Pavilion
END:VEVENT
BEGIN:VEVENT
DTSTART;TZID=America/New_York:20231025T140000
DTEND;TZID=America/New_York:20231025T150000
DTSTAMP:20260425T184211
CREATED:20230927T234334Z
LAST-MODIFIED:20230927T234334Z
UID:4689-1698242400-1698246000@godfreymillercenter.org
SUMMARY:Exercise for Balance and Strength
DESCRIPTION:A low-impact program that includes joint check/warm-up\, range of motion/stretching\, strengthening\, cardiovascular endurance\, and joint check/cool down. Led by Sonna Russell. Ms. Russell is a gifted coach and was trained through the Arthritis Foundation. (Suggested donation – $3.00)
URL:https://godfreymillercenter.org/event/exercise-for-balance-and-strength-170/
LOCATION:Pavilion
END:VEVENT
END:VCALENDAR