BEGIN:VCALENDAR
VERSION:2.0
PRODID:-//Godfrey Miller Center - ECPv6.15.20//NONSGML v1.0//EN
CALSCALE:GREGORIAN
METHOD:PUBLISH
X-WR-CALNAME:Godfrey Miller Center
X-ORIGINAL-URL:https://godfreymillercenter.org
X-WR-CALDESC:Events for Godfrey Miller Center
REFRESH-INTERVAL;VALUE=DURATION:PT1H
X-Robots-Tag:noindex
X-PUBLISHED-TTL:PT1H
BEGIN:VTIMEZONE
TZID:America/New_York
BEGIN:DAYLIGHT
TZOFFSETFROM:-0500
TZOFFSETTO:-0400
TZNAME:EDT
DTSTART:20230312T070000
END:DAYLIGHT
BEGIN:STANDARD
TZOFFSETFROM:-0400
TZOFFSETTO:-0500
TZNAME:EST
DTSTART:20231105T060000
END:STANDARD
BEGIN:DAYLIGHT
TZOFFSETFROM:-0500
TZOFFSETTO:-0400
TZNAME:EDT
DTSTART:20240310T070000
END:DAYLIGHT
BEGIN:STANDARD
TZOFFSETFROM:-0400
TZOFFSETTO:-0500
TZNAME:EST
DTSTART:20241103T060000
END:STANDARD
BEGIN:DAYLIGHT
TZOFFSETFROM:-0500
TZOFFSETTO:-0400
TZNAME:EDT
DTSTART:20250309T070000
END:DAYLIGHT
BEGIN:STANDARD
TZOFFSETFROM:-0400
TZOFFSETTO:-0500
TZNAME:EST
DTSTART:20251102T060000
END:STANDARD
END:VTIMEZONE
BEGIN:VEVENT
DTSTART;TZID=America/New_York:20240411T123000
DTEND;TZID=America/New_York:20240411T133000
DTSTAMP:20260425T103039
CREATED:20240325T184309Z
LAST-MODIFIED:20240325T184309Z
UID:5111-1712838600-1712842200@godfreymillercenter.org
SUMMARY:Lunch
DESCRIPTION:***RSVP required\, call The Godfrey Miller Center office at 540-667-5869 to reserve your spot.\nTickets: $9.00
URL:https://godfreymillercenter.org/event/lunch-31/
LOCATION:Pavilion
END:VEVENT
BEGIN:VEVENT
DTSTART;TZID=America/New_York:20240411T140000
DTEND;TZID=America/New_York:20240411T150000
DTSTAMP:20260425T103039
CREATED:20240325T184309Z
LAST-MODIFIED:20240325T184309Z
UID:5112-1712844000-1712847600@godfreymillercenter.org
SUMMARY:Strength & Conditioning
DESCRIPTION:This class is designed to increase physical strength through resistance exercise. All major muscle groups are worked from head to toe. We finish with core conditioning\, breathing\, and stretching for a complete workout. Dumbbells are used for each class\, you can bring your own or use ours! Led by Program Coordinator Anna.
URL:https://godfreymillercenter.org/event/strength-conditioning-22/
LOCATION:Pavilion
END:VEVENT
BEGIN:VEVENT
DTSTART;TZID=America/New_York:20240411T140000
DTEND;TZID=America/New_York:20240411T160000
DTSTAMP:20260425T103039
CREATED:20240325T184309Z
LAST-MODIFIED:20240325T184309Z
UID:5113-1712844000-1712851200@godfreymillercenter.org
SUMMARY:Bridge Class: Standard American Bidding System
DESCRIPTION:***RSVP to Milan at 434-406-3387 \nMilan Majarov\, an American Contract Bridge League certified teacher\, will be offering a beginner bridge course on the standard American bidding system.  The class will last for 10 consecutive weeks and each class is two hours long and is $15.  Please RSVP directly to Milan at 434-406-3387.
URL:https://godfreymillercenter.org/event/bridge-class-standard-american-bidding-system-14/
LOCATION:Parlor
END:VEVENT
BEGIN:VEVENT
DTSTART;TZID=America/New_York:20240415T090000
DTEND;TZID=America/New_York:20240415T100000
DTSTAMP:20260425T103039
CREATED:20240325T184310Z
LAST-MODIFIED:20240325T184310Z
UID:5116-1713171600-1713175200@godfreymillercenter.org
SUMMARY:Walking Club
DESCRIPTION:
URL:https://godfreymillercenter.org/event/walking-club-68/
LOCATION:Courtyard
END:VEVENT
BEGIN:VEVENT
DTSTART;TZID=America/New_York:20240415T100000
DTEND;TZID=America/New_York:20240415T110000
DTSTAMP:20260425T103039
CREATED:20240325T184310Z
LAST-MODIFIED:20240325T184310Z
UID:5115-1713175200-1713178800@godfreymillercenter.org
SUMMARY:Jigsaw Puzzles
DESCRIPTION:
URL:https://godfreymillercenter.org/event/jigsaw-puzzles-32/
LOCATION:Front Sitting Room/Puzzle Room
END:VEVENT
BEGIN:VEVENT
DTSTART;TZID=America/New_York:20240415T100000
DTEND;TZID=America/New_York:20240415T120000
DTSTAMP:20260425T103039
CREATED:20240325T184310Z
LAST-MODIFIED:20240325T184310Z
UID:5114-1713175200-1713182400@godfreymillercenter.org
SUMMARY:Art Studio
DESCRIPTION:Art Studio is an open time for individuals to gather and work on their various art projects.  This is a social opportunity for artists of all levels to help each other and work independently. Recurs on every Monday of the month.
URL:https://godfreymillercenter.org/event/art-studio-95/
LOCATION:Pavilion
END:VEVENT
BEGIN:VEVENT
DTSTART;TZID=America/New_York:20240415T123000
DTEND;TZID=America/New_York:20240415T133000
DTSTAMP:20260425T103039
CREATED:20240325T184310Z
LAST-MODIFIED:20240325T184310Z
UID:5117-1713184200-1713187800@godfreymillercenter.org
SUMMARY:Lunch
DESCRIPTION:***RSVP required\, call The Godfrey Miller Center office at 540-667-5869 to reserve your spot.\nTickets: $9.00
URL:https://godfreymillercenter.org/event/lunch-32/
LOCATION:Pavilion
END:VEVENT
BEGIN:VEVENT
DTSTART;TZID=America/New_York:20240415T140000
DTEND;TZID=America/New_York:20240415T150000
DTSTAMP:20260425T103039
CREATED:20240325T184311Z
LAST-MODIFIED:20240325T184311Z
UID:5118-1713189600-1713193200@godfreymillercenter.org
SUMMARY:Exercise for Balance & Strength
DESCRIPTION:A low-impact program that includes joint check/warm-up\, range of motion/stretching\, strengthening\, cardiovascular endurance\, and joint check/cool down. Led by Sonna Russell. Ms. Russell is a gifted coach and was trained through the Arthritis Foundation. (Suggested donation – $3.00)
URL:https://godfreymillercenter.org/event/exercise-for-balance-strength-24/
LOCATION:Pavilion
END:VEVENT
BEGIN:VEVENT
DTSTART;TZID=America/New_York:20240416T100000
DTEND;TZID=America/New_York:20240416T120000
DTSTAMP:20260425T103039
CREATED:20240325T184311Z
LAST-MODIFIED:20240325T184311Z
UID:5119-1713261600-1713268800@godfreymillercenter.org
SUMMARY:Art Class: Acrylic & Watercolor Painting
DESCRIPTION:***RSVP required\, call The Godfrey Miller Center office at 540-667-5869 to reserve your spot.   \nIn this course\, students will develop painting skills\, techniques\, and aesthetic sensibilities related to artistic expression in acrylic and/or watercolor mediums. Each week will focus on a different subject\, emphasizing color and composition\, and enabling students to expand and better define their unique style and technique. Taught by master artist Kate Williams. (Suggested donation: $15 per class)
URL:https://godfreymillercenter.org/event/art-class-acrylic-watercolor-painting-38/
LOCATION:Pavilion
END:VEVENT
BEGIN:VEVENT
DTSTART;TZID=America/New_York:20240416T100000
DTEND;TZID=America/New_York:20240416T120000
DTSTAMP:20260425T103039
CREATED:20240325T184311Z
LAST-MODIFIED:20240325T184311Z
UID:5120-1713261600-1713268800@godfreymillercenter.org
SUMMARY:Canasta
DESCRIPTION:All are welcome to come and play Canasta!
URL:https://godfreymillercenter.org/event/canasta-102/
LOCATION:Parlor
END:VEVENT
BEGIN:VEVENT
DTSTART;TZID=America/New_York:20240416T130000
DTEND;TZID=America/New_York:20240416T150000
DTSTAMP:20260425T103039
CREATED:20240325T184311Z
LAST-MODIFIED:20240325T184311Z
UID:5122-1713272400-1713279600@godfreymillercenter.org
SUMMARY:Art Class: Drawing
DESCRIPTION:***RSVP required\, call The Godfrey Miller Center office at 540-667-5869 to reserve your spot.   \nIn this course\, students will improve drawing skills through using a combination of mediums such as graphite\, charcoal\, pen\, and ink.  Students will have their choice of mediums to help define their styles. Taught by master artist Kate Williams. (Suggested donation: $15 per class)
URL:https://godfreymillercenter.org/event/art-class-drawing-38/
LOCATION:Parlor
END:VEVENT
BEGIN:VEVENT
DTSTART;TZID=America/New_York:20240416T140000
DTEND;TZID=America/New_York:20240416T150000
DTSTAMP:20260425T103039
CREATED:20240325T184311Z
LAST-MODIFIED:20240325T184311Z
UID:5121-1713276000-1713279600@godfreymillercenter.org
SUMMARY:Strength & Conditioning
DESCRIPTION:This class is designed to increase physical strength through resistance exercise. All major muscle groups are worked from head to toe. We finish with core conditioning\, breathing\, and stretching for a complete workout. Dumbbells are used for each class\, you can bring your own or use ours! Led by Program Coordinator Anna.
URL:https://godfreymillercenter.org/event/strength-conditioning-23/
LOCATION:Pavilion
END:VEVENT
BEGIN:VEVENT
DTSTART;TZID=America/New_York:20240417T103000
DTEND;TZID=America/New_York:20240417T113000
DTSTAMP:20260425T103039
CREATED:20240325T184311Z
LAST-MODIFIED:20240325T184311Z
UID:5123-1713349800-1713353400@godfreymillercenter.org
SUMMARY:Workshop: All Occasion Calendar Notecards
DESCRIPTION:***RSVP required\, call The Godfrey Miller Center office at 540-667-5869 to reserve your spot.   \nJoin master paper crafter Lorraine for a workshop repurposing calendars!  This workshop will guide you through making custom notecards for all occasions.  All supplies provided.  (Suggested Donation: $3)
URL:https://godfreymillercenter.org/event/workshop-all-occasion-calendar-notecards/
LOCATION:Parlor
END:VEVENT
BEGIN:VEVENT
DTSTART;TZID=America/New_York:20240417T123000
DTEND;TZID=America/New_York:20240417T133000
DTSTAMP:20260425T103039
CREATED:20240325T184312Z
LAST-MODIFIED:20240325T184312Z
UID:5124-1713357000-1713360600@godfreymillercenter.org
SUMMARY:Lunch
DESCRIPTION:***RSVP required\, call The Godfrey Miller Center office at 540-667-5869 to reserve your spot.\nTickets: $9.00
URL:https://godfreymillercenter.org/event/lunch-33/
LOCATION:Pavilion
END:VEVENT
BEGIN:VEVENT
DTSTART;TZID=America/New_York:20240417T140000
DTEND;TZID=America/New_York:20240417T150000
DTSTAMP:20260425T103039
CREATED:20240325T184312Z
LAST-MODIFIED:20240325T184312Z
UID:5125-1713362400-1713366000@godfreymillercenter.org
SUMMARY:Exercise for Balance & Strength
DESCRIPTION:A low-impact program that includes joint check/warm-up\, range of motion/stretching\, strengthening\, cardiovascular endurance\, and joint check/cool down. Led by Sonna Russell. Ms. Russell is a gifted coach and was trained through the Arthritis Foundation. (Suggested donation – $3.00)
URL:https://godfreymillercenter.org/event/exercise-for-balance-strength-25/
LOCATION:Pavilion
END:VEVENT
BEGIN:VEVENT
DTSTART;TZID=America/New_York:20240418T100000
DTEND;TZID=America/New_York:20240418T120000
DTSTAMP:20260425T103039
CREATED:20240325T184312Z
LAST-MODIFIED:20240325T184312Z
UID:5126-1713434400-1713441600@godfreymillercenter.org
SUMMARY:Mahjong
DESCRIPTION:All are welcome to come and play Mahjong!
URL:https://godfreymillercenter.org/event/mahjong-96/
LOCATION:Parlor
END:VEVENT
BEGIN:VEVENT
DTSTART;TZID=America/New_York:20240418T123000
DTEND;TZID=America/New_York:20240418T133000
DTSTAMP:20260425T103039
CREATED:20240325T184312Z
LAST-MODIFIED:20240325T184312Z
UID:5127-1713443400-1713447000@godfreymillercenter.org
SUMMARY:Lunch
DESCRIPTION:***RSVP required\, call The Godfrey Miller Center office at 540-667-5869 to reserve your spot.\nTickets: $9.00
URL:https://godfreymillercenter.org/event/lunch-34/
LOCATION:Pavilion
END:VEVENT
BEGIN:VEVENT
DTSTART;TZID=America/New_York:20240418T140000
DTEND;TZID=America/New_York:20240418T150000
DTSTAMP:20260425T103039
CREATED:20240325T184312Z
LAST-MODIFIED:20240325T184312Z
UID:5128-1713448800-1713452400@godfreymillercenter.org
SUMMARY:Strength & Conditioning
DESCRIPTION:This class is designed to increase physical strength through resistance exercise. All major muscle groups are worked from head to toe. We finish with core conditioning\, breathing\, and stretching for a complete workout. Dumbbells are used for each class\, you can bring your own or use ours! Led by Program Coordinator Anna.
URL:https://godfreymillercenter.org/event/strength-conditioning-24/
LOCATION:Pavilion
END:VEVENT
BEGIN:VEVENT
DTSTART;TZID=America/New_York:20240418T140000
DTEND;TZID=America/New_York:20240418T160000
DTSTAMP:20260425T103039
CREATED:20240325T184312Z
LAST-MODIFIED:20240325T184312Z
UID:5129-1713448800-1713456000@godfreymillercenter.org
SUMMARY:Bridge Class: Standard American Bidding System
DESCRIPTION:***RSVP to Milan at 434-406-3387 \nMilan Majarov\, an American Contract Bridge League certified teacher\, will be offering a beginner bridge course on the standard American bidding system.  The class will last for 10 consecutive weeks and each class is two hours long and is $15.  Please RSVP directly to Milan at 434-406-3387.
URL:https://godfreymillercenter.org/event/bridge-class-standard-american-bidding-system-15/
LOCATION:Parlor
END:VEVENT
BEGIN:VEVENT
DTSTART;TZID=America/New_York:20240421T140000
DTEND;TZID=America/New_York:20240421T160000
DTSTAMP:20260425T103039
CREATED:20240325T184313Z
LAST-MODIFIED:20240325T184313Z
UID:5130-1713708000-1713715200@godfreymillercenter.org
SUMMARY:Sunday Stitch-In
DESCRIPTION:The Winchester Chapter of the Embroiderers’ Guild of America\, in cooperation with Godfrey Miller Center (GMC)\, is hosting “Sunday Stitch-In.” at 2:00 PM. The stitch-ins are for anyone who loves stitching and wants to learn the ins and outs of embroidery. All skill levels are welcome.  For questions contact us at 703-946-0191 or winchesterega@gmail.com  .
URL:https://godfreymillercenter.org/event/sunday-stitch-in-4/
END:VEVENT
BEGIN:VEVENT
DTSTART;TZID=America/New_York:20240422T090000
DTEND;TZID=America/New_York:20240422T100000
DTSTAMP:20260425T103039
CREATED:20240325T184313Z
LAST-MODIFIED:20240325T184313Z
UID:5131-1713776400-1713780000@godfreymillercenter.org
SUMMARY:Walking Club
DESCRIPTION:
URL:https://godfreymillercenter.org/event/walking-club-69/
LOCATION:Courtyard
END:VEVENT
BEGIN:VEVENT
DTSTART;TZID=America/New_York:20240422T100000
DTEND;TZID=America/New_York:20240422T110000
DTSTAMP:20260425T103039
CREATED:20240325T184313Z
LAST-MODIFIED:20240325T184313Z
UID:5133-1713780000-1713783600@godfreymillercenter.org
SUMMARY:Jigsaw Puzzles
DESCRIPTION:
URL:https://godfreymillercenter.org/event/jigsaw-puzzles-33/
LOCATION:Front Sitting Room/Puzzle Room
END:VEVENT
BEGIN:VEVENT
DTSTART;TZID=America/New_York:20240422T100000
DTEND;TZID=America/New_York:20240422T120000
DTSTAMP:20260425T103039
CREATED:20240325T184313Z
LAST-MODIFIED:20240325T184313Z
UID:5134-1713780000-1713787200@godfreymillercenter.org
SUMMARY:Art Studio
DESCRIPTION:Art Studio is an open time for individuals to gather and work on their various art projects.  This is a social opportunity for artists of all levels to help each other and work independently. Recurs on every Monday of the month.
URL:https://godfreymillercenter.org/event/art-studio-96/
LOCATION:Pavilion
END:VEVENT
BEGIN:VEVENT
DTSTART;TZID=America/New_York:20240422T103000
DTEND;TZID=America/New_York:20240422T113000
DTSTAMP:20260425T103039
CREATED:20240325T184313Z
LAST-MODIFIED:20240325T184313Z
UID:5132-1713781800-1713785400@godfreymillercenter.org
SUMMARY:iPhone Help Session
DESCRIPTION:Join Program Coordinator Anna for help with your smart phone.  Bring your device\, account passwords\, and any questions!
URL:https://godfreymillercenter.org/event/iphone-help-session-6/
LOCATION:Parlor
END:VEVENT
BEGIN:VEVENT
DTSTART;TZID=America/New_York:20240422T123000
DTEND;TZID=America/New_York:20240422T133000
DTSTAMP:20260425T103039
CREATED:20240325T184313Z
LAST-MODIFIED:20240325T184313Z
UID:5135-1713789000-1713792600@godfreymillercenter.org
SUMMARY:Lunch
DESCRIPTION:***RSVP required\, call The Godfrey Miller Center office at 540-667-5869 to reserve your spot.\nTickets: $9.00
URL:https://godfreymillercenter.org/event/lunch-35/
LOCATION:Pavilion
END:VEVENT
BEGIN:VEVENT
DTSTART;TZID=America/New_York:20240422T140000
DTEND;TZID=America/New_York:20240422T150000
DTSTAMP:20260425T103039
CREATED:20240325T184313Z
LAST-MODIFIED:20240325T184313Z
UID:5136-1713794400-1713798000@godfreymillercenter.org
SUMMARY:Exercise for Balance & Strength
DESCRIPTION:A low-impact program that includes joint check/warm-up\, range of motion/stretching\, strengthening\, cardiovascular endurance\, and joint check/cool down. Led by Sonna Russell. Ms. Russell is a gifted coach and was trained through the Arthritis Foundation. (Suggested donation – $3.00)
URL:https://godfreymillercenter.org/event/exercise-for-balance-strength-26/
LOCATION:Pavilion
END:VEVENT
BEGIN:VEVENT
DTSTART;TZID=America/New_York:20240423T100000
DTEND;TZID=America/New_York:20240423T120000
DTSTAMP:20260425T103039
CREATED:20240325T184314Z
LAST-MODIFIED:20240325T184314Z
UID:5138-1713866400-1713873600@godfreymillercenter.org
SUMMARY:Canasta
DESCRIPTION:All are welcome to come and play Canasta!
URL:https://godfreymillercenter.org/event/canasta-103/
LOCATION:Parlor
END:VEVENT
BEGIN:VEVENT
DTSTART;TZID=America/New_York:20240423T100000
DTEND;TZID=America/New_York:20240423T120000
DTSTAMP:20260425T103039
CREATED:20240325T184314Z
LAST-MODIFIED:20240325T184314Z
UID:5137-1713866400-1713873600@godfreymillercenter.org
SUMMARY:Art Class: Acrylic & Watercolor Painting
DESCRIPTION:***RSVP required\, call The Godfrey Miller Center office at 540-667-5869 to reserve your spot.   \nIn this course\, students will develop painting skills\, techniques\, and aesthetic sensibilities related to artistic expression in acrylic and/or watercolor mediums. Each week will focus on a different subject\, emphasizing color and composition\, and enabling students to expand and better define their unique style and technique. Taught by master artist Kate Williams. (Suggested donation: $15 per class)
URL:https://godfreymillercenter.org/event/art-class-acrylic-watercolor-painting-39/
LOCATION:Pavilion
END:VEVENT
BEGIN:VEVENT
DTSTART;TZID=America/New_York:20240423T103000
DTEND;TZID=America/New_York:20240423T113000
DTSTAMP:20260425T103039
CREATED:20240325T184314Z
LAST-MODIFIED:20240325T184314Z
UID:5139-1713868200-1713871800@godfreymillercenter.org
SUMMARY:Bible Study
DESCRIPTION:Join Rev. Martha Miller Sims for a Bible study.  All are welcome!
URL:https://godfreymillercenter.org/event/bible-study-10/
LOCATION:Dining Room
END:VEVENT
BEGIN:VEVENT
DTSTART;TZID=America/New_York:20240423T130000
DTEND;TZID=America/New_York:20240423T150000
DTSTAMP:20260425T103039
CREATED:20240325T184314Z
LAST-MODIFIED:20240325T184314Z
UID:5140-1713877200-1713884400@godfreymillercenter.org
SUMMARY:Art Class: Drawing
DESCRIPTION:***RSVP required\, call The Godfrey Miller Center office at 540-667-5869 to reserve your spot.   \nIn this course\, students will improve drawing skills through using a combination of mediums such as graphite\, charcoal\, pen\, and ink.  Students will have their choice of mediums to help define their styles. Taught by master artist Kate Williams. (Suggested donation: $15 per class)
URL:https://godfreymillercenter.org/event/art-class-drawing-39/
LOCATION:Parlor
END:VEVENT
END:VCALENDAR