BEGIN:VCALENDAR
VERSION:2.0
PRODID:-//Godfrey Miller Center - ECPv6.15.20//NONSGML v1.0//EN
CALSCALE:GREGORIAN
METHOD:PUBLISH
X-WR-CALNAME:Godfrey Miller Center
X-ORIGINAL-URL:https://godfreymillercenter.org
X-WR-CALDESC:Events for Godfrey Miller Center
REFRESH-INTERVAL;VALUE=DURATION:PT1H
X-Robots-Tag:noindex
X-PUBLISHED-TTL:PT1H
BEGIN:VTIMEZONE
TZID:America/New_York
BEGIN:DAYLIGHT
TZOFFSETFROM:-0500
TZOFFSETTO:-0400
TZNAME:EDT
DTSTART:20230312T070000
END:DAYLIGHT
BEGIN:STANDARD
TZOFFSETFROM:-0400
TZOFFSETTO:-0500
TZNAME:EST
DTSTART:20231105T060000
END:STANDARD
BEGIN:DAYLIGHT
TZOFFSETFROM:-0500
TZOFFSETTO:-0400
TZNAME:EDT
DTSTART:20240310T070000
END:DAYLIGHT
BEGIN:STANDARD
TZOFFSETFROM:-0400
TZOFFSETTO:-0500
TZNAME:EST
DTSTART:20241103T060000
END:STANDARD
BEGIN:DAYLIGHT
TZOFFSETFROM:-0500
TZOFFSETTO:-0400
TZNAME:EDT
DTSTART:20250309T070000
END:DAYLIGHT
BEGIN:STANDARD
TZOFFSETFROM:-0400
TZOFFSETTO:-0500
TZNAME:EST
DTSTART:20251102T060000
END:STANDARD
END:VTIMEZONE
BEGIN:VEVENT
DTSTART;TZID=America/New_York:20241218T103000
DTEND;TZID=America/New_York:20241218T113000
DTSTAMP:20260425T101149
CREATED:20241120T185212Z
LAST-MODIFIED:20241120T185212Z
UID:5654-1734517800-1734521400@godfreymillercenter.org
SUMMARY:Workshop: Christmas Cards
DESCRIPTION:Join Lorraine for a Christmas craft workshop!  This workshop will guide you through making custom Christmas gift tags\, treat boxes\, ornaments\, and more.  (Suggested Donation: $6) \n***RSVP required\, call The Godfrey Miller Center office at 540-667-5869 to reserve your spot.
URL:https://godfreymillercenter.org/event/workshop-christmas-cards-2/
LOCATION:Parlor
END:VEVENT
BEGIN:VEVENT
DTSTART;TZID=America/New_York:20241217T140000
DTEND;TZID=America/New_York:20241217T150000
DTSTAMP:20260425T101149
CREATED:20241120T185212Z
LAST-MODIFIED:20241120T185212Z
UID:5652-1734444000-1734447600@godfreymillercenter.org
SUMMARY:Strength & Conditioning
DESCRIPTION:This class is designed to increase physical strength through resistance exercise. All major muscle groups are worked from head to toe. We finish with core conditioning\, breathing\, and stretching for a complete workout. Dumbbells are used for each class\, you can bring your own or use ours! Led by Program Coordinator Anna.
URL:https://godfreymillercenter.org/event/strength-conditioning-69/
LOCATION:Pavilion
END:VEVENT
BEGIN:VEVENT
DTSTART;TZID=America/New_York:20241217T130000
DTEND;TZID=America/New_York:20241217T150000
DTSTAMP:20260425T101149
CREATED:20241120T185212Z
LAST-MODIFIED:20241120T185212Z
UID:5651-1734440400-1734447600@godfreymillercenter.org
SUMMARY:Art Class: Drawing
DESCRIPTION:***RSVP required\, call The Godfrey Miller Center office at 540-667-5869 to reserve your spot.   \nIn this course\, students will improve drawing skills through using a combination of mediums such as graphite\, charcoal\, pen\, and ink.  Students will have their choice of mediums to help define their styles. Taught by Artist Tracy Burk. (Suggested donation: $15 per class)
URL:https://godfreymillercenter.org/event/art-class-drawing-57/
END:VEVENT
BEGIN:VEVENT
DTSTART;TZID=America/New_York:20241217T130000
DTEND;TZID=America/New_York:20241217T140000
DTSTAMP:20260425T101149
CREATED:20241120T185212Z
LAST-MODIFIED:20241120T185212Z
UID:5653-1734440400-1734444000@godfreymillercenter.org
SUMMARY:Guided Meditation
DESCRIPTION:Join Meditation Instructor Mercia for a guided meditation session.  It is a perfect midweek refresh!
URL:https://godfreymillercenter.org/event/guided-meditation-2/
END:VEVENT
BEGIN:VEVENT
DTSTART;TZID=America/New_York:20241217T100000
DTEND;TZID=America/New_York:20241217T120000
DTSTAMP:20260425T101149
CREATED:20241120T185212Z
LAST-MODIFIED:20241120T185212Z
UID:5649-1734429600-1734436800@godfreymillercenter.org
SUMMARY:Art Class: Acrylic & Watercolor Painting
DESCRIPTION:***RSVP required\, call The Godfrey Miller Center office at 540-667-5869 to reserve your spot.   \nIn this course\, students will develop painting skills\, techniques\, and aesthetic sensibilities related to artistic expression in acrylic and/or watercolor mediums. Taught by Artist Tracy Burk. (Suggested donation: $15 per class)
URL:https://godfreymillercenter.org/event/art-class-acrylic-watercolor-painting-54/
END:VEVENT
BEGIN:VEVENT
DTSTART;TZID=America/New_York:20241217T100000
DTEND;TZID=America/New_York:20241217T120000
DTSTAMP:20260425T101149
CREATED:20241120T185212Z
LAST-MODIFIED:20241120T185212Z
UID:5650-1734429600-1734436800@godfreymillercenter.org
SUMMARY:Canasta
DESCRIPTION:All are welcome to come and play Canasta!
URL:https://godfreymillercenter.org/event/canasta-129/
LOCATION:Parlor
END:VEVENT
BEGIN:VEVENT
DTSTART;TZID=America/New_York:20241216T140000
DTEND;TZID=America/New_York:20241216T150000
DTSTAMP:20260425T101149
CREATED:20241120T185211Z
LAST-MODIFIED:20241120T185211Z
UID:5648-1734357600-1734361200@godfreymillercenter.org
SUMMARY:Exercise for Balance & Strength
DESCRIPTION:A low-impact program that includes joint check/warm-up\, range of motion/stretching\, strengthening\, cardiovascular endurance\, and joint check/cool down. Led by Sonna Russell. Ms. Russell is a gifted coach and was trained through the Arthritis Foundation. (Suggested donation – $3.00)
URL:https://godfreymillercenter.org/event/exercise-for-balance-strength-84/
LOCATION:Pavilion
END:VEVENT
BEGIN:VEVENT
DTSTART;TZID=America/New_York:20241216T123000
DTEND;TZID=America/New_York:20241216T133000
DTSTAMP:20260425T101149
CREATED:20241120T185211Z
LAST-MODIFIED:20241120T185211Z
UID:5647-1734352200-1734355800@godfreymillercenter.org
SUMMARY:Lunch
DESCRIPTION:***RSVP required\, call The Godfrey Miller Center office at 540-667-5869 to reserve your spot.\nTickets: $9.00
URL:https://godfreymillercenter.org/event/lunch-107/
LOCATION:Pavilion
END:VEVENT
BEGIN:VEVENT
DTSTART;TZID=America/New_York:20241216T110000
DTEND;TZID=America/New_York:20241216T120000
DTSTAMP:20260425T101149
CREATED:20241120T185211Z
LAST-MODIFIED:20241120T185211Z
UID:5646-1734346800-1734350400@godfreymillercenter.org
SUMMARY:Tai Chi
DESCRIPTION:Adrian’s Practical Tai Chi classes are a blend of tai chi and qigong\, meant to get the practitioner connected into their own body. The focus is on proper body structure and grounding\, while different series of movements are performed. Attendees can expect to feel more grounded\, relaxed\, and rejuvenated after each class. Limited-mobility friendly! (Suggested Donation: $3)
URL:https://godfreymillercenter.org/event/tai-chi/
LOCATION:Parlor
END:VEVENT
BEGIN:VEVENT
DTSTART;TZID=America/New_York:20241216T100000
DTEND;TZID=America/New_York:20241216T120000
DTSTAMP:20260425T101149
CREATED:20241120T185211Z
LAST-MODIFIED:20241120T185211Z
UID:5644-1734343200-1734350400@godfreymillercenter.org
SUMMARY:Art Studio
DESCRIPTION:Art Studio is an open time for individuals to gather and work on their various art projects.  This is a social opportunity for artists of all levels to help each other and work independently. Recurs on every Monday of the month.
URL:https://godfreymillercenter.org/event/art-studio-120/
LOCATION:Pavilion
END:VEVENT
BEGIN:VEVENT
DTSTART;TZID=America/New_York:20241216T100000
DTEND;TZID=America/New_York:20241216T110000
DTSTAMP:20260425T101149
CREATED:20241120T185211Z
LAST-MODIFIED:20241120T185211Z
UID:5645-1734343200-1734346800@godfreymillercenter.org
SUMMARY:Jigsaw Puzzles
DESCRIPTION:
URL:https://godfreymillercenter.org/event/jigsaw-puzzles-57/
LOCATION:Front Sitting Room/Puzzle Room
END:VEVENT
BEGIN:VEVENT
DTSTART;TZID=America/New_York:20241212T130000
DTEND;TZID=America/New_York:20241212T140000
DTSTAMP:20260425T101149
CREATED:20241120T185211Z
LAST-MODIFIED:20241120T185211Z
UID:5643-1734008400-1734012000@godfreymillercenter.org
SUMMARY:Christmas Tea Party
DESCRIPTION:It’s the most wonderful time of the year\, so join us as we celebrate the holidays with a Christmas Tea.  There will be a variety of tea flavors to try\, savory bites\, scones\, and sweet treats.  \n***RSVP Required\, call The Godfrey Miller Center office at 540-667-5869 to reserve your spot.\nTickets: $25
URL:https://godfreymillercenter.org/event/christmas-tea-party-2/
END:VEVENT
BEGIN:VEVENT
DTSTART;TZID=America/New_York:20241212T100000
DTEND;TZID=America/New_York:20241212T120000
DTSTAMP:20260425T101149
CREATED:20241120T185211Z
LAST-MODIFIED:20241120T185211Z
UID:5642-1733997600-1734004800@godfreymillercenter.org
SUMMARY:Mahjong
DESCRIPTION:
URL:https://godfreymillercenter.org/event/mahjong-121/
LOCATION:Parlor
END:VEVENT
BEGIN:VEVENT
DTSTART;TZID=America/New_York:20241211T140000
DTEND;TZID=America/New_York:20241211T150000
DTSTAMP:20260425T101149
CREATED:20241120T185211Z
LAST-MODIFIED:20241120T185211Z
UID:5641-1733925600-1733929200@godfreymillercenter.org
SUMMARY:Exercise for Balance & Strength
DESCRIPTION:A low-impact program that includes joint check/warm-up\, range of motion/stretching\, strengthening\, cardiovascular endurance\, and joint check/cool down. Led by Sonna Russell. Ms. Russell is a gifted coach and was trained through the Arthritis Foundation. (Suggested donation – $3.00)
URL:https://godfreymillercenter.org/event/exercise-for-balance-strength-83/
LOCATION:Pavilion
END:VEVENT
BEGIN:VEVENT
DTSTART;TZID=America/New_York:20241211T123000
DTEND;TZID=America/New_York:20241211T133000
DTSTAMP:20260425T101149
CREATED:20241120T185210Z
LAST-MODIFIED:20241120T185210Z
UID:5640-1733920200-1733923800@godfreymillercenter.org
SUMMARY:Lunch
DESCRIPTION:***RSVP required\, call The Godfrey Miller Center office at 540-667-5869 to reserve your spot.\nTickets: $9.00
URL:https://godfreymillercenter.org/event/lunch-106/
LOCATION:Pavilion
END:VEVENT
BEGIN:VEVENT
DTSTART;TZID=America/New_York:20241210T140000
DTEND;TZID=America/New_York:20241210T150000
DTSTAMP:20260425T101149
CREATED:20241120T185210Z
LAST-MODIFIED:20241120T185210Z
UID:5639-1733839200-1733842800@godfreymillercenter.org
SUMMARY:Strength & Conditioning
DESCRIPTION:This class is designed to increase physical strength through resistance exercise. All major muscle groups are worked from head to toe. We finish with core conditioning\, breathing\, and stretching for a complete workout. Dumbbells are used for each class\, you can bring your own or use ours! Led by Program Coordinator Anna.
URL:https://godfreymillercenter.org/event/strength-conditioning-68/
LOCATION:Pavilion
END:VEVENT
BEGIN:VEVENT
DTSTART;TZID=America/New_York:20241210T130000
DTEND;TZID=America/New_York:20241210T150000
DTSTAMP:20260425T101149
CREATED:20241120T185210Z
LAST-MODIFIED:20241120T185210Z
UID:5638-1733835600-1733842800@godfreymillercenter.org
SUMMARY:Art Class: Drawing
DESCRIPTION:***RSVP required\, call The Godfrey Miller Center office at 540-667-5869 to reserve your spot.   \nIn this course\, students will improve drawing skills through using a combination of mediums such as graphite\, charcoal\, pen\, and ink.  Students will have their choice of mediums to help define their styles. Taught by Artist Tracy Burk. (Suggested donation: $15 per class)
URL:https://godfreymillercenter.org/event/art-class-drawing-56/
END:VEVENT
BEGIN:VEVENT
DTSTART;TZID=America/New_York:20241210T100000
DTEND;TZID=America/New_York:20241210T120000
DTSTAMP:20260425T101149
CREATED:20241120T185210Z
LAST-MODIFIED:20241120T185210Z
UID:5637-1733824800-1733832000@godfreymillercenter.org
SUMMARY:Art Class: Acrylic & Watercolor Painting
DESCRIPTION:***RSVP required\, call The Godfrey Miller Center office at 540-667-5869 to reserve your spot.   \nIn this course\, students will develop painting skills\, techniques\, and aesthetic sensibilities related to artistic expression in acrylic and/or watercolor mediums. Taught by Artist Tracy Burk. (Suggested donation: $15 per class)
URL:https://godfreymillercenter.org/event/art-class-acrylic-watercolor-painting-53/
END:VEVENT
BEGIN:VEVENT
DTSTART;TZID=America/New_York:20241210T100000
DTEND;TZID=America/New_York:20241210T120000
DTSTAMP:20260425T101149
CREATED:20241120T185210Z
LAST-MODIFIED:20241120T185210Z
UID:5636-1733824800-1733832000@godfreymillercenter.org
SUMMARY:Canasta
DESCRIPTION:All are welcome to come and play Canasta!
URL:https://godfreymillercenter.org/event/canasta-128/
LOCATION:Parlor
END:VEVENT
BEGIN:VEVENT
DTSTART;TZID=America/New_York:20241209T140000
DTEND;TZID=America/New_York:20241209T150000
DTSTAMP:20260425T101149
CREATED:20241120T185210Z
LAST-MODIFIED:20241120T185210Z
UID:5635-1733752800-1733756400@godfreymillercenter.org
SUMMARY:Exercise for Balance & Strength
DESCRIPTION:A low-impact program that includes joint check/warm-up\, range of motion/stretching\, strengthening\, cardiovascular endurance\, and joint check/cool down. Led by Sonna Russell. Ms. Russell is a gifted coach and was trained through the Arthritis Foundation. (Suggested donation – $3.00)
URL:https://godfreymillercenter.org/event/exercise-for-balance-strength-82/
LOCATION:Pavilion
END:VEVENT
BEGIN:VEVENT
DTSTART;TZID=America/New_York:20241209T123000
DTEND;TZID=America/New_York:20241209T133000
DTSTAMP:20260425T101149
CREATED:20241120T185210Z
LAST-MODIFIED:20241120T185210Z
UID:5634-1733747400-1733751000@godfreymillercenter.org
SUMMARY:Lunch
DESCRIPTION:***RSVP required\, call The Godfrey Miller Center office at 540-667-5869 to reserve your spot.\nTickets: $9.00
URL:https://godfreymillercenter.org/event/lunch-105/
LOCATION:Pavilion
END:VEVENT
BEGIN:VEVENT
DTSTART;TZID=America/New_York:20241209T103000
DTEND;TZID=America/New_York:20241209T113000
DTSTAMP:20260425T101149
CREATED:20241120T185209Z
LAST-MODIFIED:20241120T185209Z
UID:5631-1733740200-1733743800@godfreymillercenter.org
SUMMARY:iPhone Help Session
DESCRIPTION:Join Program Coordinator Anna for help with your smart phone.  Bring your device\, account passwords\, and any questions!
URL:https://godfreymillercenter.org/event/iphone-help-session-14/
END:VEVENT
BEGIN:VEVENT
DTSTART;TZID=America/New_York:20241209T100000
DTEND;TZID=America/New_York:20241209T120000
DTSTAMP:20260425T101149
CREATED:20241120T185209Z
LAST-MODIFIED:20241120T185209Z
UID:5632-1733738400-1733745600@godfreymillercenter.org
SUMMARY:Art Studio
DESCRIPTION:Art Studio is an open time for individuals to gather and work on their various art projects.  This is a social opportunity for artists of all levels to help each other and work independently. Recurs on every Monday of the month.
URL:https://godfreymillercenter.org/event/art-studio-119/
LOCATION:Pavilion
END:VEVENT
BEGIN:VEVENT
DTSTART;TZID=America/New_York:20241209T100000
DTEND;TZID=America/New_York:20241209T110000
DTSTAMP:20260425T101149
CREATED:20241120T185210Z
LAST-MODIFIED:20241120T185210Z
UID:5633-1733738400-1733742000@godfreymillercenter.org
SUMMARY:Jigsaw Puzzles
DESCRIPTION:
URL:https://godfreymillercenter.org/event/jigsaw-puzzles-56/
LOCATION:Front Sitting Room/Puzzle Room
END:VEVENT
BEGIN:VEVENT
DTSTART;TZID=America/New_York:20241208T160000
DTEND;TZID=America/New_York:20241208T170000
DTSTAMP:20260425T101149
CREATED:20241120T185209Z
LAST-MODIFIED:20241120T185209Z
UID:5630-1733673600-1733677200@godfreymillercenter.org
SUMMARY:Fall Concert Series: Windsong Community Chorus Holiday Concert
DESCRIPTION:Windsong is a group of fun-loving energetic women from all walks of life with one common goal of singing simply for the joy of singing! Our repertoire consists of familiar\, popular songs that make us tap our toes and recreate a special memory.  Freewill offering benefits the mission and ministry of the Godfrey Miller Center. \nConcert is held at Grace Lutheran Church (26 W. Boscawen St.)
URL:https://godfreymillercenter.org/event/fall-concert-series-windsong-community-chorus-holiday-concert/
LOCATION:Sanctuary
END:VEVENT
BEGIN:VEVENT
DTSTART;TZID=America/New_York:20241205T140000
DTEND;TZID=America/New_York:20241205T150000
DTSTAMP:20260425T101149
CREATED:20241120T185209Z
LAST-MODIFIED:20241120T185209Z
UID:5629-1733407200-1733410800@godfreymillercenter.org
SUMMARY:Strength & Conditioning
DESCRIPTION:This class is designed to increase physical strength through resistance exercise. All major muscle groups are worked from head to toe. We finish with core conditioning\, breathing\, and stretching for a complete workout. Dumbbells are used for each class\, you can bring your own or use ours! Led by Program Coordinator Anna.
URL:https://godfreymillercenter.org/event/strength-conditioning-67/
LOCATION:Pavilion
END:VEVENT
BEGIN:VEVENT
DTSTART;TZID=America/New_York:20241205T103000
DTEND;TZID=America/New_York:20241205T113000
DTSTAMP:20260425T101149
CREATED:20241120T185209Z
LAST-MODIFIED:20241120T185209Z
UID:5628-1733394600-1733398200@godfreymillercenter.org
SUMMARY:Workshop: Sugar Scrubs
DESCRIPTION:This DIY sugar scrub will make a perfect gift for the upcoming holiday season.  In this workshop\, participants will make a custom sugar scrub with all natural ingredients.  All supplies provided.  (Suggested Donation: $8) \n***RSVP required\, call The Godfrey Miller Center office at 540-667-5869 to reserve your spot.
URL:https://godfreymillercenter.org/event/workshop-sugar-scrubs/
LOCATION:Pavilion
END:VEVENT
BEGIN:VEVENT
DTSTART;TZID=America/New_York:20241204T140000
DTEND;TZID=America/New_York:20241204T150000
DTSTAMP:20260425T101149
CREATED:20241120T185209Z
LAST-MODIFIED:20241120T185209Z
UID:5627-1733320800-1733324400@godfreymillercenter.org
SUMMARY:Exercise for Balance & Strength
DESCRIPTION:A low-impact program that includes joint check/warm-up\, range of motion/stretching\, strengthening\, cardiovascular endurance\, and joint check/cool down. Led by Sonna Russell. Ms. Russell is a gifted coach and was trained through the Arthritis Foundation. (Suggested donation – $3.00)
URL:https://godfreymillercenter.org/event/exercise-for-balance-strength-81/
LOCATION:Pavilion
END:VEVENT
BEGIN:VEVENT
DTSTART;TZID=America/New_York:20241204T103000
DTEND;TZID=America/New_York:20241204T113000
DTSTAMP:20260425T101149
CREATED:20241120T185208Z
LAST-MODIFIED:20241120T185208Z
UID:5626-1733308200-1733311800@godfreymillercenter.org
SUMMARY:Workshop: Christmas Diamond Art
DESCRIPTION:Come make a unique Christmas diamond art craft!  Instructions and supplies are provided.  (Suggested Donation: $5) \n***RSVP required\, call The Godfrey Miller Center office at 540-667-5869 to reserve your spot.
URL:https://godfreymillercenter.org/event/workshop-christmas-diamond-art-2/
END:VEVENT
BEGIN:VEVENT
DTSTART;TZID=America/New_York:20241203T130000
DTEND;TZID=America/New_York:20241203T140000
DTSTAMP:20260425T101149
CREATED:20241120T185208Z
LAST-MODIFIED:20241120T185208Z
UID:5625-1733230800-1733234400@godfreymillercenter.org
SUMMARY:Guided Meditation
DESCRIPTION:Join Meditation Instructor Mercia for a guided meditation session.  It is a perfect midweek refresh!
URL:https://godfreymillercenter.org/event/guided-meditation/
END:VEVENT
END:VCALENDAR