BEGIN:VCALENDAR
VERSION:2.0
PRODID:-//Godfrey Miller Center - ECPv6.15.20//NONSGML v1.0//EN
CALSCALE:GREGORIAN
METHOD:PUBLISH
X-WR-CALNAME:Godfrey Miller Center
X-ORIGINAL-URL:https://godfreymillercenter.org
X-WR-CALDESC:Events for Godfrey Miller Center
REFRESH-INTERVAL;VALUE=DURATION:PT1H
X-Robots-Tag:noindex
X-PUBLISHED-TTL:PT1H
BEGIN:VTIMEZONE
TZID:America/New_York
BEGIN:DAYLIGHT
TZOFFSETFROM:-0500
TZOFFSETTO:-0400
TZNAME:EDT
DTSTART:20240310T070000
END:DAYLIGHT
BEGIN:STANDARD
TZOFFSETFROM:-0400
TZOFFSETTO:-0500
TZNAME:EST
DTSTART:20241103T060000
END:STANDARD
BEGIN:DAYLIGHT
TZOFFSETFROM:-0500
TZOFFSETTO:-0400
TZNAME:EDT
DTSTART:20250309T070000
END:DAYLIGHT
BEGIN:STANDARD
TZOFFSETFROM:-0400
TZOFFSETTO:-0500
TZNAME:EST
DTSTART:20251102T060000
END:STANDARD
BEGIN:DAYLIGHT
TZOFFSETFROM:-0500
TZOFFSETTO:-0400
TZNAME:EDT
DTSTART:20260308T070000
END:DAYLIGHT
BEGIN:STANDARD
TZOFFSETFROM:-0400
TZOFFSETTO:-0500
TZNAME:EST
DTSTART:20261101T060000
END:STANDARD
END:VTIMEZONE
BEGIN:VEVENT
DTSTART;TZID=America/New_York:20250305T103000
DTEND;TZID=America/New_York:20250305T113000
DTSTAMP:20260425T062629
CREATED:20250220T184740Z
LAST-MODIFIED:20250220T184740Z
UID:5794-1741170600-1741174200@godfreymillercenter.org
SUMMARY:Workshop: St. Patrick's Day Cards
DESCRIPTION:Join Lorraine for a St. Patrick’s Day card workshop!  This workshop will guide you through making custom St. Patrick’s day greeting cards.  (Suggested Donation: $6) \n***RSVP required\, call The Godfrey Miller Center office at 540-667-5869 to reserve your spot.
URL:https://godfreymillercenter.org/event/workshop-st-patricks-day-cards/
LOCATION:Parlor
END:VEVENT
BEGIN:VEVENT
DTSTART;TZID=America/New_York:20250303T110000
DTEND;TZID=America/New_York:20250303T120000
DTSTAMP:20260425T062629
CREATED:20250220T184739Z
LAST-MODIFIED:20250220T184739Z
UID:5793-1740999600-1741003200@godfreymillercenter.org
SUMMARY:Seated Yoga
DESCRIPTION:Join yoga instructor\, Debbie Coulson\, for a seated chair yoga session.  All are welcome – including beginners! (Suggested Donation: $3)
URL:https://godfreymillercenter.org/event/seated-yoga/
LOCATION:Parlor
END:VEVENT
BEGIN:VEVENT
DTSTART;TZID=America/New_York:20250227T140000
DTEND;TZID=America/New_York:20250227T150000
DTSTAMP:20260425T062629
CREATED:20250123T165507Z
LAST-MODIFIED:20250123T165507Z
UID:5780-1740664800-1740668400@godfreymillercenter.org
SUMMARY:Strength & Conditioning
DESCRIPTION:This class is designed to increase physical strength through resistance exercise. All major muscle groups are worked from head to toe. We finish with core conditioning\, breathing\, and stretching for a complete workout. Dumbbells are used for each class\, you can bring your own or use ours! Led by Program Coordinator Anna.
URL:https://godfreymillercenter.org/event/strength-conditioning-83/
LOCATION:Pavilion
END:VEVENT
BEGIN:VEVENT
DTSTART;TZID=America/New_York:20250227T123000
DTEND;TZID=America/New_York:20250227T133000
DTSTAMP:20260425T062629
CREATED:20250123T165507Z
LAST-MODIFIED:20250123T165507Z
UID:5779-1740659400-1740663000@godfreymillercenter.org
SUMMARY:Lunch
DESCRIPTION:***RSVP required\, call The Godfrey Miller Center office at 540-667-5869 to reserve your spot.\nTickets: $10
URL:https://godfreymillercenter.org/event/lunch-126/
LOCATION:Pavilion
END:VEVENT
BEGIN:VEVENT
DTSTART;TZID=America/New_York:20250227T100000
DTEND;TZID=America/New_York:20250227T120000
DTSTAMP:20260425T062629
CREATED:20250123T165507Z
LAST-MODIFIED:20250123T165507Z
UID:5778-1740650400-1740657600@godfreymillercenter.org
SUMMARY:Mahjong
DESCRIPTION:
URL:https://godfreymillercenter.org/event/mahjong-128/
LOCATION:Parlor
END:VEVENT
BEGIN:VEVENT
DTSTART;TZID=America/New_York:20250226T140000
DTEND;TZID=America/New_York:20250226T150000
DTSTAMP:20260425T062629
CREATED:20250123T165507Z
LAST-MODIFIED:20250123T165507Z
UID:5777-1740578400-1740582000@godfreymillercenter.org
SUMMARY:Exercise for Balance & Strength
DESCRIPTION:A low-impact program that includes joint check/warm-up\, range of motion/stretching\, strengthening\, cardiovascular endurance\, and joint check/cool down. Led by Sonna Russell. Ms. Russell is a gifted coach and was trained through the Arthritis Foundation. (Suggested donation – $3.00)
URL:https://godfreymillercenter.org/event/exercise-for-balance-strength-98/
LOCATION:Pavilion
END:VEVENT
BEGIN:VEVENT
DTSTART;TZID=America/New_York:20250226T123000
DTEND;TZID=America/New_York:20250226T133000
DTSTAMP:20260425T062629
CREATED:20250123T165507Z
LAST-MODIFIED:20250123T165507Z
UID:5776-1740573000-1740576600@godfreymillercenter.org
SUMMARY:Lunch
DESCRIPTION:***RSVP required\, call The Godfrey Miller Center office at 540-667-5869 to reserve your spot.\nTickets: $10
URL:https://godfreymillercenter.org/event/lunch-125/
LOCATION:Pavilion
END:VEVENT
BEGIN:VEVENT
DTSTART;TZID=America/New_York:20250226T110000
DTEND;TZID=America/New_York:20250226T120000
DTSTAMP:20260425T062629
CREATED:20250123T165507Z
LAST-MODIFIED:20250123T165507Z
UID:5775-1740567600-1740571200@godfreymillercenter.org
SUMMARY:Practical Tai Chi
DESCRIPTION:Adrian’s Practical Tai Chi classes are a blend of tai chi and qigong\, meant to get the practitioner connected into their own body. The focus is on proper body structure and grounding\, while different series of movements are performed. Attendees can expect to feel more grounded\, relaxed\, and rejuvenated after each class. Limited-mobility friendly! (Suggested Donation: $3)
URL:https://godfreymillercenter.org/event/practical-tai-chi-4/
LOCATION:Pavilion
END:VEVENT
BEGIN:VEVENT
DTSTART;TZID=America/New_York:20250225T140000
DTEND;TZID=America/New_York:20250225T150000
DTSTAMP:20260425T062629
CREATED:20250123T165506Z
LAST-MODIFIED:20250123T165506Z
UID:5773-1740492000-1740495600@godfreymillercenter.org
SUMMARY:Strength & Conditioning
DESCRIPTION:This class is designed to increase physical strength through resistance exercise. All major muscle groups are worked from head to toe. We finish with core conditioning\, breathing\, and stretching for a complete workout. Dumbbells are used for each class\, you can bring your own or use ours! Led by Program Coordinator Anna.
URL:https://godfreymillercenter.org/event/strength-conditioning-82/
LOCATION:Pavilion
END:VEVENT
BEGIN:VEVENT
DTSTART;TZID=America/New_York:20250225T130000
DTEND;TZID=America/New_York:20250225T150000
DTSTAMP:20260425T062629
CREATED:20250123T165507Z
LAST-MODIFIED:20250123T165507Z
UID:5774-1740488400-1740495600@godfreymillercenter.org
SUMMARY:Art Class: Drawing
DESCRIPTION:***RSVP required\, call The Godfrey Miller Center office at 540-667-5869 to reserve your spot.   \nIn this course\, students will improve drawing skills through using a combination of mediums such as graphite\, charcoal\, pen\, and ink.  Students will have their choice of mediums to help define their styles. Taught by Artist Tracy Burk. (Suggested donation: $15 per class)
URL:https://godfreymillercenter.org/event/art-class-drawing-59/
LOCATION:VA
END:VEVENT
BEGIN:VEVENT
DTSTART;TZID=America/New_York:20250225T100000
DTEND;TZID=America/New_York:20250225T120000
DTSTAMP:20260425T062629
CREATED:20250123T165506Z
LAST-MODIFIED:20250123T165506Z
UID:5771-1740477600-1740484800@godfreymillercenter.org
SUMMARY:Canasta
DESCRIPTION:All are welcome to come and play Canasta!
URL:https://godfreymillercenter.org/event/canasta-135/
LOCATION:Parlor
END:VEVENT
BEGIN:VEVENT
DTSTART;TZID=America/New_York:20250225T100000
DTEND;TZID=America/New_York:20250225T120000
DTSTAMP:20260425T062629
CREATED:20250123T165506Z
LAST-MODIFIED:20250123T165506Z
UID:5772-1740477600-1740484800@godfreymillercenter.org
SUMMARY:Art Class: Acrylic & Watercolor Painting
DESCRIPTION:***RSVP required\, call The Godfrey Miller Center office at 540-667-5869 to reserve your spot.   \nIn this course\, students will develop painting skills\, techniques\, and aesthetic sensibilities related to artistic expression in acrylic and/or watercolor mediums. Taught by Artist Tracy Burk. (Suggested donation: $15 per class)
URL:https://godfreymillercenter.org/event/art-class-acrylic-watercolor-painting-56/
LOCATION:VA
END:VEVENT
BEGIN:VEVENT
DTSTART;TZID=America/New_York:20250224T140000
DTEND;TZID=America/New_York:20250224T150000
DTSTAMP:20260425T062629
CREATED:20250123T165506Z
LAST-MODIFIED:20250123T165506Z
UID:5770-1740405600-1740409200@godfreymillercenter.org
SUMMARY:Exercise for Balance & Strength
DESCRIPTION:A low-impact program that includes joint check/warm-up\, range of motion/stretching\, strengthening\, cardiovascular endurance\, and joint check/cool down. Led by Sonna Russell. Ms. Russell is a gifted coach and was trained through the Arthritis Foundation. (Suggested donation – $3.00)
URL:https://godfreymillercenter.org/event/exercise-for-balance-strength-97/
LOCATION:Pavilion
END:VEVENT
BEGIN:VEVENT
DTSTART;TZID=America/New_York:20250224T123000
DTEND;TZID=America/New_York:20250224T133000
DTSTAMP:20260425T062629
CREATED:20250123T165506Z
LAST-MODIFIED:20250123T165506Z
UID:5769-1740400200-1740403800@godfreymillercenter.org
SUMMARY:Lunch
DESCRIPTION:***RSVP required\, call The Godfrey Miller Center office at 540-667-5869 to reserve your spot.\nTickets: $10
URL:https://godfreymillercenter.org/event/lunch-124/
LOCATION:Pavilion
END:VEVENT
BEGIN:VEVENT
DTSTART;TZID=America/New_York:20250224T110000
DTEND;TZID=America/New_York:20250224T120000
DTSTAMP:20260425T062629
CREATED:20250123T165506Z
LAST-MODIFIED:20250123T165506Z
UID:5768-1740394800-1740398400@godfreymillercenter.org
SUMMARY:Chair Yoga
DESCRIPTION:Join yoga instructor\, Debbie Coulson\, for a seated chair yoga session.  All are welcome – including beginners! (Suggested Donation: $3)
URL:https://godfreymillercenter.org/event/chair-yoga-12/
LOCATION:Parlor
END:VEVENT
BEGIN:VEVENT
DTSTART;TZID=America/New_York:20250224T100000
DTEND;TZID=America/New_York:20250224T120000
DTSTAMP:20260425T062629
CREATED:20250123T165506Z
LAST-MODIFIED:20250123T165506Z
UID:5767-1740391200-1740398400@godfreymillercenter.org
SUMMARY:Art Studio
DESCRIPTION:Art Studio is an open time for individuals to gather and work on their various art projects.  This is a social opportunity for artists of all levels to help each other and work independently. Recurs on every Monday of the month.
URL:https://godfreymillercenter.org/event/art-studio-125/
LOCATION:Pavilion
END:VEVENT
BEGIN:VEVENT
DTSTART;TZID=America/New_York:20250224T100000
DTEND;TZID=America/New_York:20250224T110000
DTSTAMP:20260425T062629
CREATED:20250123T165506Z
LAST-MODIFIED:20250123T165506Z
UID:5766-1740391200-1740394800@godfreymillercenter.org
SUMMARY:Jigsaw Puzzles
DESCRIPTION:
URL:https://godfreymillercenter.org/event/jigsaw-puzzles-62/
LOCATION:Front Sitting Room/Puzzle Room
END:VEVENT
BEGIN:VEVENT
DTSTART;TZID=America/New_York:20250220T140000
DTEND;TZID=America/New_York:20250220T150000
DTSTAMP:20260425T062629
CREATED:20250123T165506Z
LAST-MODIFIED:20250123T165506Z
UID:5765-1740060000-1740063600@godfreymillercenter.org
SUMMARY:Strength & Conditioning
DESCRIPTION:This class is designed to increase physical strength through resistance exercise. All major muscle groups are worked from head to toe. We finish with core conditioning\, breathing\, and stretching for a complete workout. Dumbbells are used for each class\, you can bring your own or use ours! Led by Program Coordinator Anna.
URL:https://godfreymillercenter.org/event/strength-conditioning-81/
LOCATION:Pavilion
END:VEVENT
BEGIN:VEVENT
DTSTART;TZID=America/New_York:20250220T123000
DTEND;TZID=America/New_York:20250220T133000
DTSTAMP:20260425T062629
CREATED:20250123T165505Z
LAST-MODIFIED:20250123T165505Z
UID:5764-1740054600-1740058200@godfreymillercenter.org
SUMMARY:Lunch
DESCRIPTION:***RSVP required\, call The Godfrey Miller Center office at 540-667-5869 to reserve your spot.\nTickets: $10
URL:https://godfreymillercenter.org/event/lunch-123/
LOCATION:Pavilion
END:VEVENT
BEGIN:VEVENT
DTSTART;TZID=America/New_York:20250220T100000
DTEND;TZID=America/New_York:20250220T120000
DTSTAMP:20260425T062629
CREATED:20250123T165505Z
LAST-MODIFIED:20250123T165505Z
UID:5763-1740045600-1740052800@godfreymillercenter.org
SUMMARY:Mahjong
DESCRIPTION:
URL:https://godfreymillercenter.org/event/mahjong-127/
LOCATION:Parlor
END:VEVENT
BEGIN:VEVENT
DTSTART;TZID=America/New_York:20250219T140000
DTEND;TZID=America/New_York:20250219T150000
DTSTAMP:20260425T062629
CREATED:20250123T165505Z
LAST-MODIFIED:20250123T165505Z
UID:5762-1739973600-1739977200@godfreymillercenter.org
SUMMARY:Exercise for Balance & Strength
DESCRIPTION:A low-impact program that includes joint check/warm-up\, range of motion/stretching\, strengthening\, cardiovascular endurance\, and joint check/cool down. Led by Sonna Russell. Ms. Russell is a gifted coach and was trained through the Arthritis Foundation. (Suggested donation – $3.00)
URL:https://godfreymillercenter.org/event/exercise-for-balance-strength-96/
LOCATION:Pavilion
END:VEVENT
BEGIN:VEVENT
DTSTART;TZID=America/New_York:20250219T123000
DTEND;TZID=America/New_York:20250219T133000
DTSTAMP:20260425T062629
CREATED:20250123T165505Z
LAST-MODIFIED:20250123T165505Z
UID:5761-1739968200-1739971800@godfreymillercenter.org
SUMMARY:Lunch
DESCRIPTION:***RSVP required\, call The Godfrey Miller Center office at 540-667-5869 to reserve your spot.\nTickets: $10
URL:https://godfreymillercenter.org/event/lunch-122/
LOCATION:Pavilion
END:VEVENT
BEGIN:VEVENT
DTSTART;TZID=America/New_York:20250218T130000
DTEND;TZID=America/New_York:20250218T153000
DTSTAMP:20260425T062629
CREATED:20250123T165505Z
LAST-MODIFIED:20250123T165505Z
UID:5760-1739883600-1739892600@godfreymillercenter.org
SUMMARY:Movie Matinee: The Butler
DESCRIPTION:Escape the cold and join us for an afternoon showing of “The Butler.”  After leaving the South as a young man and finding a job at an elite hotel in Washington\, D.C.\, Cecil Gaines gets the opportunity of a lifetime when he is hired as a butler at the White House. Over the course of three decades\, Cecil has a front-row seat to history and the Oval Office. However\, his commitment to his “First Family” leads to tension at home with his family.  Movie snacks and drinks provided.  Movie run time: 2 hours and 12 minutes.
URL:https://godfreymillercenter.org/event/movie-matinee-the-butler/
LOCATION:Pavilion
END:VEVENT
BEGIN:VEVENT
DTSTART;TZID=America/New_York:20250218T130000
DTEND;TZID=America/New_York:20250218T150000
DTSTAMP:20260425T062629
CREATED:20250123T165505Z
LAST-MODIFIED:20250123T165505Z
UID:5759-1739883600-1739890800@godfreymillercenter.org
SUMMARY:Art Class: Drawing
DESCRIPTION:***RSVP required\, call The Godfrey Miller Center office at 540-667-5869 to reserve your spot.   \nIn this course\, students will improve drawing skills through using a combination of mediums such as graphite\, charcoal\, pen\, and ink.  Students will have their choice of mediums to help define their styles. Taught by Artist Tracy Burk. (Suggested donation: $15 per class)
URL:https://godfreymillercenter.org/event/art-class-drawing-58/
LOCATION:VA
END:VEVENT
BEGIN:VEVENT
DTSTART;TZID=America/New_York:20250218T100000
DTEND;TZID=America/New_York:20250218T120000
DTSTAMP:20260425T062629
CREATED:20250123T165505Z
LAST-MODIFIED:20250123T165505Z
UID:5757-1739872800-1739880000@godfreymillercenter.org
SUMMARY:Canasta
DESCRIPTION:All are welcome to come and play Canasta!
URL:https://godfreymillercenter.org/event/canasta-134/
LOCATION:Parlor
END:VEVENT
BEGIN:VEVENT
DTSTART;TZID=America/New_York:20250218T100000
DTEND;TZID=America/New_York:20250218T120000
DTSTAMP:20260425T062629
CREATED:20250123T165505Z
LAST-MODIFIED:20250123T165505Z
UID:5758-1739872800-1739880000@godfreymillercenter.org
SUMMARY:Art Class: Acrylic & Watercolor Painting
DESCRIPTION:***RSVP required\, call The Godfrey Miller Center office at 540-667-5869 to reserve your spot.   \nIn this course\, students will develop painting skills\, techniques\, and aesthetic sensibilities related to artistic expression in acrylic and/or watercolor mediums. Taught by Artist Tracy Burk. (Suggested donation: $15 per class)
URL:https://godfreymillercenter.org/event/art-class-acrylic-watercolor-painting-55/
LOCATION:VA
END:VEVENT
BEGIN:VEVENT
DTSTART;TZID=America/New_York:20250217T140000
DTEND;TZID=America/New_York:20250217T150000
DTSTAMP:20260425T062629
CREATED:20250123T165505Z
LAST-MODIFIED:20250123T165505Z
UID:5756-1739800800-1739804400@godfreymillercenter.org
SUMMARY:Exercise for Balance & Strength
DESCRIPTION:A low-impact program that includes joint check/warm-up\, range of motion/stretching\, strengthening\, cardiovascular endurance\, and joint check/cool down. Led by Sonna Russell. Ms. Russell is a gifted coach and was trained through the Arthritis Foundation. (Suggested donation – $3.00)
URL:https://godfreymillercenter.org/event/exercise-for-balance-strength-95/
LOCATION:Pavilion
END:VEVENT
BEGIN:VEVENT
DTSTART;TZID=America/New_York:20250217T123000
DTEND;TZID=America/New_York:20250217T133000
DTSTAMP:20260425T062629
CREATED:20250123T165504Z
LAST-MODIFIED:20250123T165504Z
UID:5755-1739795400-1739799000@godfreymillercenter.org
SUMMARY:Lunch
DESCRIPTION:***RSVP required\, call The Godfrey Miller Center office at 540-667-5869 to reserve your spot.\nTickets: $10
URL:https://godfreymillercenter.org/event/lunch-121/
LOCATION:Pavilion
END:VEVENT
BEGIN:VEVENT
DTSTART;TZID=America/New_York:20250217T103000
DTEND;TZID=America/New_York:20250217T113000
DTSTAMP:20260425T062629
CREATED:20250123T165504Z
LAST-MODIFIED:20250123T165504Z
UID:5753-1739788200-1739791800@godfreymillercenter.org
SUMMARY:iPhone Help Session
DESCRIPTION:Join Program Coordinator Anna for help with your smart phone.  Bring your device\, account passwords\, and any questions!
URL:https://godfreymillercenter.org/event/iphone-help-session-16/
LOCATION:Parlor
END:VEVENT
BEGIN:VEVENT
DTSTART;TZID=America/New_York:20250217T100000
DTEND;TZID=America/New_York:20250217T120000
DTSTAMP:20260425T062629
CREATED:20250123T165504Z
LAST-MODIFIED:20250123T165504Z
UID:5754-1739786400-1739793600@godfreymillercenter.org
SUMMARY:Art Studio
DESCRIPTION:Art Studio is an open time for individuals to gather and work on their various art projects.  This is a social opportunity for artists of all levels to help each other and work independently. Recurs on every Monday of the month.
URL:https://godfreymillercenter.org/event/art-studio-124/
LOCATION:Pavilion
END:VEVENT
END:VCALENDAR