BEGIN:VCALENDAR
VERSION:2.0
PRODID:-//Godfrey Miller Center - ECPv6.15.20//NONSGML v1.0//EN
CALSCALE:GREGORIAN
METHOD:PUBLISH
X-WR-CALNAME:Godfrey Miller Center
X-ORIGINAL-URL:https://godfreymillercenter.org
X-WR-CALDESC:Events for Godfrey Miller Center
REFRESH-INTERVAL;VALUE=DURATION:PT1H
X-Robots-Tag:noindex
X-PUBLISHED-TTL:PT1H
BEGIN:VTIMEZONE
TZID:America/New_York
BEGIN:DAYLIGHT
TZOFFSETFROM:-0500
TZOFFSETTO:-0400
TZNAME:EDT
DTSTART:20220313T070000
END:DAYLIGHT
BEGIN:STANDARD
TZOFFSETFROM:-0400
TZOFFSETTO:-0500
TZNAME:EST
DTSTART:20221106T060000
END:STANDARD
BEGIN:DAYLIGHT
TZOFFSETFROM:-0500
TZOFFSETTO:-0400
TZNAME:EDT
DTSTART:20230312T070000
END:DAYLIGHT
BEGIN:STANDARD
TZOFFSETFROM:-0400
TZOFFSETTO:-0500
TZNAME:EST
DTSTART:20231105T060000
END:STANDARD
BEGIN:DAYLIGHT
TZOFFSETFROM:-0500
TZOFFSETTO:-0400
TZNAME:EDT
DTSTART:20240310T070000
END:DAYLIGHT
BEGIN:STANDARD
TZOFFSETFROM:-0400
TZOFFSETTO:-0500
TZNAME:EST
DTSTART:20241103T060000
END:STANDARD
END:VTIMEZONE
BEGIN:VEVENT
DTSTART;TZID=America/New_York:20230525T130000
DTEND;TZID=America/New_York:20230525T150000
DTSTAMP:20260425T234755
CREATED:20230424T190742Z
LAST-MODIFIED:20230424T190742Z
UID:4283-1685019600-1685026800@godfreymillercenter.org
SUMMARY:Movie Matinee: Chantilly Bridge
DESCRIPTION:Come see the actresses from “Chantilly Lace”\, in the new groundbreaking Sundance hit\, “Chantilly Bridge.”  This movie travels back and forth between films\, as they characters’ memories implode on the present.  This movie explores important issues of these women’s lives with humor\, humbleness\, humanity and love.  From equality and feminism to parenthood\, love\, careers and sex\, no topic of these ladies lives are off-limits.  Chantilly Bridge is a heartfelt film about reconnecting with old friends from the past and the beauty of a shared history.  Popcorn\, candy\, and drinks will be provided. Movie Length: 1.5 hours \n***RSVP required\, call The Godfrey Miller Center office at 540-667-5869 to reserve your spot.
URL:https://godfreymillercenter.org/event/movie-matinee-chantilly-bridge/
LOCATION:Pavilion
END:VEVENT
BEGIN:VEVENT
DTSTART;TZID=America/New_York:20230525T110000
DTEND;TZID=America/New_York:20230525T120000
DTSTAMP:20260425T234755
CREATED:20230424T190742Z
LAST-MODIFIED:20230424T190742Z
UID:4281-1685012400-1685016000@godfreymillercenter.org
SUMMARY:Computer Class: Understanding the Control Panel
DESCRIPTION:This class will cover generic information on the computer itself.  How you login\, logout\, and all the different aspects of control panel. This class will apply to both Windows 10 and 11.  We will have computers available\, but you are welcome to bring your own device and any questions you may have! Taught by Jill LeTourneau. \n***RSVP required\, call The Godfrey Miller Center office at 540-667-5869 to reserve your spot.
URL:https://godfreymillercenter.org/event/computer-class-understanding-the-control-panel-3/
LOCATION:Upstairs Computer Lab
END:VEVENT
BEGIN:VEVENT
DTSTART;TZID=America/New_York:20230525T100000
DTEND;TZID=America/New_York:20230525T120000
DTSTAMP:20260425T234755
CREATED:20230424T190742Z
LAST-MODIFIED:20230424T190742Z
UID:4282-1685008800-1685016000@godfreymillercenter.org
SUMMARY:Mahjong
DESCRIPTION:
URL:https://godfreymillercenter.org/event/mahjong-62/
LOCATION:Parlor
END:VEVENT
BEGIN:VEVENT
DTSTART;TZID=America/New_York:20230524T170000
DTEND;TZID=America/New_York:20230524T180000
DTSTAMP:20260425T234755
CREATED:20230424T190742Z
LAST-MODIFIED:20230424T190742Z
UID:4280-1684947600-1684951200@godfreymillercenter.org
SUMMARY:Brick Ceremony and Reception
DESCRIPTION:Join us for a dedication ceremony and reception for our new courtyard bricks.
URL:https://godfreymillercenter.org/event/brick-ceremony-and-reception/
LOCATION:Courtyard
END:VEVENT
BEGIN:VEVENT
DTSTART;TZID=America/New_York:20230524T140000
DTEND;TZID=America/New_York:20230524T150000
DTSTAMP:20260425T234755
CREATED:20230424T190741Z
LAST-MODIFIED:20230424T190741Z
UID:4278-1684936800-1684940400@godfreymillercenter.org
SUMMARY:Exercise for Balance and Strength
DESCRIPTION:A low-impact program that includes joint check/warm-up\, range of motion/stretching\, strengthening\, cardiovascular endurance\, and joint check/cool down. Led by Sonna Russell. Ms. Russell is a gifted coach and was trained through the Arthritis Foundation. (Suggested donation – $3.00)
URL:https://godfreymillercenter.org/event/exercise-for-balance-and-strength-131/
LOCATION:Pavilion
END:VEVENT
BEGIN:VEVENT
DTSTART;TZID=America/New_York:20230524T123000
DTEND;TZID=America/New_York:20230524T133000
DTSTAMP:20260425T234755
CREATED:20230424T190741Z
LAST-MODIFIED:20230424T191047Z
UID:4277-1684931400-1684935000@godfreymillercenter.org
SUMMARY:Lunch
DESCRIPTION:***RSVP Required by the preceding Monday. Tickets are $8.50 and available in the Godfrey Miller Center office. \nMenu: Grilled Ham and Cheese\, Tomato Soup\, and Dessert
URL:https://godfreymillercenter.org/event/4277/
LOCATION:Pavilion
END:VEVENT
BEGIN:VEVENT
DTSTART;TZID=America/New_York:20230524T100000
DTEND;TZID=America/New_York:20230524T120000
DTSTAMP:20260425T234755
CREATED:20230424T190741Z
LAST-MODIFIED:20230424T190741Z
UID:4276-1684922400-1684929600@godfreymillercenter.org
SUMMARY:Pinochle
DESCRIPTION:
URL:https://godfreymillercenter.org/event/pinochle-57/
LOCATION:Parlor or Dining Room
END:VEVENT
BEGIN:VEVENT
DTSTART;TZID=America/New_York:20230523T140000
DTEND;TZID=America/New_York:20230523T150000
DTSTAMP:20260425T234755
CREATED:20230424T190741Z
LAST-MODIFIED:20230424T190741Z
UID:4275-1684850400-1684854000@godfreymillercenter.org
SUMMARY:Strength and Conditioning Class
DESCRIPTION:This class is designed to increase physical strength through resistance exercise. All major muscle groups are worked from head to toe. We finish with core conditioning\, breathing\, and stretching for a complete workout. Dumbbells are used for each class\, you can bring your own or use ours! Led by Program Coordinator Anna.
URL:https://godfreymillercenter.org/event/strength-and-conditioning-class-70/
LOCATION:Pavilion
END:VEVENT
BEGIN:VEVENT
DTSTART;TZID=America/New_York:20230523T130000
DTEND;TZID=America/New_York:20230523T150000
DTSTAMP:20260425T234755
CREATED:20230424T190741Z
LAST-MODIFIED:20230424T190741Z
UID:4274-1684846800-1684854000@godfreymillercenter.org
SUMMARY:Art Class: Drawing
DESCRIPTION:In this course\, students will improve drawing skills by capturing scenes of Winchester.  Through a combination of landscapes\, buildings\, and people we will explore different drawing techniques such as graphite\, charcoal\, and pen and ink.  Students will have their choice of mediums to help define their styles. Taught by master artist Kate Williams. (Suggested donation – $15 per class)  \n***RSVP required\, call The Godfrey Miller Center office at 540-667-5869 to reserve your spot.
URL:https://godfreymillercenter.org/event/art-class-drawing-9/
END:VEVENT
BEGIN:VEVENT
DTSTART;TZID=America/New_York:20230523T100000
DTEND;TZID=America/New_York:20230523T120000
DTSTAMP:20260425T234755
CREATED:20230424T190741Z
LAST-MODIFIED:20230424T190741Z
UID:4273-1684836000-1684843200@godfreymillercenter.org
SUMMARY:Canasta
DESCRIPTION:
URL:https://godfreymillercenter.org/event/canasta-68/
LOCATION:Parlor
END:VEVENT
BEGIN:VEVENT
DTSTART;TZID=America/New_York:20230523T100000
DTEND;TZID=America/New_York:20230523T120000
DTSTAMP:20260425T234755
CREATED:20230424T190740Z
LAST-MODIFIED:20230424T190740Z
UID:4272-1684836000-1684843200@godfreymillercenter.org
SUMMARY:Art Class: Acrylic & Watercolor Painting
DESCRIPTION:In this course\, students will develop painting skills\, techniques\, and aesthetic sensibilities related to artistic expression in acrylic and/or watercolor mediums. Each week will focus on a different subject\, emphasizing color and composition\, and enabling students to expand and better define their unique style and technique. Taught by Kate Williams. (Suggested donation – $15 per class)  \n***RSVP required\, call The Godfrey Miller Center office at 540-667-5869 to reserve your spot.
URL:https://godfreymillercenter.org/event/art-class-acrylic-watercolor-painting-9/
END:VEVENT
BEGIN:VEVENT
DTSTART;TZID=America/New_York:20230522T140000
DTEND;TZID=America/New_York:20230522T150000
DTSTAMP:20260425T234755
CREATED:20230424T190740Z
LAST-MODIFIED:20230424T190740Z
UID:4271-1684764000-1684767600@godfreymillercenter.org
SUMMARY:Exercise for Balance and Strength
DESCRIPTION:A low-impact program that includes joint check/warm-up\, range of motion/stretching\, strengthening\, cardiovascular endurance\, and joint check/cool down. Led by Sonna Russell. Ms. Russell is a gifted coach and was trained through the Arthritis Foundation. (Suggested donation – $3.00)
URL:https://godfreymillercenter.org/event/exercise-for-balance-and-strength-130/
LOCATION:Pavilion
END:VEVENT
BEGIN:VEVENT
DTSTART;TZID=America/New_York:20230522T123000
DTEND;TZID=America/New_York:20230522T133000
DTSTAMP:20260425T234755
CREATED:20230424T190740Z
LAST-MODIFIED:20230424T191103Z
UID:4270-1684758600-1684762200@godfreymillercenter.org
SUMMARY:Lunch
DESCRIPTION:***RSVP Required by the preceding Thursday. Tickets are $8.50 and available in the Godfrey Miller Center office. \nMenu: Chicken Pot Pie\, Cucumber Salad\, and Dessert
URL:https://godfreymillercenter.org/event/4270/
LOCATION:Pavilion
END:VEVENT
BEGIN:VEVENT
DTSTART;TZID=America/New_York:20230522T100000
DTEND;TZID=America/New_York:20230522T120000
DTSTAMP:20260425T234755
CREATED:20230424T190740Z
LAST-MODIFIED:20230424T190740Z
UID:4268-1684749600-1684756800@godfreymillercenter.org
SUMMARY:Art Studio
DESCRIPTION:Art Studio is an open time for individuals to gather and work on their various art projects.  This is a social opportunity for artists of all levels to help each other and work independently. Recurs on every Monday of the month.
URL:https://godfreymillercenter.org/event/art-studio-63/
LOCATION:Pavilion
END:VEVENT
BEGIN:VEVENT
DTSTART;TZID=America/New_York:20230522T100000
DTEND;TZID=America/New_York:20230522T120000
DTSTAMP:20260425T234755
CREATED:20230424T190740Z
LAST-MODIFIED:20230424T190740Z
UID:4269-1684749600-1684756800@godfreymillercenter.org
SUMMARY:Samba
DESCRIPTION:Samba is a card game variation of Canasta.  All are invited to come\, learn and play!
URL:https://godfreymillercenter.org/event/samba-28/
LOCATION:Parlor
END:VEVENT
BEGIN:VEVENT
DTSTART;TZID=America/New_York:20230522T080000
DTEND;TZID=America/New_York:20230522T083000
DTSTAMP:20260425T234755
CREATED:20230424T190740Z
LAST-MODIFIED:20230424T190740Z
UID:4267-1684742400-1684744200@godfreymillercenter.org
SUMMARY:Walking Club
DESCRIPTION:Meet in the courtyard of Godfrey Miller Center to walk and socialize around downtown Winchester.
URL:https://godfreymillercenter.org/event/walking-club-36/
END:VEVENT
BEGIN:VEVENT
DTSTART;TZID=America/New_York:20230518T130000
DTEND;TZID=America/New_York:20230518T140000
DTSTAMP:20260425T234755
CREATED:20230424T190740Z
LAST-MODIFIED:20230424T190740Z
UID:4266-1684414800-1684418400@godfreymillercenter.org
SUMMARY:Blooming Tea Party
DESCRIPTION:All are invited to join us for a blooming good time with tea!  There will be a variety of tea flavors to try\, savory bites\, scones\, and sweet treats.  \n(Tickets: $25) \n***RSVP required\, call The Godfrey Miller Center office at 540-667-5869 to reserve your spot.
URL:https://godfreymillercenter.org/event/blooming-tea-party/
END:VEVENT
BEGIN:VEVENT
DTSTART;TZID=America/New_York:20230518T110000
DTEND;TZID=America/New_York:20230518T120000
DTSTAMP:20260425T234755
CREATED:20230424T190739Z
LAST-MODIFIED:20230424T190739Z
UID:4264-1684407600-1684411200@godfreymillercenter.org
SUMMARY:Computer Class: Understanding the Control Panel
DESCRIPTION:This class will cover generic information on the computer itself.  How you login\, logout\, and all the different aspects of control panel. This class will apply to both Windows 10 and 11.  We will have computers available\, but you are welcome to bring your own device and any questions you may have! Taught by Jill LeTourneau. \n***RSVP required\, call The Godfrey Miller Center office at 540-667-5869 to reserve your spot.
URL:https://godfreymillercenter.org/event/computer-class-understanding-the-control-panel-2/
LOCATION:Upstairs Computer Lab
END:VEVENT
BEGIN:VEVENT
DTSTART;TZID=America/New_York:20230518T100000
DTEND;TZID=America/New_York:20230518T120000
DTSTAMP:20260425T234755
CREATED:20230424T190739Z
LAST-MODIFIED:20230424T190739Z
UID:4265-1684404000-1684411200@godfreymillercenter.org
SUMMARY:Mahjong
DESCRIPTION:
URL:https://godfreymillercenter.org/event/mahjong-61/
LOCATION:Parlor
END:VEVENT
BEGIN:VEVENT
DTSTART;TZID=America/New_York:20230517T140000
DTEND;TZID=America/New_York:20230517T150000
DTSTAMP:20260425T234755
CREATED:20230424T190739Z
LAST-MODIFIED:20230424T190739Z
UID:4262-1684332000-1684335600@godfreymillercenter.org
SUMMARY:Exercise for Balance and Strength
DESCRIPTION:A low-impact program that includes joint check/warm-up\, range of motion/stretching\, strengthening\, cardiovascular endurance\, and joint check/cool down. Led by Sonna Russell. Ms. Russell is a gifted coach and was trained through the Arthritis Foundation. (Suggested donation – $3.00)
URL:https://godfreymillercenter.org/event/exercise-for-balance-and-strength-129/
LOCATION:Pavilion
END:VEVENT
BEGIN:VEVENT
DTSTART;TZID=America/New_York:20230517T123000
DTEND;TZID=America/New_York:20230517T133000
DTSTAMP:20260425T234755
CREATED:20230424T190739Z
LAST-MODIFIED:20230424T191122Z
UID:4261-1684326600-1684330200@godfreymillercenter.org
SUMMARY:Lunch
DESCRIPTION:***RSVP Required by the preceding Monday.  Tickets are $8.50 and available in the Godfrey Miller Center office. \nMenu:
URL:https://godfreymillercenter.org/event/4261/
LOCATION:Pavilion
END:VEVENT
BEGIN:VEVENT
DTSTART;TZID=America/New_York:20230517T103000
DTEND;TZID=America/New_York:20230517T120000
DTSTAMP:20260425T234755
CREATED:20230424T190739Z
LAST-MODIFIED:20230424T190739Z
UID:4260-1684319400-1684324800@godfreymillercenter.org
SUMMARY:Workshop: Upcycle Hymn Book Decor
DESCRIPTION:Come transform a vintage hymn book into a piece of art.  Make it for your own home\, or as a gift!  Step by step instructions will be provided and all are welcome! (Suggested Donation: $5) \n***RSVP required\, call The Godfrey Miller Center office at 540-667-5869 to reserve your spot.
URL:https://godfreymillercenter.org/event/workshop-upcycle-hymn-book-decor/
LOCATION:Pavilion
END:VEVENT
BEGIN:VEVENT
DTSTART;TZID=America/New_York:20230517T100000
DTEND;TZID=America/New_York:20230517T120000
DTSTAMP:20260425T234755
CREATED:20230424T190739Z
LAST-MODIFIED:20230424T190739Z
UID:4259-1684317600-1684324800@godfreymillercenter.org
SUMMARY:Pinochle
DESCRIPTION:
URL:https://godfreymillercenter.org/event/pinochle-56/
LOCATION:Parlor or Dining Room
END:VEVENT
BEGIN:VEVENT
DTSTART;TZID=America/New_York:20230516T140000
DTEND;TZID=America/New_York:20230516T150000
DTSTAMP:20260425T234755
CREATED:20230424T190738Z
LAST-MODIFIED:20230424T190738Z
UID:4257-1684245600-1684249200@godfreymillercenter.org
SUMMARY:Strength and Conditioning Class
DESCRIPTION:This class is designed to increase physical strength through resistance exercise. All major muscle groups are worked from head to toe. We finish with core conditioning\, breathing\, and stretching for a complete workout. Dumbbells are used for each class\, you can bring your own or use ours! Led by Program Coordinator Anna.
URL:https://godfreymillercenter.org/event/strength-and-conditioning-class-69/
LOCATION:Pavilion
END:VEVENT
BEGIN:VEVENT
DTSTART;TZID=America/New_York:20230516T130000
DTEND;TZID=America/New_York:20230516T150000
DTSTAMP:20260425T234755
CREATED:20230424T190738Z
LAST-MODIFIED:20230424T190738Z
UID:4258-1684242000-1684249200@godfreymillercenter.org
SUMMARY:Art Class: Drawing
DESCRIPTION:In this course\, students will improve drawing skills by capturing scenes of Winchester.  Through a combination of landscapes\, buildings\, and people we will explore different drawing techniques such as graphite\, charcoal\, and pen and ink.  Students will have their choice of mediums to help define their styles. Taught by master artist Kate Williams. (Suggested donation – $15 per class)  \n***RSVP required\, call The Godfrey Miller Center office at 540-667-5869 to reserve your spot.
URL:https://godfreymillercenter.org/event/art-class-drawing-8/
END:VEVENT
BEGIN:VEVENT
DTSTART;TZID=America/New_York:20230516T100000
DTEND;TZID=America/New_York:20230516T120000
DTSTAMP:20260425T234755
CREATED:20230424T190738Z
LAST-MODIFIED:20230424T190738Z
UID:4255-1684231200-1684238400@godfreymillercenter.org
SUMMARY:Art Class: Acrylic & Watercolor Painting
DESCRIPTION:In this course\, students will develop painting skills\, techniques\, and aesthetic sensibilities related to artistic expression in acrylic and/or watercolor mediums. Each week will focus on a different subject\, emphasizing color and composition\, and enabling students to expand and better define their unique style and technique. Taught by Kate Williams. (Suggested donation – $15 per class)  \n***RSVP required\, call The Godfrey Miller Center office at 540-667-5869 to reserve your spot.
URL:https://godfreymillercenter.org/event/art-class-acrylic-watercolor-painting-8/
END:VEVENT
BEGIN:VEVENT
DTSTART;TZID=America/New_York:20230516T100000
DTEND;TZID=America/New_York:20230516T120000
DTSTAMP:20260425T234755
CREATED:20230424T190738Z
LAST-MODIFIED:20230424T190738Z
UID:4256-1684231200-1684238400@godfreymillercenter.org
SUMMARY:Canasta
DESCRIPTION:
URL:https://godfreymillercenter.org/event/canasta-67/
LOCATION:Parlor
END:VEVENT
BEGIN:VEVENT
DTSTART;TZID=America/New_York:20230515T140000
DTEND;TZID=America/New_York:20230515T150000
DTSTAMP:20260425T234755
CREATED:20230424T190738Z
LAST-MODIFIED:20230424T190738Z
UID:4254-1684159200-1684162800@godfreymillercenter.org
SUMMARY:Exercise for Balance and Strength
DESCRIPTION:A low-impact program that includes joint check/warm-up\, range of motion/stretching\, strengthening\, cardiovascular endurance\, and joint check/cool down. Led by Sonna Russell. Ms. Russell is a gifted coach and was trained through the Arthritis Foundation. (Suggested donation – $3.00)
URL:https://godfreymillercenter.org/event/exercise-for-balance-and-strength-128/
LOCATION:Pavilion
END:VEVENT
BEGIN:VEVENT
DTSTART;TZID=America/New_York:20230515T123000
DTEND;TZID=America/New_York:20230515T133000
DTSTAMP:20260425T234755
CREATED:20230424T190738Z
LAST-MODIFIED:20230424T190738Z
UID:4253-1684153800-1684157400@godfreymillercenter.org
SUMMARY:Lunch
DESCRIPTION:***RSVP Required by the preceding Thursday.  Tickets are $8.50 and available in the Godfrey Miller Center office. \nMenu:
URL:https://godfreymillercenter.org/event/lunch-21/
LOCATION:Pavilion
END:VEVENT
BEGIN:VEVENT
DTSTART;TZID=America/New_York:20230515T100000
DTEND;TZID=America/New_York:20230515T120000
DTSTAMP:20260425T234755
CREATED:20230424T190738Z
LAST-MODIFIED:20230424T190738Z
UID:4252-1684144800-1684152000@godfreymillercenter.org
SUMMARY:Art Studio
DESCRIPTION:Art Studio is an open time for individuals to gather and work on their various art projects.  This is a social opportunity for artists of all levels to help each other and work independently. Recurs on every Monday of the month.
URL:https://godfreymillercenter.org/event/art-studio-62/
LOCATION:Pavilion
END:VEVENT
END:VCALENDAR