BEGIN:VCALENDAR
VERSION:2.0
PRODID:-//Godfrey Miller Center - ECPv6.15.20//NONSGML v1.0//EN
CALSCALE:GREGORIAN
METHOD:PUBLISH
X-WR-CALNAME:Godfrey Miller Center
X-ORIGINAL-URL:https://godfreymillercenter.org
X-WR-CALDESC:Events for Godfrey Miller Center
REFRESH-INTERVAL;VALUE=DURATION:PT1H
X-Robots-Tag:noindex
X-PUBLISHED-TTL:PT1H
BEGIN:VTIMEZONE
TZID:America/New_York
BEGIN:DAYLIGHT
TZOFFSETFROM:-0500
TZOFFSETTO:-0400
TZNAME:EDT
DTSTART:20220313T070000
END:DAYLIGHT
BEGIN:STANDARD
TZOFFSETFROM:-0400
TZOFFSETTO:-0500
TZNAME:EST
DTSTART:20221106T060000
END:STANDARD
BEGIN:DAYLIGHT
TZOFFSETFROM:-0500
TZOFFSETTO:-0400
TZNAME:EDT
DTSTART:20230312T070000
END:DAYLIGHT
BEGIN:STANDARD
TZOFFSETFROM:-0400
TZOFFSETTO:-0500
TZNAME:EST
DTSTART:20231105T060000
END:STANDARD
BEGIN:DAYLIGHT
TZOFFSETFROM:-0500
TZOFFSETTO:-0400
TZNAME:EDT
DTSTART:20240310T070000
END:DAYLIGHT
BEGIN:STANDARD
TZOFFSETFROM:-0400
TZOFFSETTO:-0500
TZNAME:EST
DTSTART:20241103T060000
END:STANDARD
END:VTIMEZONE
BEGIN:VEVENT
DTSTART;TZID=America/New_York:20230817T110000
DTEND;TZID=America/New_York:20230817T120000
DTSTAMP:20260425T220759
CREATED:20230720T140857Z
LAST-MODIFIED:20230720T140857Z
UID:4496-1692270000-1692273600@godfreymillercenter.org
SUMMARY:Computer Class: Understanding the Control Panel
DESCRIPTION:This class will cover generic information on the computer control panel.  This class will apply to both Windows 10 and 11.  We will have computers available\, but you are welcome to bring your own device and any questions you may have! Taught by Jill LeTourneau. \n***RSVP required\, call The Godfrey Miller Center office at 540-667-5869 to reserve your spot.
URL:https://godfreymillercenter.org/event/computer-class-understanding-the-control-panel-5/
LOCATION:Second Floor Computer Lab
END:VEVENT
BEGIN:VEVENT
DTSTART;TZID=America/New_York:20230817T100000
DTEND;TZID=America/New_York:20230817T120000
DTSTAMP:20260425T220759
CREATED:20230720T140857Z
LAST-MODIFIED:20230720T140857Z
UID:4497-1692266400-1692273600@godfreymillercenter.org
SUMMARY:Mahjong
DESCRIPTION:
URL:https://godfreymillercenter.org/event/mahjong-71/
LOCATION:Parlor
END:VEVENT
BEGIN:VEVENT
DTSTART;TZID=America/New_York:20230816T140000
DTEND;TZID=America/New_York:20230816T150000
DTSTAMP:20260425T220759
CREATED:20230720T140857Z
LAST-MODIFIED:20230720T140857Z
UID:4494-1692194400-1692198000@godfreymillercenter.org
SUMMARY:Exercise for Balance and Strength
DESCRIPTION:A low-impact program that includes joint check/warm-up\, range of motion/stretching\, strengthening\, cardiovascular endurance\, and joint check/cool down. Led by Sonna Russell. Ms. Russell is a gifted coach and was trained through the Arthritis Foundation. (Suggested donation – $3.00)
URL:https://godfreymillercenter.org/event/exercise-for-balance-and-strength-152/
LOCATION:Pavilion
END:VEVENT
BEGIN:VEVENT
DTSTART;TZID=America/New_York:20230816T123000
DTEND;TZID=America/New_York:20230816T133000
DTSTAMP:20260425T220759
CREATED:20230720T140857Z
LAST-MODIFIED:20230720T141027Z
UID:4493-1692189000-1692192600@godfreymillercenter.org
SUMMARY:Lunch
DESCRIPTION:***RSVP Required by the preceding Monday.  Tickets are $8.50 and available in the Godfrey Miller Center office. \nMenu: Baked Chicken\, Bacon & Ranch Pasta Salad\, Steamed Carrots\, and Dessert
URL:https://godfreymillercenter.org/event/4493/
LOCATION:Pavilion
END:VEVENT
BEGIN:VEVENT
DTSTART;TZID=America/New_York:20230816T100000
DTEND;TZID=America/New_York:20230816T120000
DTSTAMP:20260425T220759
CREATED:20230720T140857Z
LAST-MODIFIED:20230720T140857Z
UID:4492-1692180000-1692187200@godfreymillercenter.org
SUMMARY:Pinochle
DESCRIPTION:
URL:https://godfreymillercenter.org/event/pinochle-66/
LOCATION:Parlor or Dining Room
END:VEVENT
BEGIN:VEVENT
DTSTART;TZID=America/New_York:20230815T140000
DTEND;TZID=America/New_York:20230815T150000
DTSTAMP:20260425T220759
CREATED:20230720T140856Z
LAST-MODIFIED:20230720T140856Z
UID:4490-1692108000-1692111600@godfreymillercenter.org
SUMMARY:Strength and Conditioning Class
DESCRIPTION:This class is designed to increase physical strength through resistance exercise. All major muscle groups are worked from head to toe. We finish with core conditioning\, breathing\, and stretching for a complete workout. Dumbbells are used for each class\, you can bring your own or use ours! Led by Program Coordinator Anna.
URL:https://godfreymillercenter.org/event/strength-and-conditioning-class-84/
LOCATION:Pavilion
END:VEVENT
BEGIN:VEVENT
DTSTART;TZID=America/New_York:20230815T130000
DTEND;TZID=America/New_York:20230815T150000
DTSTAMP:20260425T220759
CREATED:20230720T140856Z
LAST-MODIFIED:20230720T140856Z
UID:4491-1692104400-1692111600@godfreymillercenter.org
SUMMARY:Art Class: Drawing
DESCRIPTION:In this course\, students will improve drawing skills by capturing scenes of Winchester.  Through a combination of landscapes\, buildings\, and people we will explore different drawing techniques such as graphite\, charcoal\, and pen and ink.  Students will have their choice of mediums to help define their styles. Taught by master artist Kate Williams. (Suggested donation – $15 per class)  \n***RSVP required\, call The Godfrey Miller Center office at 540-667-5869 to reserve your spot.
URL:https://godfreymillercenter.org/event/art-class-drawing-14/
END:VEVENT
BEGIN:VEVENT
DTSTART;TZID=America/New_York:20230815T100000
DTEND;TZID=America/New_York:20230815T120000
DTSTAMP:20260425T220759
CREATED:20230720T140856Z
LAST-MODIFIED:20230720T140856Z
UID:4488-1692093600-1692100800@godfreymillercenter.org
SUMMARY:Canasta
DESCRIPTION:
URL:https://godfreymillercenter.org/event/canasta-75/
LOCATION:Parlor
END:VEVENT
BEGIN:VEVENT
DTSTART;TZID=America/New_York:20230815T100000
DTEND;TZID=America/New_York:20230815T120000
DTSTAMP:20260425T220759
CREATED:20230720T140856Z
LAST-MODIFIED:20230720T140856Z
UID:4489-1692093600-1692100800@godfreymillercenter.org
SUMMARY:Art Class: Acrylic & Watercolor Painting
DESCRIPTION:In this course\, students will develop painting skills\, techniques\, and aesthetic sensibilities related to artistic expression in acrylic and/or watercolor mediums. Each week will focus on a different subject\, emphasizing color and composition\, and enabling students to expand and better define their unique style and technique. Taught by Kate Williams. (Suggested donation – $15 per class)  \n***RSVP required\, call The Godfrey Miller Center office at 540-667-5869 to reserve your spot.
URL:https://godfreymillercenter.org/event/art-class-acrylic-watercolor-painting-14/
END:VEVENT
BEGIN:VEVENT
DTSTART;TZID=America/New_York:20230814T140000
DTEND;TZID=America/New_York:20230814T150000
DTSTAMP:20260425T220759
CREATED:20230720T140856Z
LAST-MODIFIED:20230720T140856Z
UID:4487-1692021600-1692025200@godfreymillercenter.org
SUMMARY:Exercise for Balance and Strength
DESCRIPTION:A low-impact program that includes joint check/warm-up\, range of motion/stretching\, strengthening\, cardiovascular endurance\, and joint check/cool down. Led by Sonna Russell. Ms. Russell is a gifted coach and was trained through the Arthritis Foundation. (Suggested donation – $3.00)
URL:https://godfreymillercenter.org/event/exercise-for-balance-and-strength-151/
LOCATION:Pavilion
END:VEVENT
BEGIN:VEVENT
DTSTART;TZID=America/New_York:20230814T123000
DTEND;TZID=America/New_York:20230814T133000
DTSTAMP:20260425T220759
CREATED:20230720T140856Z
LAST-MODIFIED:20230720T141052Z
UID:4486-1692016200-1692019800@godfreymillercenter.org
SUMMARY:Lunch
DESCRIPTION:***RSVP Required by the preceding Thursday.  Tickets are $8.50 and available in the Godfrey Miller Center office. \nMenu: Italian Stuffed Sweet Bell Peppers with Tomato Sauce\, Green Beans\, Bread\, and Dessert
URL:https://godfreymillercenter.org/event/4486/
LOCATION:Pavilion
END:VEVENT
BEGIN:VEVENT
DTSTART;TZID=America/New_York:20230814T103000
DTEND;TZID=America/New_York:20230814T113000
DTSTAMP:20260425T220759
CREATED:20230720T140856Z
LAST-MODIFIED:20230720T140856Z
UID:4484-1692009000-1692012600@godfreymillercenter.org
SUMMARY:Smart Phone Help Session
DESCRIPTION:Join Program Coordinator Anna for help with a tablet\, iPad\, smart phone\, or computer.  Bring your device\, account passwords\, and any questions!
URL:https://godfreymillercenter.org/event/smart-phone-help-session-6/
END:VEVENT
BEGIN:VEVENT
DTSTART;TZID=America/New_York:20230814T100000
DTEND;TZID=America/New_York:20230814T120000
DTSTAMP:20260425T220759
CREATED:20230720T140856Z
LAST-MODIFIED:20230720T140856Z
UID:4485-1692007200-1692014400@godfreymillercenter.org
SUMMARY:Jigsaw Puzzles
DESCRIPTION:Escape the heat with and enjoy the air conditioning while working on a jigsaw puzzle with others.  Fresh coffee provided!
URL:https://godfreymillercenter.org/event/jigsaw-puzzles-9/
END:VEVENT
BEGIN:VEVENT
DTSTART;TZID=America/New_York:20230814T100000
DTEND;TZID=America/New_York:20230814T120000
DTSTAMP:20260425T220759
CREATED:20230720T140856Z
LAST-MODIFIED:20230720T140856Z
UID:4483-1692007200-1692014400@godfreymillercenter.org
SUMMARY:Art Studio
DESCRIPTION:Art Studio is an open time for individuals to gather and work on their various art projects.  This is a social opportunity for artists of all levels to help each other and work independently. Recurs on every Monday of the month.
URL:https://godfreymillercenter.org/event/art-studio-72/
LOCATION:Pavilion
END:VEVENT
BEGIN:VEVENT
DTSTART;TZID=America/New_York:20230814T080000
DTEND;TZID=America/New_York:20230814T083000
DTSTAMP:20260425T220759
CREATED:20230720T140855Z
LAST-MODIFIED:20230720T140855Z
UID:4482-1692000000-1692001800@godfreymillercenter.org
SUMMARY:Walking Club
DESCRIPTION:Meet in the courtyard of Godfrey Miller Center to walk and socialize around downtown Winchester.
URL:https://godfreymillercenter.org/event/walking-club-45/
END:VEVENT
BEGIN:VEVENT
DTSTART;TZID=America/New_York:20230810T140000
DTEND;TZID=America/New_York:20230810T150000
DTSTAMP:20260425T220759
CREATED:20230720T140855Z
LAST-MODIFIED:20230720T140855Z
UID:4481-1691676000-1691679600@godfreymillercenter.org
SUMMARY:Strength and Conditioning Class
DESCRIPTION:This class is designed to increase physical strength through resistance exercise. All major muscle groups are worked from head to toe. We finish with core conditioning\, breathing\, and stretching for a complete workout. Dumbbells are used for each class\, you can bring your own or use ours! Led by Program Coordinator Anna.
URL:https://godfreymillercenter.org/event/strength-and-conditioning-class-83/
LOCATION:Pavilion
END:VEVENT
BEGIN:VEVENT
DTSTART;TZID=America/New_York:20230810T110000
DTEND;TZID=America/New_York:20230810T120000
DTSTAMP:20260425T220759
CREATED:20230720T140855Z
LAST-MODIFIED:20230720T140855Z
UID:4480-1691665200-1691668800@godfreymillercenter.org
SUMMARY:Computer Class: Understanding the Control Panel
DESCRIPTION:This class will cover generic information on the computer control panel.  This class will apply to both Windows 10 and 11.  We will have computers available\, but you are welcome to bring your own device and any questions you may have! Taught by Jill LeTourneau. \n***RSVP required\, call The Godfrey Miller Center office at 540-667-5869 to reserve your spot.
URL:https://godfreymillercenter.org/event/computer-class-understanding-the-control-panel-4/
LOCATION:Second Floor Computer Lab
END:VEVENT
BEGIN:VEVENT
DTSTART;TZID=America/New_York:20230810T103000
DTEND;TZID=America/New_York:20230810T113000
DTSTAMP:20260425T220759
CREATED:20230720T140853Z
LAST-MODIFIED:20230802T140044Z
UID:4470-1691663400-1691667000@godfreymillercenter.org
SUMMARY:Workshop: Coasters
DESCRIPTION:Come decorate a set of coasters that would make a perfect gift or for your own home.  Step by step instructions will be provided and all are welcome! (Suggested Donation: $5) \n***RSVP required\, call The Godfrey Miller Center office at 540-667-5869 to reserve your spot.
URL:https://godfreymillercenter.org/event/workshop-coasters/
LOCATION:Pavilion
END:VEVENT
BEGIN:VEVENT
DTSTART;TZID=America/New_York:20230810T100000
DTEND;TZID=America/New_York:20230810T120000
DTSTAMP:20260425T220759
CREATED:20230720T140855Z
LAST-MODIFIED:20230720T140855Z
UID:4478-1691661600-1691668800@godfreymillercenter.org
SUMMARY:Mahjong
DESCRIPTION:
URL:https://godfreymillercenter.org/event/mahjong-70/
LOCATION:Parlor
END:VEVENT
BEGIN:VEVENT
DTSTART;TZID=America/New_York:20230809T140000
DTEND;TZID=America/New_York:20230809T150000
DTSTAMP:20260425T220759
CREATED:20230720T140855Z
LAST-MODIFIED:20230720T140855Z
UID:4477-1691589600-1691593200@godfreymillercenter.org
SUMMARY:Exercise for Balance and Strength
DESCRIPTION:A low-impact program that includes joint check/warm-up\, range of motion/stretching\, strengthening\, cardiovascular endurance\, and joint check/cool down. Led by Sonna Russell. Ms. Russell is a gifted coach and was trained through the Arthritis Foundation. (Suggested donation – $3.00)
URL:https://godfreymillercenter.org/event/exercise-for-balance-and-strength-150/
LOCATION:Pavilion
END:VEVENT
BEGIN:VEVENT
DTSTART;TZID=America/New_York:20230809T123000
DTEND;TZID=America/New_York:20230809T133000
DTSTAMP:20260425T220759
CREATED:20230720T140854Z
LAST-MODIFIED:20230720T141056Z
UID:4476-1691584200-1691587800@godfreymillercenter.org
SUMMARY:Lunch
DESCRIPTION:***RSVP Required by the preceding Monday.  Tickets are $8.50 and available in the Godfrey Miller Center office. \nMenu: Asian Chicken & Veggies\, Fried Rice\, and Dessert
URL:https://godfreymillercenter.org/event/4476/
LOCATION:Pavilion
END:VEVENT
BEGIN:VEVENT
DTSTART;TZID=America/New_York:20230809T100000
DTEND;TZID=America/New_York:20230809T120000
DTSTAMP:20260425T220759
CREATED:20230720T140854Z
LAST-MODIFIED:20230720T140854Z
UID:4475-1691575200-1691582400@godfreymillercenter.org
SUMMARY:Pinochle
DESCRIPTION:
URL:https://godfreymillercenter.org/event/pinochle-65/
LOCATION:Parlor or Dining Room
END:VEVENT
BEGIN:VEVENT
DTSTART;TZID=America/New_York:20230808T140000
DTEND;TZID=America/New_York:20230808T150000
DTSTAMP:20260425T220759
CREATED:20230720T140854Z
LAST-MODIFIED:20230720T140854Z
UID:4474-1691503200-1691506800@godfreymillercenter.org
SUMMARY:Strength and Conditioning Class
DESCRIPTION:This class is designed to increase physical strength through resistance exercise. All major muscle groups are worked from head to toe. We finish with core conditioning\, breathing\, and stretching for a complete workout. Dumbbells are used for each class\, you can bring your own or use ours! Led by Program Coordinator Anna.
URL:https://godfreymillercenter.org/event/strength-and-conditioning-class-82/
LOCATION:Pavilion
END:VEVENT
BEGIN:VEVENT
DTSTART;TZID=America/New_York:20230807T140000
DTEND;TZID=America/New_York:20230807T150000
DTSTAMP:20260425T220759
CREATED:20230720T140854Z
LAST-MODIFIED:20230720T140854Z
UID:4473-1691416800-1691420400@godfreymillercenter.org
SUMMARY:Exercise for Balance and Strength
DESCRIPTION:A low-impact program that includes joint check/warm-up\, range of motion/stretching\, strengthening\, cardiovascular endurance\, and joint check/cool down. Led by Sonna Russell. Ms. Russell is a gifted coach and was trained through the Arthritis Foundation. (Suggested donation – $3.00)
URL:https://godfreymillercenter.org/event/exercise-for-balance-and-strength-149/
LOCATION:Pavilion
END:VEVENT
BEGIN:VEVENT
DTSTART;TZID=America/New_York:20230807T103000
DTEND;TZID=America/New_York:20230807T113000
DTSTAMP:20260425T220759
CREATED:20230720T140853Z
LAST-MODIFIED:20230720T140853Z
UID:4472-1691404200-1691407800@godfreymillercenter.org
SUMMARY:Smart Phone Help Session
DESCRIPTION:Join Program Coordinator Anna for help with a tablet\, iPad\, smart phone\, or computer.  Bring your device\, account passwords\, and any questions!
URL:https://godfreymillercenter.org/event/smart-phone-help-session-5/
END:VEVENT
BEGIN:VEVENT
DTSTART;TZID=America/New_York:20230803T140000
DTEND;TZID=America/New_York:20230803T150000
DTSTAMP:20260425T220759
CREATED:20230720T140853Z
LAST-MODIFIED:20230720T140853Z
UID:4471-1691071200-1691074800@godfreymillercenter.org
SUMMARY:Strength and Conditioning Class
DESCRIPTION:This class is designed to increase physical strength through resistance exercise. All major muscle groups are worked from head to toe. We finish with core conditioning\, breathing\, and stretching for a complete workout. Dumbbells are used for each class\, you can bring your own or use ours! Led by Program Coordinator Anna.
URL:https://godfreymillercenter.org/event/strength-and-conditioning-class-81/
LOCATION:Pavilion
END:VEVENT
BEGIN:VEVENT
DTSTART;TZID=America/New_York:20230731T140000
DTEND;TZID=America/New_York:20230731T150000
DTSTAMP:20260425T220759
CREATED:20230628T183616Z
LAST-MODIFIED:20230628T183616Z
UID:4451-1690812000-1690815600@godfreymillercenter.org
SUMMARY:Exercise for Balance and Strength
DESCRIPTION:A low-impact program that includes joint check/warm-up\, range of motion/stretching\, strengthening\, cardiovascular endurance\, and joint check/cool down. Led by Sonna Russell. Ms. Russell is a gifted coach and was trained through the Arthritis Foundation. (Suggested donation – $3.00)
URL:https://godfreymillercenter.org/event/exercise-for-balance-and-strength-148/
LOCATION:Pavilion
END:VEVENT
BEGIN:VEVENT
DTSTART;TZID=America/New_York:20230731T123000
DTEND;TZID=America/New_York:20230731T133000
DTSTAMP:20260425T220759
CREATED:20230628T183616Z
LAST-MODIFIED:20230628T183644Z
UID:4450-1690806600-1690810200@godfreymillercenter.org
SUMMARY:Lunch
DESCRIPTION:***RSVP Required by the preceding Thursday. Tickets are $8.50 and available in the Godfrey Miller Center office. \nMenu: Italian Hoagies with Pickled Veggies\, Potato Salad\, and Dessert
URL:https://godfreymillercenter.org/event/4450/
LOCATION:Pavilion
END:VEVENT
BEGIN:VEVENT
DTSTART;TZID=America/New_York:20230731T100000
DTEND;TZID=America/New_York:20230731T120000
DTSTAMP:20260425T220759
CREATED:20230628T183616Z
LAST-MODIFIED:20230628T183616Z
UID:4447-1690797600-1690804800@godfreymillercenter.org
SUMMARY:Art Studio
DESCRIPTION:Art Studio is an open time for individuals to gather and work on their various art projects.  This is a social opportunity for artists of all levels to help each other and work independently. Recurs on every Monday of the month.
URL:https://godfreymillercenter.org/event/art-studio-71/
LOCATION:Pavilion
END:VEVENT
BEGIN:VEVENT
DTSTART;TZID=America/New_York:20230731T100000
DTEND;TZID=America/New_York:20230731T120000
DTSTAMP:20260425T220759
CREATED:20230628T183616Z
LAST-MODIFIED:20230628T183616Z
UID:4448-1690797600-1690804800@godfreymillercenter.org
SUMMARY:Samba
DESCRIPTION:Samba is a card game variation of Canasta.  All are invited to come\, learn and play!
URL:https://godfreymillercenter.org/event/samba-36/
LOCATION:Parlor
END:VEVENT
END:VCALENDAR